Back
From: metabase:user:322078bc-2aae-11df-837a-5e0a49663a4f
Subject: PASS Alien-Debian-Apt-PM-0.03 v5.12.2 Mac OS X
Date: 2011-10-03T16:50:44Z
This distribution has been tested as part of the CPAN Testers
project, supporting the Perl programming language. See
http://wiki.cpantesters.org/ for more information or email
questions to cpan-testers-discuss@perl.org
--
Dear JKUTEJ,
This is a computer-generated error report created automatically by
CPANPLUS, version 0.9111. Testers personal comments may appear
at the end of this report.
MAKE TEST passed:
t/distribution.t .. skipped: Test::Distribution not installed
t/pod-coverage.t .. skipped: Test::Pod::Coverage 1.08 required for testing POD coverage
t/pod-spell.t ..... skipped: Set the environment variable TEST_SPELLING to enable this test.
t/pod.t ........... skipped: Test::Pod 1.22 required for testing POD
Files=4, Tests=0, 2 wallclock secs ( 0.23 usr 0.12 sys + 0.66 cusr 0.19 csys = 1.20 CPU)
Result: NOTESTS
[MSG] [Mon Oct 3 17:57:02 2011] Sending test report for 'Alien-Debian-Apt-PM-0.03'
This report was machine-generated by CPANPLUS::Dist::YACSmoke 0.64.
Powered by minismokebox version 0.54
------------------------------
ENVIRONMENT AND OTHER CONTEXT
------------------------------
Environment variables:
AUTOMATED_TESTING = 1
PATH = /bin:/sbin:/usr/bin:/usr/sbin:/usr/local/bin:/usr/local/sbin
PERL5LIB = :/Volumes/Media/smoke/64bit/conf/perl-5.12.2/.cpanplus/5.12.2/build/Alien-Debian-Apt-PM-0.03/blib/lib:/Volumes/Media/smoke/64bit/conf/perl-5.12.2/.cpanplus/5.12.2/build/Alien-Debian-Apt-PM-0.03/blib/arch
PERL5_CPANPLUS_IS_RUNNING = 19773
PERL5_CPANPLUS_IS_VERSION = 0.9111
PERL5_MINISMOKEBOX = 0.54
PERL5_YACSMOKE_BASE = /Volumes/Media/smoke/64bit/conf/perl-5.12.2
PERL_EXTUTILS_AUTOINSTALL = --defaultdeps
PERL_MM_USE_DEFAULT = 1
SHELL = /bin/bash
TERM = screen
Perl special variables (and OS-specific diagnostics, for MSWin32):
Perl: $^X = /Volumes/Media/smoke/64bit/perl-5.12.2/bin/perl
UID: $< = 502
EUID: $> = 502
GID: $( = 502 502
EGID: $) = 502 502
-------------------------------
--
Summary of my perl5 (revision 5 version 12 subversion 2) configuration:
Platform:
osname=darwin, osvers=8.11.0, archname=darwin-64int-2level
uname='darwin afalglas.bingosnet.co.uk 8.11.0 darwin kernel version 8.11.0: wed oct 10 18:26:00 pdt 2007; root:xnu-792.24.17~1release_ppc power macintosh powerpc '
config_args='-des -Dprefix=/Volumes/Media/smoke/64bit/perl-5.12.2 -Duse64bitint'
hint=recommended, useposix=true, d_sigaction=define
useithreads=undef, usemultiplicity=undef
useperlio=define, d_sfio=undef, uselargefiles=define, usesocks=undef
use64bitint=define, use64bitall=undef, uselongdouble=undef
usemymalloc=n, bincompat5005=undef
Compiler:
cc='cc', ccflags ='-fno-common -DPERL_DARWIN -no-cpp-precomp -fno-strict-aliasing -pipe -I/usr/local/include',
optimize='-O3',
cppflags='-no-cpp-precomp -fno-common -DPERL_DARWIN -no-cpp-precomp -fno-strict-aliasing -pipe -I/usr/local/include'
ccversion='', gccversion='4.0.1 (Apple Computer, Inc. build 5367)', gccosandvers=''
intsize=4, longsize=4, ptrsize=4, doublesize=8, byteorder=87654321
d_longlong=define, longlongsize=8, d_longdbl=define, longdblsize=16
ivtype='long long', ivsize=8, nvtype='double', nvsize=8, Off_t='off_t', lseeksize=8
alignbytes=8, prototype=define
Linker and Libraries:
ld='env MACOSX_DEPLOYMENT_TARGET=10.3 cc', ldflags =' -L/usr/local/lib'
libpth=/usr/local/lib /usr/lib
libs=-ldbm -ldl -lm -lc
perllibs=-ldl -lm -lc
libc=/usr/lib/libc.dylib, so=dylib, useshrplib=false, libperl=libperl.a
gnulibc_version=''
Dynamic Linking:
dlsrc=dl_dlopen.xs, dlext=bundle, d_dlsymun=undef, ccdlflags=' '
cccdlflags=' ', lddlflags=' -bundle -undefined dynamic_lookup -L/usr/local/lib'
Characteristics of this binary (from libperl):
Compile-time options: PERL_DONT_CREATE_GVSV PERL_MALLOC_WRAP USE_64_BIT_INT
USE_LARGE_FILES USE_PERLIO USE_PERL_ATOF
Built under darwin
Compiled at Sep 8 2010 17:38:05
%ENV:
PERL5LIB=":/Volumes/Media/smoke/64bit/conf/perl-5.12.2/.cpanplus/5.12.2/build/Alien-Debian-Apt-PM-0.03/blib/lib:/Volumes/Media/smoke/64bit/conf/perl-5.12.2/.cpanplus/5.12.2/build/Alien-Debian-Apt-PM-0.03/blib/arch"
PERL5_CPANPLUS_IS_RUNNING="19773"
PERL5_CPANPLUS_IS_VERSION="0.9111"
PERL5_MINISMOKEBOX="0.54"
PERL5_YACSMOKE_BASE="/Volumes/Media/smoke/64bit/conf/perl-5.12.2"
PERL_EXTUTILS_AUTOINSTALL="--defaultdeps"
PERL_MM_USE_DEFAULT="1"
@INC:
/Volumes/Media/smoke/64bit/conf/perl-5.12.2/.cpanplus/5.12.2/build/Alien-Debian-Apt-PM-0.03/blib/lib
/Volumes/Media/smoke/64bit/conf/perl-5.12.2/.cpanplus/5.12.2/build/Alien-Debian-Apt-PM-0.03/blib/arch
/Volumes/Media/smoke/64bit/perl-5.12.2/lib/site_perl/5.12.2/darwin-64int-2level
/Volumes/Media/smoke/64bit/perl-5.12.2/lib/site_perl/5.12.2
/Volumes/Media/smoke/64bit/perl-5.12.2/lib/5.12.2/darwin-64int-2level
/Volumes/Media/smoke/64bit/perl-5.12.2/lib/5.12.2
.