B-Generate v1.56 Perl 5 v5.8.9 x86_64-dragonfly

Status
Pass
From
Chris Williams (BINGOS)
Dist
B-Generate v1.56
Platform
Perl 5 v5.8.9 x86_64-dragonfly
Date
2020-02-25 23:44:59
ID
d5ea4f42-5828-11ea-9066-e374b0ba08e8
This distribution has been tested as part of the CPAN Testers
project, supporting the Perl programming language.  See
http://wiki.cpantesters.org/ for more information or email
questions to cpan-testers-discuss@perl.org


--

Dear Reini Urban,

This is a computer-generated error report created automatically by
CPANPLUS, version 0.9906. Testers personal comments may appear
at the end of this report.


Thank you for uploading your work to CPAN.  Congratulations!
All tests were successful.

TEST RESULTS:

Below is the error stack from stage 'make test':

"/home/cpan/pit/bare/perl-5.8.9/bin/perl" -MExtUtils::Command::MM -e 'cp_nonempty' -- Generate.bs blib/arch/auto/B/Generate/Generate.bs 644
"/home/cpan/pit/bare/perl-5.8.9/bin/perl" "-MExtUtils::Command::MM" "-MTest::Harness" "-e" "undef *Test::Harness::Switches; test_harness(0, 'blib/lib', 'blib/arch')" t/*.t
Name "DB::single" used only once: possible typo at t/basic.t line 32.
# search for const(PV 'lead') in &foo::baz
# changed 'lead' into 'gold'
# search for const(PV 'bad') in ANON &CODE(0x80102dea0)
# changed 'bad' into 'good'
# found first add
# search for const(IV 30) after the add
# found const(IV 30)
# changed add - const(IV 30) into 13
# find_cv &foo::baz->START
t/basic.t ......... ok
t/const.t ......... ok
t/cpan70396.t ..... ok
t/cpan70398.t ..... ok
t/find_cv.t ....... ok
t/new_cv.t ........ ok
t/op_list.t ....... ok
t/op_list_bgen.t .. ok
t/scope.t ......... ok
t/svclasses.t ..... ok
All tests successful.
Files=10, Tests=54,  2 wallclock secs ( 0.05 usr  0.12 sys +  0.93 cusr  0.59 csys =  1.69 CPU)
Result: PASS


PREREQUISITES:

Here is a list of prerequisites you specified and versions we
managed to load:

	  Module Name                        Have     Want
	  B                                  1.19        0
	  ExtUtils::CBuilder             0.280234        0
	  ExtUtils::Embed                    1.28        0
	  ExtUtils::MakeMaker                7.44        0

Perl module toolchain versions installed:
	Module Name                        Have
	CPANPLUS                         0.9906
	CPANPLUS::Dist::Build              0.90
	Cwd                                3.75
	ExtUtils::CBuilder             0.280234
	ExtUtils::Command                  7.44
	ExtUtils::Install                  2.14
	ExtUtils::MakeMaker                7.44
	ExtUtils::Manifest                 1.72
	ExtUtils::ParseXS                  3.35
	File::Spec                         3.75
	Module::Build                    0.4229
	Pod::Parser                        1.35
	Pod::Simple                        3.40
	Test2                          1.302171
	Test::Harness                      3.42
	Test::More                     1.302171
	version                          0.9924

******************************** NOTE ********************************
The comments above are created mechanically, possibly without manual
checking by the sender.  As there are many people performing automatic
tests on each upload to CPAN, it is likely that you will receive
identical messages about the same problem.

If you believe that the message is mistaken, please reply to the first
one with correction and/or additional informations, and do not take
it personally.  We appreciate your patience. :)
**********************************************************************

Additional comments:


This report was machine-generated by CPANPLUS::Dist::YACSmoke 1.08.
Powered by minismokebox version 0.68

CPANPLUS is prefering Build.PL

------------------------------
ENVIRONMENT AND OTHER CONTEXT
------------------------------

Environment variables:

    AUTOMATED_TESTING = 1
    NONINTERACTIVE_TESTING = 1
    PATH = /sbin:/bin:/usr/sbin:/usr/bin:/usr/games:/usr/local/sbin:/usr/local/bin:/usr/pkg/sbin:/usr/pkg/bin:/home/cpan/bin
    PERL5LIB = :/home/cpan/pit/bare/conf/perl-5.8.9/.cpanplus/5.8.9/build/uO094ag6Ud/DynaLoader-Functions-0.003/blib/lib:/home/cpan/pit/bare/conf/perl-5.8.9/.cpanplus/5.8.9/build/uO094ag6Ud/DynaLoader-Functions-0.003/blib/arch:/home/cpan/pit/bare/conf/perl-5.8.9/.cpanplus/5.8.9/build/zwf7iUpRfe/Devel-CallChecker-0.008/blib/lib:/home/cpan/pit/bare/conf/perl-5.8.9/.cpanplus/5.8.9/build/zwf7iUpRfe/Devel-CallChecker-0.008/blib/arch:/home/cpan/pit/bare/conf/perl-5.8.9/.cpanplus/5.8.9/build/52uqYuI1OH/B-CallChecker-0.001/blib/lib:/home/cpan/pit/bare/conf/perl-5.8.9/.cpanplus/5.8.9/build/52uqYuI1OH/B-CallChecker-0.001/blib/arch:/home/cpan/pit/bare/conf/perl-5.8.9/.cpanplus/5.8.9/build/8l32konaCa/B-Generate-1.56/blib/lib:/home/cpan/pit/bare/conf/perl-5.8.9/.cpanplus/5.8.9/build/8l32konaCa/B-Generate-1.56/blib/arch
    PERL5_CPANPLUS_IS_RUNNING = 9931
    PERL5_CPANPLUS_IS_VERSION = 0.9906
    PERL5_MINISMOKEBOX = 0.68
    PERL5_YACSMOKE_BASE = /home/cpan/pit/bare/conf/perl-5.8.9
    PERL_EXTUTILS_AUTOINSTALL = --defaultdeps
    PERL_MM_USE_DEFAULT = 1
    PERL_USE_UNSAFE_INC = 1
    SHELL = /usr/local/bin/bash
    TERM = screen

Perl special variables (and OS-specific diagnostics, for MSWin32):

    Perl: $^X = /home/cpan/pit/bare/perl-5.8.9/bin/perl
    UID:  $<  = 1002
    EUID: $>  = 1002
    GID:  $(  = 1002 1002
    EGID: $)  = 1002 1002


-------------------------------


--

Summary of my perl5 (revision 5 version 8 subversion 9) configuration:
  Platform:
    osname=dragonfly, osvers=5.6-release, archname=x86_64-dragonfly
    uname='dragonfly dingo.bingosnet.co.uk 5.6-release dragonfly v5.6.2-release #3: sat aug 10 10:28:36 edt 2019 root@www.shiningsilence.com:usrobjhomejustinrelease5_6sysx86_64_generic x86_64 '
    config_args='-des -Dprefix=/home/cpan/pit/bare/perl-5.8.9'
    hint=recommended, useposix=true, d_sigaction=define
    usethreads=undef use5005threads=undef useithreads=undef usemultiplicity=undef
    useperlio=define d_sfio=undef uselargefiles=define usesocks=undef
    use64bitint=define use64bitall=define uselongdouble=undef
    usemymalloc=n, bincompat5005=undef
  Compiler:
    cc='cc', ccflags ='-DHAS_FPSETMASK -DHAS_FLOATINGPOINT_H -fwrapv -fno-strict-aliasing -pipe -I/usr/local/include',
    optimize='-O2',
    cppflags='-DHAS_FPSETMASK -DHAS_FLOATINGPOINT_H -fwrapv -fno-strict-aliasing -pipe -I/usr/local/include'
    ccversion='', gccversion='8.3 [DragonFly] Release/2019-02-22', gccosandvers=''
    intsize=4, longsize=8, ptrsize=8, doublesize=8, byteorder=12345678
    d_longlong=define, longlongsize=8, d_longdbl=define, longdblsize=16
    ivtype='long', ivsize=8, nvtype='double', nvsize=8, Off_t='off_t', lseeksize=8
    alignbytes=8, prototype=define
  Linker and Libraries:
    ld='cc', ldflags ='-Wl,-E  -L/usr/local/lib'
    libpth=/usr/lib /usr/local/lib
    libs=-lgdbm -ldl -lm -lcrypt -lutil -lc
    perllibs=-ldl -lm -lcrypt -lutil -lc
    libc=, so=so, useshrplib=false, libperl=libperl.a
    gnulibc_version=''
  Dynamic Linking:
    dlsrc=dl_dlopen.xs, dlext=so, d_dlsymun=undef, ccdlflags=' '
    cccdlflags='-DPIC -fPIC', lddlflags='-shared  -L/usr/local/lib'


Characteristics of this binary (from libperl): 
  Compile-time options: PERL_MALLOC_WRAP USE_64_BIT_ALL USE_64_BIT_INT
                        USE_FAST_STDIO USE_LARGE_FILES USE_PERLIO
  Locally applied patches:
	Devel::PatchPerl 1.80
  Built under dragonfly
  Compiled at Jan 25 2020 00:03:49
  %ENV:
    PERL5LIB=":/home/cpan/pit/bare/conf/perl-5.8.9/.cpanplus/5.8.9/build/uO094ag6Ud/DynaLoader-Functions-0.003/blib/lib:/home/cpan/pit/bare/conf/perl-5.8.9/.cpanplus/5.8.9/build/uO094ag6Ud/DynaLoader-Functions-0.003/blib/arch:/home/cpan/pit/bare/conf/perl-5.8.9/.cpanplus/5.8.9/build/zwf7iUpRfe/Devel-CallChecker-0.008/blib/lib:/home/cpan/pit/bare/conf/perl-5.8.9/.cpanplus/5.8.9/build/zwf7iUpRfe/Devel-CallChecker-0.008/blib/arch:/home/cpan/pit/bare/conf/perl-5.8.9/.cpanplus/5.8.9/build/52uqYuI1OH/B-CallChecker-0.001/blib/lib:/home/cpan/pit/bare/conf/perl-5.8.9/.cpanplus/5.8.9/build/52uqYuI1OH/B-CallChecker-0.001/blib/arch:/home/cpan/pit/bare/conf/perl-5.8.9/.cpanplus/5.8.9/build/8l32konaCa/B-Generate-1.56/blib/lib:/home/cpan/pit/bare/conf/perl-5.8.9/.cpanplus/5.8.9/build/8l32konaCa/B-Generate-1.56/blib/arch"
    PERL5_CPANPLUS_IS_RUNNING="9931"
    PERL5_CPANPLUS_IS_VERSION="0.9906"
    PERL5_MINISMOKEBOX="0.68"
    PERL5_YACSMOKE_BASE="/home/cpan/pit/bare/conf/perl-5.8.9"
    PERL_EXTUTILS_AUTOINSTALL="--defaultdeps"
    PERL_MM_USE_DEFAULT="1"
    PERL_USE_UNSAFE_INC="1"
  @INC:
    /home/cpan/pit/bare/conf/perl-5.8.9/.cpanplus/5.8.9/build/uO094ag6Ud/DynaLoader-Functions-0.003/blib/lib
    /home/cpan/pit/bare/conf/perl-5.8.9/.cpanplus/5.8.9/build/uO094ag6Ud/DynaLoader-Functions-0.003/blib/arch
    /home/cpan/pit/bare/conf/perl-5.8.9/.cpanplus/5.8.9/build/zwf7iUpRfe/Devel-CallChecker-0.008/blib/lib
    /home/cpan/pit/bare/conf/perl-5.8.9/.cpanplus/5.8.9/build/zwf7iUpRfe/Devel-CallChecker-0.008/blib/arch
    /home/cpan/pit/bare/conf/perl-5.8.9/.cpanplus/5.8.9/build/52uqYuI1OH/B-CallChecker-0.001/blib/lib
    /home/cpan/pit/bare/conf/perl-5.8.9/.cpanplus/5.8.9/build/52uqYuI1OH/B-CallChecker-0.001/blib/arch
    /home/cpan/pit/bare/conf/perl-5.8.9/.cpanplus/5.8.9/build/8l32konaCa/B-Generate-1.56/blib/lib
    /home/cpan/pit/bare/conf/perl-5.8.9/.cpanplus/5.8.9/build/8l32konaCa/B-Generate-1.56/blib/arch
    /home/cpan/pit/bare/perl-5.8.9/lib/5.8.9/x86_64-dragonfly
    /home/cpan/pit/bare/perl-5.8.9/lib/5.8.9
    /home/cpan/pit/bare/perl-5.8.9/lib/site_perl/5.8.9/x86_64-dragonfly
    /home/cpan/pit/bare/perl-5.8.9/lib/site_perl/5.8.9
    .