Test-Without-Module v0.23 Perl 5 v5.40.0 darwin-thread-multi-2level
- Status
- Pass
- From
- Stanislaw Pusep
- Dist
-
Test-Without-Module v0.23
- Platform
- Perl 5 v5.40.0 darwin-thread-multi-2level
- Date
- 2024-10-23 10:44:53
- ID
- d5ef521c-912b-11ef-a35d-da7a5e52f10d
This distribution has been tested as part of the CPAN Testers
project, supporting the Perl programming language. See
http://wiki.cpantesters.org/ for more information or email
questions to cpan-testers-discuss@perl.org
--
Dear CORION,
This is a computer-generated report for Test-Without-Module-0.23
on perl 5.40.0, created by App::cpanminus::reporter 0.22 (1.7047).
Thank you for uploading your work to CPAN. Congratulations!
All tests were successful.
Sections of this report:
* Tester comments
* Program output
* Prerequisites
* Environment and other context
------------------------------
TESTER COMMENTS
------------------------------
Additional comments from tester:
none provided
------------------------------
PROGRAM OUTPUT
------------------------------
Output from '':
Building and testing Test-Without-Module-0.23
cp lib/Test/Without/Module.pm blib/lib/Test/Without/Module.pm
Manifying 1 pod document
PERL_DL_NONLAZY=1 "/opt/homebrew/Cellar/perl/5.40.0/bin/perl" "-MExtUtils::Command::MM" "-MTest::Harness" "-e" "undef *Test::Harness::Switches; test_harness(0, 'blib/lib', 'blib/arch')" t/00-load.t t/01-api.t t/02-block-use-module.t t/03-block-require-module.t t/04-import-export.t t/05-redefine.t t/06-missing-hidden-modules.t t/embedded-Test-Without-Module.t t/rt122551.t
# Testing Test::Without::Module 0.23, Perl 5.040000
# Carp 1.54
# Config 5.040000
# Cwd 3.90
# Encode 3.21
# Encode::Alias 2.25
# Encode::Config 2.05
# Encode::Encoding 2.08
# Encode::MIME::Name 1.03
# Exporter 5.78
# Exporter::Heavy 5.78
# ExtUtils::Liblist 7.70
# ExtUtils::Liblist::Kid 7.70
# ExtUtils::MM 7.70
# ExtUtils::MM_Any 7.70
# ExtUtils::MM_Darwin 7.70
# ExtUtils::MM_Unix 7.70
# ExtUtils::MY 7.70
# ExtUtils::MakeMaker 7.70
# ExtUtils::MakeMaker::Config 7.70
# ExtUtils::MakeMaker::Locale 7.70
# ExtUtils::MakeMaker::version 7.70
# Fcntl 1.18
# File::Basename 2.86
# File::Glob 1.42
# File::Path 2.18
# File::Spec 3.90
# File::Spec::Unix 3.91
# I18N::Langinfo 0.24
# List::Util 1.63
# POSIX 2.20
# PerlIO 1.12
# Scalar::Util 1.63
# Storable 3.32
# Test::Builder 1.302199
# Test::Builder::Formatter 1.302199
# Test::Builder::Module 1.302199
# Test::Builder::TodoDiag 1.302199
# Test::More 1.302199
# Test::Without::Module 0.23
# Test2::API 1.302199
# Test2::API::Context 1.302199
# Test2::API::Instance 1.302199
# Test2::API::Stack 1.302199
# Test2::Event 1.302199
# Test2::Event::Bail 1.302199
# Test2::Event::Diag 1.302199
# Test2::Event::Exception 1.302199
# Test2::Event::Fail 1.302199
# Test2::Event::Note 1.302199
# Test2::Event::Ok 1.302199
# Test2::Event::Pass 1.302199
# Test2::Event::Plan 1.302199
# Test2::Event::Skip 1.302199
# Test2::Event::Subtest 1.302199
# Test2::Event::V2 1.302199
# Test2::Event::Waiting 1.302199
# Test2::EventFacet 1.302199
# Test2::EventFacet::About 1.302199
# Test2::EventFacet::Amnesty 1.302199
# Test2::EventFacet::Assert 1.302199
# Test2::EventFacet::Control 1.302199
# Test2::EventFacet::Error 1.302199
# Test2::EventFacet::Hub 1.302199
# Test2::EventFacet::Info 1.302199
# Test2::EventFacet::Meta 1.302199
# Test2::EventFacet::Parent 1.302199
# Test2::EventFacet::Plan 1.302199
# Test2::EventFacet::Trace 1.302199
# Test2::Formatter 1.302199
# Test2::Formatter::TAP 1.302199
# Test2::Hub 1.302199
# Test2::Hub::Interceptor 1.302199
# Test2::Hub::Interceptor::Terminator 1.302199
# Test2::Hub::Subtest 1.302199
# Test2::Util 1.302199
# Test2::Util::ExternalMeta 1.302199
# Test2::Util::Facets2Legacy 1.302199
# Test2::Util::HashBase 1.302199
# Test2::Util::Trace 1.302199
# Tie::Hash 1.06
# Time::HiRes 1.9777
# XSLoader 0.32
# base 2.27
# bytes 1.09
# constant 1.33
# mro 1.29
# overloading 0.02
# parent 0.241
# strict 1.13
# vars 1.05
# version 0.9930
# version::regex 0.9930
# warnings 1.70
# warnings::register 1.06
t/00-load.t ....................... ok
t/01-api.t ........................ ok
t/02-block-use-module.t ........... ok
t/03-block-require-module.t ....... ok
t/04-import-export.t .............. ok
t/05-redefine.t ................... ok
t/06-missing-hidden-modules.t ..... ok
t/embedded-Test-Without-Module.t .. ok
t/rt122551.t ...................... ok
All tests successful.
Test Summary Report
-------------------
t/rt122551.t (Wstat: 0 Tests: 2 Failed: 0)
TODO passed: 2
Files=9, Tests=24, 0 wallclock secs ( 0.01 usr 0.01 sys + 0.25 cusr 0.05 csys = 0.32 CPU)
Result: PASS
------------------------------
PREREQUISITES
------------------------------
Prerequisite modules loaded:
runtime:
Module Need Have
------------------- ----- --------
Carp 0 1.54
perl 5.006 5.040000
build:
Module Need Have
------------------- ----- --------
ExtUtils::MakeMaker 0 7.70
File::Find 0 1.44
File::Spec 0 3.90
configure:
Module Need Have
------------------- ----- --------
ExtUtils::MakeMaker 0 7.70
------------------------------
ENVIRONMENT AND OTHER CONTEXT
------------------------------
Environment variables:
LANG = en_US.UTF-8
LC_ALL = en_US.UTF-8
LDFLAGS = -L/opt/homebrew/opt/curl/lib
PATH = /opt/homebrew/opt/node@18/bin:/opt/homebrew/Cellar/perl/5.36.1/bin:/opt/homebrew/opt/curl/bin:/opt/homebrew/bin:/opt/homebrew/sbin:/usr/local/bin:/System/Cryptexes/App/usr/bin:/usr/bin:/bin:/usr/sbin:/sbin:/var/run/com.apple.security.cryptexd/codex.system/bootstrap/usr/local/bin:/var/run/com.apple.security.cryptexd/codex.system/bootstrap/usr/bin:/var/run/com.apple.security.cryptexd/codex.system/bootstrap/usr/appleinternal/bin:/Applications/Little Snitch.app/Contents/Components:/Users/stanislawpusep/.vim/bin:/Users/stanislawpusep/bin:/Users/stanislawpusep/node_modules/.bin:/usr/local/sbin:/opt/homebrew/opt/node@18/bin:/opt/homebrew/Cellar/perl/5.36.1/bin:/Users/stanislawpusep/perl5/bin:/opt/homebrew/opt/curl/bin:/Applications/kitty.app/Contents/MacOS:/Users/stanislawpusep/.local/bin:/Users/stanislawpusep/.local/bin:/Users/stanislawpusep/.local/bin
PERL5LIB = /Users/stanislawpusep/perl5/lib/perl5
PERL_LOCAL_LIB_ROOT = /Users/stanislawpusep/perl5
PERL_MB_OPT = --install_base "/Users/stanislawpusep/perl5"
PERL_MM_OPT = INSTALL_BASE=/Users/stanislawpusep/perl5
PERL_MM_USE_DEFAULT = 1
SHELL = /bin/zsh
TERM = tmux-256color
TMPDIR = /var/folders/w1/125w8syj3fx4505hrl72wjjm0000gp/T/
Perl special variables (and OS-specific diagnostics, for MSWin32):
EGID = 20 20 12 61 79 80 81 98 701 33 100 204 250 395 398 399 400
EUID = 502
EXECUTABLE_NAME = /opt/homebrew/Cellar/perl/5.40.0/bin/perl
GID = 20 20 12 61 79 80 81 98 701 33 100 204 250 395 398 399 400
UID = 502
Perl module toolchain versions installed:
Module Have
------------------- --------
CPAN 2.37
CPAN::Meta 2.150010
Cwd 3.90
ExtUtils::CBuilder 0.280240
ExtUtils::Command 7.70
ExtUtils::Install 2.22
ExtUtils::MakeMaker 7.70
ExtUtils::Manifest 1.75
ExtUtils::ParseXS 3.51
File::Spec 3.90
JSON 4.10
JSON::PP 4.16
Module::Build 0.4234
Module::Signature n/a
Parse::CPAN::Meta 2.150010
Test::Harness 3.50
Test::More 1.302204
YAML 1.31
YAML::Syck n/a
version 0.9933
--
Summary of my perl5 (revision 5 version 40 subversion 0) configuration:
Platform:
osname=darwin
osvers=24.0.0
archname=darwin-thread-multi-2level
uname='darwin sequoia-arm64.local 24.0.0 darwin kernel version 24.0.0: mon aug 12 20:54:20 pdt 2024; root:xnu-11215.1.10~2release_arm64_vmapple arm64 '
config_args='-des -Dinstallstyle=lib/perl5 -Dinstallprefix=/opt/homebrew/Cellar/perl/5.40.0 -Dprefix=/opt/homebrew/opt/perl -Dprivlib=/opt/homebrew/opt/perl/lib/perl5/5.40 -Dsitelib=/opt/homebrew/opt/perl/lib/perl5/site_perl/5.40 -Dotherlibdirs=/opt/homebrew/lib/perl5/site_perl/5.40 -Dperlpath=/opt/homebrew/opt/perl/bin/perl -Dstartperl=#!/opt/homebrew/opt/perl/bin/perl -Dman1dir=/opt/homebrew/opt/perl/share/man/man1 -Dman3dir=/opt/homebrew/opt/perl/share/man/man3 -Duseshrplib -Duselargefiles -Dusethreads'
hint=recommended
useposix=true
d_sigaction=define
useithreads=define
usemultiplicity=define
use64bitint=define
use64bitall=define
uselongdouble=undef
usemymalloc=n
default_inc_excludes_dot=define
Compiler:
cc='cc'
ccflags ='-fno-common -DPERL_DARWIN -mmacosx-version-min=15.0 -DNO_THREAD_SAFE_QUERYLOCALE -DNO_POSIX_2008_LOCALE -fno-strict-aliasing -pipe -fstack-protector-strong'
optimize='-O3'
cppflags='-fno-common -DPERL_DARWIN -mmacosx-version-min=15.0 -DNO_THREAD_SAFE_QUERYLOCALE -DNO_POSIX_2008_LOCALE -fno-strict-aliasing -pipe -fstack-protector-strong'
ccversion=''
gccversion='Apple LLVM 16.0.0 (clang-1600.0.26.3)'
gccosandvers=''
intsize=4
longsize=8
ptrsize=8
doublesize=8
byteorder=12345678
doublekind=3
d_longlong=define
longlongsize=8
d_longdbl=define
longdblsize=8
longdblkind=0
ivtype='long'
ivsize=8
nvtype='double'
nvsize=8
Off_t='off_t'
lseeksize=8
alignbytes=8
prototype=define
Linker and Libraries:
ld='cc'
ldflags =' -mmacosx-version-min=15.0 -fstack-protector-strong'
libpth=/opt/homebrew/Cellar/berkeley-db@5/5.3.28_1/lib /opt/homebrew/lib /Applications/Xcode.app/Contents/Developer/Toolchains/XcodeDefault.xctoolchain/usr/lib/clang/16/lib /Library/Developer/CommandLineTools/SDKs/MacOSX15.0.sdk/usr/lib /Applications/Xcode.app/Contents/Developer/Toolchains/XcodeDefault.xctoolchain/usr/lib /usr/lib
libs=-lgdbm -ldb
perllibs=
libc=
so=dylib
useshrplib=true
libperl=libperl.dylib
gnulibc_version=''
Dynamic Linking:
dlsrc=dl_dlopen.xs
dlext=bundle
d_dlsymun=undef
ccdlflags=' '
cccdlflags=' '
lddlflags=' -mmacosx-version-min=15.0 -bundle -undefined dynamic_lookup -fstack-protector-strong'
Characteristics of this binary (from libperl):
Compile-time options:
HAS_LONG_DOUBLE
HAS_STRTOLD
HAS_TIMES
MULTIPLICITY
PERLIO_LAYERS
PERL_COPY_ON_WRITE
PERL_DONT_CREATE_GVSV
PERL_HASH_FUNC_SIPHASH13
PERL_HASH_USE_SBOX32
PERL_MALLOC_WRAP
PERL_OP_PARENT
PERL_PRESERVE_IVUV
PERL_USE_SAFE_PUTENV
USE_64_BIT_ALL
USE_64_BIT_INT
USE_ITHREADS
USE_LARGE_FILES
USE_LOCALE
USE_LOCALE_COLLATE
USE_LOCALE_CTYPE
USE_LOCALE_NUMERIC
USE_LOCALE_TIME
USE_PERLIO
USE_PERL_ATOF
USE_REENTRANT_API
Built under darwin
Compiled at Jun 9 2024 15:01:57
%ENV:
PERL5LIB="/Users/stanislawpusep/perl5/lib/perl5"
PERL_LOCAL_LIB_ROOT="/Users/stanislawpusep/perl5"
PERL_MB_OPT="--install_base "/Users/stanislawpusep/perl5""
PERL_MM_OPT="INSTALL_BASE=/Users/stanislawpusep/perl5"
PERL_MM_USE_DEFAULT="1"
@INC:
/Users/stanislawpusep/perl5/lib/perl5/darwin-thread-multi-2level
/Users/stanislawpusep/perl5/lib/perl5
/opt/homebrew/opt/perl/lib/perl5/site_perl/5.40/darwin-thread-multi-2level
/opt/homebrew/opt/perl/lib/perl5/site_perl/5.40
/opt/homebrew/opt/perl/lib/perl5/5.40/darwin-thread-multi-2level
/opt/homebrew/opt/perl/lib/perl5/5.40
/opt/homebrew/lib/perl5/site_perl/5.40