Dist-Zilla-Plugin-CheckChangesHasContent v0.011 Perl 5 v5.30.3 sparc64-openbsd
- Status
- Pass
- From
- Dist
-
Dist-Zilla-Plugin-CheckChangesHasContent v0.011
- Platform
- Perl 5 v5.30.3 sparc64-openbsd
- Date
- 2021-01-02 11:44:13
- ID
- d5fc4672-4cef-11eb-a578-c0e39b0ee05f
This distribution has been tested as part of the CPAN Testers
project, supporting the Perl programming language. See
http://wiki.cpantesters.org/ for more information or email
questions to cpan-testers-discuss@perl.org
--
Dear David Golden,
This is a computer-generated report for Dist-Zilla-Plugin-CheckChangesHasContent-0.011
on perl 5.30.3, created by CPAN-Reporter-1.2018.
Thank you for uploading your work to CPAN. Congratulations!
All tests were successful.
Sections of this report:
* Tester comments
* Program output
* Prerequisites
* Environment and other context
------------------------------
TESTER COMMENTS
------------------------------
Additional comments from tester:
this report is from an automated smoke testing program
and was not reviewed by a human for accuracy
------------------------------
PROGRAM OUTPUT
------------------------------
Output from '/usr/bin/make test':
PERL_DL_NONLAZY=1 "/usr/bin/perl" "-MExtUtils::Command::MM" "-MTest::Harness" "-e" "undef *Test::Harness::Switches; test_harness(0, 'blib/lib', 'blib/arch')" t/*.t
#
# Versions for all modules listed in MYMETA.json (including optional ones):
#
# === Configure Requires ===
#
# Module Want Have
# ------------------- ---- ----
# ExtUtils::MakeMaker 6.17 7.58
#
# === Build Requires ===
#
# Module Want Have
# ------------------- ---- ----
# ExtUtils::MakeMaker any 7.58
#
# === Test Requires ===
#
# Module Want Have
# ------------------- ---- --------
# Capture::Tiny any 0.48
# Cwd any 3.78
# Dist::Zilla::Tester any 6.017
# ExtUtils::MakeMaker any 7.58
# File::Spec any 3.78
# Path::Tiny any 0.114
# Test::Fatal any 0.016
# Test::Harness any 3.42
# Test::More 0.88 1.302183
#
# === Test Recommends ===
#
# Module Want Have
# ---------- -------- --------
# CPAN::Meta 2.120900 2.150010
#
# === Runtime Requires ===
#
# Module Want Have
# -------------------------------- -------- --------
# Data::Section 0.200002 0.200007
# Dist::Zilla 6 6.017
# Dist::Zilla::File::InMemory any 6.017
# Dist::Zilla::Role::BeforeRelease any 6.017
# Dist::Zilla::Role::FileGatherer any 6.017
# Dist::Zilla::Role::FileMunger any 6.017
# Dist::Zilla::Role::TextTemplate any 6.017
# List::Util any 1.55
# Moose 2 2.2013
# Moose::Util::TypeConstraints any 2.2013
# Sub::Exporter::ForMethods any 0.100052
# autodie 2.00 2.29
# namespace::autoclean 0.28 0.29
# strict any 1.11
# warnings any 1.44
#
t/00-report-prereqs.t ....... ok
t/checkhascontent.t ......... ok
t/test_changeshascontent.t .. ok
All tests successful.
Files=3, Tests=40, 18 wallclock secs ( 0.11 usr 0.11 sys + 12.40 cusr 3.80 csys = 16.42 CPU)
Result: PASS
------------------------------
PREREQUISITES
------------------------------
Prerequisite modules loaded:
requires:
Module Need Have
-------------------------------- -------- --------
autodie 2.00 2.29
Data::Section 0.200002 0.200007
Dist::Zilla 6 6.017
Dist::Zilla::File::InMemory 0 6.017
Dist::Zilla::Role::BeforeRelease 0 6.017
Dist::Zilla::Role::FileGatherer 0 6.017
Dist::Zilla::Role::FileMunger 0 6.017
Dist::Zilla::Role::TextTemplate 0 6.017
List::Util 0 1.55
Moose 2 2.2013
Moose::Util::TypeConstraints 0 2.2013
namespace::autoclean 0.28 0.29
perl 5.006 5.030003
strict 0 1.11
Sub::Exporter::ForMethods 0 0.100052
warnings 0 1.44
build_requires:
Module Need Have
-------------------------------- -------- --------
Capture::Tiny 0 0.48
Cwd 0 3.78
Dist::Zilla::Tester 0 6.017
ExtUtils::MakeMaker 0 7.58
File::Spec 0 3.78
Path::Tiny 0 0.114
Test::Fatal 0 0.016
Test::Harness 0 3.42
Test::More 0.88 1.302183
configure_requires:
Module Need Have
-------------------------------- -------- --------
ExtUtils::MakeMaker 6.17 7.58
perl 5.006 5.030003
opt_build_requires:
Module Need Have
-------------------------------- -------- --------
CPAN::Meta 2.120900 2.150010
------------------------------
ENVIRONMENT AND OTHER CONTEXT
------------------------------
Environment variables:
AUTOMATED_TESTING = 1
NONINTERACTIVE_TESTING = 1
PATH = /home/smoker/perl/system/bin:/home/smoker/.plenv/libexec:/home/smoker/.plenv/plugins/perl-build/bin:/home/smoker/.plenv/plugins/plenv-contrib/bin:/home/smoker/.plenv/shims:/home/smoker/.plenv/bin:/home/smoker/bin:/bin:/sbin:/usr/bin:/usr/sbin:/usr/X11R6/bin:/usr/local/bin:/usr/local/sbin:/usr/games
PERL5LIB = /home/smoker/perl/system/lib/perl5
PERL5OPT =
PERL5_CPANPLUS_IS_RUNNING = 57113
PERL5_CPAN_IS_RUNNING = 57113
PERL5_CPAN_IS_RUNNING_IN_RECURSION = 379,57113
PERL_CARTON_PATH = /home/afresh1/cpan-smoker-setup/local/system
PERL_CR_SMOKER_CURRENT = Dist-Zilla-PluginBundle-Author-ETHER-0.159
PERL_EXTUTILS_AUTOINSTALL = --defaultdeps
PERL_LOCAL_LIB_ROOT = /home/smoker/perl/system
PERL_MB_OPT = --install_base '/home/smoker/perl/system'
PERL_MM_OPT = INSTALL_BASE=/home/smoker/perl/system
PERL_MM_USE_DEFAULT = 1
PERL_USE_UNSAFE_INC = 1
SHELL = /bin/ksh
TERM = screen
Perl special variables (and OS-specific diagnostics, for MSWin32):
$^X = /usr/bin/perl
$UID/$EUID = 900 / 900
$GID = 900 900
$EGID = 900 900
Perl module toolchain versions installed:
Module Have
------------------- --------
CPAN 2.22
CPAN::Meta 2.150010
Cwd 3.78
ExtUtils::CBuilder 0.280231
ExtUtils::Command 7.58
ExtUtils::Install 2.20
ExtUtils::MakeMaker 7.58
ExtUtils::Manifest 1.72
ExtUtils::ParseXS 3.40
File::Spec 3.78
JSON 4.02
JSON::PP 4.05
Module::Build 0.4231
Module::Signature 0.87
Parse::CPAN::Meta 2.150010
Test::Harness 3.42
Test::More 1.302183
YAML 1.26
YAML::Syck 1.34
version 0.9924
--
Summary of my perl5 (revision 5 version 30 subversion 3) configuration:
Platform:
osname=openbsd
osvers=6.8
archname=sparc64-openbsd
uname='openbsd'
config_args='-dse -Dopenbsd_distribution=defined -Dmksymlinks'
hint=recommended
useposix=true
d_sigaction=define
useithreads=undef
usemultiplicity=undef
use64bitint=define
use64bitall=define
uselongdouble=undef
usemymalloc=n
default_inc_excludes_dot=define
bincompat5005=undef
Compiler:
cc='cc'
ccflags ='-DNO_LOCALE_NUMERIC -DNO_LOCALE_COLLATE -fno-strict-aliasing -fno-delete-null-pointer-checks -pipe -fstack-protector-strong -D_FORTIFY_SOURCE=2 -I/usr/local/include'
optimize='-O2'
cppflags='-DBIG_TIME -DNO_LOCALE_NUMERIC -DNO_LOCALE_COLLATE -fno-strict-aliasing -fno-delete-null-pointer-checks -pipe -fstack-protector-strong -I/usr/local/include'
ccversion=''
gccversion='4.2.1 20070719 '
gccosandvers='openbsd6.8'
intsize=4
longsize=8
ptrsize=8
doublesize=8
byteorder=87654321
doublekind=4
d_longlong=define
longlongsize=8
d_longdbl=define
longdblsize=16
longdblkind=2
ivtype='long'
ivsize=8
nvtype='double'
nvsize=8
Off_t='off_t'
lseeksize=8
alignbytes=8
prototype=define
Linker and Libraries:
ld='cc'
ldflags ='-Wl,-E -fstack-protector-strong -L/usr/local/lib'
libpth=/usr/lib /usr/lib
libs=-lm -lc
perllibs=-lm -lc
libc=/usr/lib/libc.so.96.0
so=so
useshrplib=true
libperl=libperl.so.20.0
gnulibc_version=''
Dynamic Linking:
dlsrc=dl_dlopen.xs
dlext=so
d_dlsymun=undef
ccdlflags='-Wl,-R/usr/libdata/perl5/sparc64-openbsd/CORE'
cccdlflags='-DPIC -fPIC '
lddlflags='-shared -fPIC -fstack-protector-strong -L/usr/local/lib'
Characteristics of this binary (from libperl):
Compile-time options:
HAS_TIMES
PERLIO_LAYERS
PERL_COPY_ON_WRITE
PERL_DONT_CREATE_GVSV
PERL_MALLOC_WRAP
PERL_OP_PARENT
PERL_PRESERVE_IVUV
USE_64_BIT_ALL
USE_64_BIT_INT
USE_LARGE_FILES
USE_LOCALE
USE_LOCALE_CTYPE
USE_LOCALE_TIME
USE_PERLIO
USE_PERL_ATOF
Built under openbsd
%ENV:
PERL5LIB="/home/smoker/perl/system/lib/perl5"
PERL5OPT=""
PERL5_CPANPLUS_IS_RUNNING="57113"
PERL5_CPAN_IS_RUNNING="57113"
PERL5_CPAN_IS_RUNNING_IN_RECURSION="379,57113"
PERL_CARTON_PATH="/home/afresh1/cpan-smoker-setup/local/system"
PERL_CR_SMOKER_CURRENT="Dist-Zilla-PluginBundle-Author-ETHER-0.159"
PERL_EXTUTILS_AUTOINSTALL="--defaultdeps"
PERL_LOCAL_LIB_ROOT="/home/smoker/perl/system"
PERL_MB_OPT="--install_base '/home/smoker/perl/system'"
PERL_MM_OPT="INSTALL_BASE=/home/smoker/perl/system"
PERL_MM_USE_DEFAULT="1"
PERL_USE_UNSAFE_INC="1"
@INC:
/home/smoker/perl/system/lib/perl5/sparc64-openbsd
/home/smoker/perl/system/lib/perl5
/usr/local/libdata/perl5/site_perl/sparc64-openbsd
/usr/local/libdata/perl5/site_perl
/usr/libdata/perl5/sparc64-openbsd
/usr/libdata/perl5
.