Object-InsideOut v4.04 Perl 5 v5.22.4 x86_64-linux-thread-multi-ld
- Status
- Pass
- From
- Andreas J. König (ANDK)
- Dist
-
Object-InsideOut v4.04
- Platform
- Perl 5 v5.22.4 x86_64-linux-thread-multi-ld
- Date
- 2017-09-07 10:10:55
- ID
- d5fe2b10-93b4-11e7-866a-ab0a7fc6e50c
This distribution has been tested as part of the CPAN Testers
project, supporting the Perl programming language. See
http://wiki.cpantesters.org/ for more information or email
questions to cpan-testers-discuss@perl.org
--
Dear Jerry D. Hedden,
This is a computer-generated report for Object-InsideOut-4.04
on perl 5.22.4, created by CPAN-Reporter-1.2018.
Thank you for uploading your work to CPAN. Congratulations!
All tests were successful.
Sections of this report:
* Tester comments
* Program output
* Prerequisites
* Environment and other context
------------------------------
TESTER COMMENTS
------------------------------
Additional comments from tester:
this report is from an automated smoke testing program
and was not reviewed by a human for accuracy
------------------------------
PROGRAM OUTPUT
------------------------------
Output from '/usr/bin/make test':
PERL_DL_NONLAZY=1 "/tmp/basesmoker-reloperl-foly/bin/perl" "-MExtUtils::Command::MM" "-MTest::Harness" "-e" "undef *Test::Harness::Switches; test_harness(0, 'blib/lib', 'blib/arch')" t/*.t
# Testing Object::InsideOut 4.04
t/00-load.t ................. ok
t/01-basic.t ................ ok
t/01a-basic.t ............... ok
t/02-auto.t ................. ok
t/03-threads.t .............. ok
t/03a-threads.t ............. ok
t/04-shared.t ............... ok
t/04a-shared.t .............. ok
t/05-require.t .............. ok
t/05a-require.t ............. ok
t/06-id.t ................... ok
t/07-dump.t ................. ok
t/07a-dump.t ................ ok
t/08-access.t ............... ok
t/09-chained.t .............. ok
t/09a-chained.t ............. ok
t/09b-chained.t ............. ok
t/10-cumulative.t ........... ok
t/10a-cumulative.t .......... ok
t/10b-cumulative.t .......... ok
t/11-coercion.t ............. ok
t/12-super.t ................ ok
t/13-pump.t ................. ok
t/14-auto_cc.t .............. ok
t/15-type.t ................. ok
t/15a-type.t ................ ok
t/16-return.t ............... ok
t/17-dynamic.t .............. ok
t/18-inherit.t .............. ok
t/18a-inherit.t ............. ok
t/19-storable.t ............. ok
t/20-clone.t ................ ok
t/21-import.t ............... ok
t/22-import.t ............... ok
t/23-weak.t ................. ok
t/24-preproc.t .............. ok
t/25-access.t ............... ok
t/26-preinit.t .............. ok
t/27-exception.t ............ ok
t/28-lvalue.t ............... ok
t/29-non_lvalue.t ........... ok
t/30-all.t .................. ok
t/31-attr.t ................. ok
t/32-meta.t ................. ok
t/33-hash_only.t ............ ok
t/34-secure.t ............... skipped: Math::Random::MT::Auto not available
t/34a-secure.t .............. skipped: Math::Random::MT::Auto not available
t/35-add_class.t ............ ok
t/36-require.t .............. ok
t/37-class_perm.t ........... ok
t/38-combined.t ............. ok
t/39-fork.t ................. skipped: Not using pseudo-forks
t/40-normalize.t ............ ok
t/41-def.t .................. ok
t/42-sh_obj.t ............... ok
t/43-overload.t ............. ok
t/44-data.t ................. ok
t/45-unused.t ............... ok
t/46-singleton.t ............ ok
t/46a-singleton.t ........... ok
t/47-sh_reuse.t ............. ok
t/48-not_shared.t ........... ok
t/49-delegators.t ........... ok
t/49a-delegators-non-OIO.t .. ok
t/50-active_defs.t .......... ok
t/51-readonly.t ............. ok
t/99-pod.t .................. skipped: Module maintainer tests
All tests successful.
Files=67, Tests=1266, 6 wallclock secs ( 0.19 usr 0.32 sys + 5.05 cusr 0.95 csys = 6.51 CPU)
Result: PASS
------------------------------
PREREQUISITES
------------------------------
Prerequisite modules loaded:
requires:
Module Need Have
------------------- ----- --------
attributes 0 0.27
B 0 1.58
Config 0 5.022004
Data::Dumper 2.131 2.161
Exception::Class 1.32 1.43
overload 0 1.26
Scalar::Util 1.23 1.48
strict 0 1.09
Test::More 0.98 1.302086
warnings 0 1.34
build_requires:
Module Need Have
------------------- ----- --------
ExtUtils::MakeMaker 0 7.30
configure_requires:
Module Need Have
------------------- ----- --------
ExtUtils::MakeMaker 0 7.30
------------------------------
ENVIRONMENT AND OTHER CONTEXT
------------------------------
Environment variables:
AUTOMATED_TESTING = 1
LANG = en_US.UTF-8
PATH = /home/sand/bin:/usr/local/bin:/usr/bin:/bin:/usr/games:/usr/local/perl/bin:/usr/X11/bin:/sbin:/usr/sbin
PERL = /tmp/basesmoker-reloperl-foly/bin/perl
PERL5LIB =
PERL5OPT =
PERL5_CPANPLUS_IS_RUNNING = 16552
PERL5_CPAN_IS_RUNNING = 16552
PERL_CANARY_STABILITY_NOPROMPT = 1
PERL_MM_USE_DEFAULT = 1
PERL_USE_UNSAFE_INC = 1
SHELL = /usr/bin/zsh
TERM = screen
Perl special variables (and OS-specific diagnostics, for MSWin32):
$^X = /tmp/basesmoker-reloperl-foly/bin/perl
$UID/$EUID = 1005 / 1005
$GID = 1005 1005
$EGID = 1005 1005
Perl module toolchain versions installed:
Module Have
------------------- ----------
CPAN 2.18
CPAN::Meta 2.150010
Cwd 3.62
ExtUtils::CBuilder 0.280226
ExtUtils::Command 7.30
ExtUtils::Install 2.06
ExtUtils::MakeMaker 7.30
ExtUtils::Manifest 1.70
ExtUtils::ParseXS 3.35
File::Spec 3.62
JSON 2.94
JSON::PP 2.27300_01
Module::Build 0.4224
Module::Signature 0.81
Parse::CPAN::Meta 2.150010
Test::Harness 3.39
Test::More 1.302086
YAML 1.23
YAML::Syck 1.30
version 0.9909
--
Summary of my perl5 (revision 5 version 22 subversion 4) configuration:
Commit id: a26666a1317770d8a2228ac3657ba58020c3511f
Platform:
osname=linux, osvers=4.12.0-1-amd64, archname=x86_64-linux-thread-multi-ld
uname='linux k93x64sid 4.12.0-1-amd64 #1 smp debian 4.12.6-1 (2017-08-12) x86_64 gnulinux '
config_args='-Dprefix=/home/sand/src/perl/repoperls/installed-perls/host/k93x64sid/v5.22.4/721c -Dmyhostname=k93x64sid -Dinstallusrbinperl=n -Uversiononly -Dusedevel -des -Ui_db -Dlibswanted=cl pthread socket inet nsl gdbm dbm malloc dl ld sun m crypt sec util c cposix posix ucb BSD gdbm_compat -Duseithreads -Duselongdouble'
hint=recommended, useposix=true, d_sigaction=define
useithreads=define, usemultiplicity=define
use64bitint=define, use64bitall=define, uselongdouble=define
usemymalloc=n, bincompat5005=undef
Compiler:
cc='cc', ccflags ='-D_REENTRANT -D_GNU_SOURCE -fwrapv -fno-strict-aliasing -pipe -fstack-protector-strong -I/usr/local/include -D_LARGEFILE_SOURCE -D_FILE_OFFSET_BITS=64',
optimize='-O2',
cppflags='-D_REENTRANT -D_GNU_SOURCE -fwrapv -fno-strict-aliasing -pipe -fstack-protector-strong -I/usr/local/include'
ccversion='', gccversion='7.2.0', gccosandvers=''
intsize=4, longsize=8, ptrsize=8, doublesize=8, byteorder=12345678, doublekind=3
d_longlong=define, longlongsize=8, d_longdbl=define, longdblsize=16, longdblkind=3
ivtype='long', ivsize=8, nvtype='long double', nvsize=16, Off_t='off_t', lseeksize=8
alignbytes=16, prototype=define
Linker and Libraries:
ld='cc', ldflags =' -fstack-protector-strong -L/usr/local/lib'
libpth=/usr/local/lib /usr/lib/gcc/x86_64-linux-gnu/7/include-fixed /usr/include/x86_64-linux-gnu /usr/lib /lib/x86_64-linux-gnu /lib/../lib /usr/lib/x86_64-linux-gnu /usr/lib/../lib /lib
libs=-lpthread -lnsl -ldl -lm -lcrypt -lutil -lc
perllibs=-lpthread -lnsl -ldl -lm -lcrypt -lutil -lc
libc=libc-2.24.so, so=so, useshrplib=false, libperl=libperl.a
gnulibc_version='2.24'
Dynamic Linking:
dlsrc=dl_dlopen.xs, dlext=so, d_dlsymun=undef, ccdlflags='-Wl,-E'
cccdlflags='-fPIC', lddlflags='-shared -O2 -L/usr/local/lib -fstack-protector-strong'
Characteristics of this binary (from libperl):
Compile-time options: HAS_TIMES MULTIPLICITY PERLIO_LAYERS
PERL_DONT_CREATE_GVSV
PERL_HASH_FUNC_ONE_AT_A_TIME_HARD
PERL_IMPLICIT_CONTEXT PERL_MALLOC_WRAP
PERL_NEW_COPY_ON_WRITE PERL_PRESERVE_IVUV
PERL_USE_DEVEL USE_64_BIT_ALL USE_64_BIT_INT
USE_ITHREADS USE_LARGE_FILES USE_LOCALE
USE_LOCALE_COLLATE USE_LOCALE_CTYPE
USE_LOCALE_NUMERIC USE_LOCALE_TIME USE_LONG_DOUBLE
USE_PERLIO USE_PERL_ATOF USE_REENTRANT_API
Built under linux
Compiled at Sep 7 2017 07:17:18
%ENV:
PERL="/tmp/basesmoker-reloperl-foly/bin/perl"
PERL5LIB=""
PERL5OPT=""
PERL5_CPANPLUS_IS_RUNNING="16552"
PERL5_CPAN_IS_RUNNING="16552"
PERL_CANARY_STABILITY_NOPROMPT="1"
PERL_MM_USE_DEFAULT="1"
PERL_USE_UNSAFE_INC="1"
@INC:
/home/sand/src/perl/repoperls/installed-perls/host/k93x64sid/v5.22.4/721c/lib/site_perl/5.22.4/x86_64-linux-thread-multi-ld
/home/sand/src/perl/repoperls/installed-perls/host/k93x64sid/v5.22.4/721c/lib/site_perl/5.22.4
/home/sand/src/perl/repoperls/installed-perls/host/k93x64sid/v5.22.4/721c/lib/5.22.4/x86_64-linux-thread-multi-ld
/home/sand/src/perl/repoperls/installed-perls/host/k93x64sid/v5.22.4/721c/lib/5.22.4
.