MooseX-Types v0.51 Perl 5 v5.41.12 darwin-2level

Status
Pass
From
John SJ Anderson
Dist
MooseX-Types v0.51
Platform
Perl 5 v5.41.12 darwin-2level
Date
2025-04-22 04:11:16
ID
d607a6d6-1f2f-11f0-9aa7-9b10eb455296
This distribution has been tested as part of the CPAN Testers
project, supporting the Perl programming language.  See
http://wiki.cpantesters.org/ for more information or email
questions to cpan-testers-discuss@perl.org


--
Dear ETHER,

This is a computer-generated report for MooseX-Types-0.51
on perl 5.41.12, created by App::cpanminus::reporter 0.22 (1.7048).

Thank you for uploading your work to CPAN.  Congratulations!
All tests were successful.

Sections of this report:

    * Tester comments
    * Program output
    * Prerequisites
    * Environment and other context

------------------------------
TESTER COMMENTS
------------------------------

Additional comments from tester:

none provided

------------------------------
PROGRAM OUTPUT
------------------------------

Output from '':

Building and testing MooseX-Types-0.51
cp lib/MooseX/Types/CheckedUtilExports.pm blib/lib/MooseX/Types/CheckedUtilExports.pm
cp lib/MooseX/Types/TypeDecorator.pm blib/lib/MooseX/Types/TypeDecorator.pm
cp lib/MooseX/Types/Moose.pm blib/lib/MooseX/Types/Moose.pm
cp lib/MooseX/Types/UndefinedType.pm blib/lib/MooseX/Types/UndefinedType.pm
cp lib/MooseX/Types/Wrapper.pm blib/lib/MooseX/Types/Wrapper.pm
cp lib/MooseX/Types/Util.pm blib/lib/MooseX/Types/Util.pm
cp lib/MooseX/Types/Combine.pm blib/lib/MooseX/Types/Combine.pm
cp lib/MooseX/Types.pm blib/lib/MooseX/Types.pm
cp lib/MooseX/Types/Base.pm blib/lib/MooseX/Types/Base.pm
# 
# Versions for all modules listed in MYMETA.json (including optional ones):
# 
# === Configure Requires ===
# 
#     Module               Want     Have
#     ------------------- ----- --------
#     Module::Build::Tiny 0.034    0.051
#     perl                5.008 5.041012
# 
# === Configure Suggests ===
# 
#     Module      Want Have
#     -------- ------- ----
#     JSON::PP 2.27300 4.16
# 
# === Test Requires ===
# 
#     Module            Want     Have
#     ---------------- ----- --------
#     File::Spec         any     3.94
#     Module::Metadata   any 1.000038
#     Moose::Role        any   2.2207
#     Term::ANSIColor    any     5.01
#     Test::Fatal        any    0.017
#     Test::More        0.88 1.302210
#     Test::Needs        any 0.002010
#     if                 any   0.0610
#     lib                any     0.65
#     perl             5.008 5.041012
# 
# === Test Recommends ===
# 
#     Module         Want     Have
#     ---------- -------- --------
#     CPAN::Meta 2.120900 2.150010
# 
# === Runtime Requires ===
# 
#     Module                                 Want     Have
#     ---------------------------------- -------- --------
#     Carp                                    any     1.54
#     Carp::Clan                             6.00     6.08
#     Exporter                                any     5.79
#     Module::Runtime                         any    0.018
#     Moose                                  1.06   2.2207
#     Moose::Exporter                         any   2.2207
#     Moose::Meta::TypeConstraint::Union      any   2.2207
#     Moose::Util::TypeConstraints            any   2.2207
#     Scalar::Util                           1.19  1.68_01
#     Sub::Exporter                           any    0.991
#     Sub::Exporter::ForMethods          0.100052 0.100055
#     Sub::Install                            any    0.929
#     Sub::Util                               any  1.68_01
#     base                                    any     2.27
#     namespace::autoclean                   0.16     0.31
#     overload                                any     1.40
#     parent                                  any    0.244
#     perl                                  5.008 5.041012
#     strict                                  any     1.13
#     warnings                                any     1.74
# 
# === Other Modules ===
# 
#     Module                  Have
#     -------------------- -------
#     Dist::CheckConflicts    0.11
#     Encode                  3.21
#     File::Temp            0.2311
#     JSON::PP                4.16
#     Module::Runtime        0.018
#     Sub::Name            missing
#     YAML                    1.31
#     autodie                 2.37
#     namespace::clean        0.27
# 
t/00-report-prereqs.t .............. ok
t/10_moose-types.t ................. ok
t/11_library-definition.t .......... ok
t/12_wrapper-definition.t .......... ok
t/13_typedecorator.t ............... ok
t/14_compatibility-sub-exporter.t .. ok
t/15_recursion.t ................... ok
t/16_introspection.t ............... ok
t/17_syntax_errors.t ............... ok
t/18_combined_libs.t ............... ok
t/19_typelib_with_role.t ........... ok
t/20_union_with_string_type.t ...... ok
t/21_coerce_parameterized_types.t .. ok
t/22_class_type.t .................. ok
t/23_any_subtype.t ................. ok
t/24_class_can_isa.t ............... ok
t/25-fully-qualified.t ............. ok
t/26-multi-combined.t .............. ok
t/regressions/01-is_subtype_of.t ... ok
t/zzz-check-breaks.t ............... ok
All tests successful.
Files=20, Tests=250,  3 wallclock secs ( 0.05 usr  0.03 sys +  2.38 cusr  0.33 csys =  2.79 CPU)
Result: PASS

------------------------------
PREREQUISITES
------------------------------

Prerequisite modules loaded:

runtime:

    Module                             Need     Have    
    ---------------------------------- -------- --------
    base                               0        2.27    
    Carp                               0        1.54    
    Carp::Clan                         6.00     6.08    
    Exporter                           0        5.79    
    Module::Runtime                    0        0.018   
    Moose                              1.06     2.2207  
    Moose::Exporter                    0        2.2207  
    Moose::Meta::TypeConstraint::Union 0        2.2207  
    Moose::Util::TypeConstraints       0        2.2207  
    namespace::autoclean               0.16     0.31    
    overload                           0        1.40    
    parent                             0        0.244   
    perl                               5.008    5.041012
    Scalar::Util                       1.19     1.68_01 
    strict                             0        1.13    
    Sub::Exporter                      0        0.991   
    Sub::Exporter::ForMethods          0.100052 0.100055
    Sub::Install                       0        0.929   
    Sub::Util                          0        1.68_01 
    warnings                           0        1.74    

configure:

    Module                             Need     Have    
    ---------------------------------- -------- --------
    Module::Build::Tiny                0.034    0.051   
    perl                               5.008    5.041012


------------------------------
ENVIRONMENT AND OTHER CONTEXT
------------------------------

Environment variables:

    LANG = en_US.UTF-8
    LC_ALL = en_US.UTF-8
    LC_TERMINAL = iTerm2
    LC_TERMINAL_VERSION = 3.5.13
    PATH = /opt/plenv/versions/5.41.12/bin:/opt/plenv/libexec:/opt/plenv/plugins/Perl-Build/bin:/opt/rbenv/shims:/opt/nextstrain:/Users/genehack/bin:/opt/rust/cargo/bin:/opt/plenv/shims:/opt/plenv/bin:/opt/git/bin:/usr/local/bin:/usr/local/sbin:/opt/local/bin:/usr/bin:/bin:/usr/sbin:/sbin:/usr/local/opt/fzf/bin/
    PERL_CPANM_OPT = --skip-installed --prompt
    SHELL = /bin/zsh
    TERM = screen-256color
    TMPDIR = /var/folders/91/jjmr4sms7fz9s27f3_9glhb80000gn/T/

Perl special variables (and OS-specific diagnostics, for MSWin32):

    EGID = 20 20 12 61 79 80 81 98 701 33 100 204 250 395 398 399 400
    EUID = 501
    EXECUTABLE_NAME = /opt/plenv/versions/5.41.12/bin/perl5.41.12
    GID = 20 20 12 61 79 80 81 98 701 33 100 204 250 395 398 399 400
    UID = 501

Perl module toolchain versions installed:

    Module              Have    
    ------------------- --------
    CPAN                2.38    
    CPAN::Meta          2.150010
    Cwd                 3.94    
    ExtUtils::CBuilder  0.280240
    ExtUtils::Command   7.74    
    ExtUtils::Install   2.22    
    ExtUtils::MakeMaker 7.74    
    ExtUtils::Manifest  1.75    
    ExtUtils::ParseXS   3.57    
    File::Spec          3.94    
    JSON                4.10    
    JSON::PP            4.16    
    Module::Build       0.4234  
    Module::Signature   n/a     
    Parse::CPAN::Meta   2.150010
    Test::Harness       3.50    
    Test::More          1.302210
    YAML                1.31    
    YAML::Syck          n/a     
    version             0.9933  


--

Summary of my perl5 (revision 5 version 41 subversion 12) configuration:
   
  Platform:
    osname=darwin
    osvers=24.4.0
    archname=darwin-2level
    uname='darwin bigjob.home.genehack.org 24.4.0 darwin kernel version 24.4.0: fri apr 11 18:28:23 pdt 2025; root:xnu-11417.101.15~117release_x86_64 x86_64 i386 macmini8,1 darwin '
    config_args='-Dprefix=/opt/plenv/versions/5.41.12 -de -Dversiononly -Dusedevel -A'eval:scriptdir=/opt/plenv/versions/5.41.12/bin''
    hint=recommended
    useposix=true
    d_sigaction=define
    useithreads=undef
    usemultiplicity=undef
    use64bitint=define
    use64bitall=define
    uselongdouble=undef
    usemymalloc=n
    default_inc_excludes_dot=define
  Compiler:
    cc='cc'
    ccflags ='-fno-common -DPERL_DARWIN -mmacosx-version-min=15.4 -DNO_THREAD_SAFE_QUERYLOCALE -DNO_POSIX_2008_LOCALE -DHAS_BROKEN_LANGINFO_CODESET -DNO_LOCALE_COLLATE -fno-strict-aliasing -pipe -fstack-protector-strong -I/usr/local/include'
    optimize='-O3'
    cppflags='-fno-common -DPERL_DARWIN -mmacosx-version-min=15.4 -DNO_THREAD_SAFE_QUERYLOCALE -DNO_POSIX_2008_LOCALE -DHAS_BROKEN_LANGINFO_CODESET -DNO_LOCALE_COLLATE -fno-strict-aliasing -pipe -fstack-protector-strong -I/usr/local/include'
    ccversion=''
    gccversion='Apple LLVM 17.0.0 (clang-1700.0.13.3)'
    gccosandvers=''
    intsize=4
    longsize=8
    ptrsize=8
    doublesize=8
    byteorder=12345678
    doublekind=3
    d_longlong=define
    longlongsize=8
    d_longdbl=define
    longdblsize=16
    longdblkind=3
    ivtype='long'
    ivsize=8
    nvtype='double'
    nvsize=8
    Off_t='off_t'
    lseeksize=8
    alignbytes=8
    prototype=define
  Linker and Libraries:
    ld='cc'
    ldflags =' -mmacosx-version-min=15.4 -fstack-protector-strong -L/usr/local/lib'
    libpth=/usr/local/lib /Applications/Xcode.app/Contents/Developer/Toolchains/XcodeDefault.xctoolchain/usr/lib/clang/17/lib /Applications/Xcode.app/Contents/Developer/Platforms/MacOSX.platform/Developer/SDKs/MacOSX.sdk/usr/lib /Applications/Xcode.app/Contents/Developer/Toolchains/XcodeDefault.xctoolchain/usr/lib /usr/lib
    libs= 
    perllibs=
    libc=
    so=dylib
    useshrplib=false
    libperl=libperl.a
    gnulibc_version=''
  Dynamic Linking:
    dlsrc=dl_dlopen.xs
    dlext=bundle
    d_dlsymun=undef
    ccdlflags=' '
    cccdlflags=' '
    lddlflags=' -mmacosx-version-min=15.4 -bundle -undefined dynamic_lookup -L/usr/local/lib -fstack-protector-strong'


Characteristics of this binary (from libperl): 
  Compile-time options:
    HAS_LONG_DOUBLE
    HAS_STRTOLD
    HAS_TIMES
    PERLIO_LAYERS
    PERL_COPY_ON_WRITE
    PERL_DONT_CREATE_GVSV
    PERL_HASH_FUNC_SIPHASH13
    PERL_HASH_USE_SBOX32
    PERL_MALLOC_WRAP
    PERL_OP_PARENT
    PERL_PRESERVE_IVUV
    PERL_USE_DEVEL
    PERL_USE_SAFE_PUTENV
    USE_64_BIT_ALL
    USE_64_BIT_INT
    USE_LARGE_FILES
    USE_LOCALE
    USE_LOCALE_CTYPE
    USE_LOCALE_NUMERIC
    USE_LOCALE_TIME
    USE_PERLIO
    USE_PERL_ATOF
  Built under darwin
  Compiled at Apr 21 2025 16:06:25
  %ENV:
    PERL_CPANM_OPT="--skip-installed --prompt"
  @INC:
    /opt/plenv/versions/5.41.12/lib/perl5/site_perl/5.41.12/darwin-2level
    /opt/plenv/versions/5.41.12/lib/perl5/site_perl/5.41.12
    /opt/plenv/versions/5.41.12/lib/perl5/5.41.12/darwin-2level
    /opt/plenv/versions/5.41.12/lib/perl5/5.41.12