Report for NetHack-Menu-0.08

Back
From: metabase:user:0d96120c-29e2-11e5-b049-ede3035d37de
Subject: PASS NetHack-Menu-0.08 v5.23.1 SunOS/Solaris
Date: 2015-08-12T03:40:11Z

This distribution has been tested as part of the CPAN Testers
project, supporting the Perl programming language.  See
http://wiki.cpantesters.org/ for more information or email
questions to cpan-testers-discuss@perl.org


--
Dear Shawn M Moore,

This is a computer-generated report for NetHack-Menu-0.08
on perl 5.23.1, created by CPAN-Reporter-1.2015.

Thank you for uploading your work to CPAN.  Congratulations!
All tests were successful.

Sections of this report:

    * Tester comments
    * Program output
    * Prerequisites
    * Environment and other context

------------------------------
TESTER COMMENTS
------------------------------

Additional comments from tester:

this report is from an automated smoke testing program
and was not reviewed by a human for accuracy

CPU            : Intel(r) Xeon(r) CPU E5-1650 v3 @ 3.50GHz
MEMORY         : 8.00 GB
ARCH           : i86pc
OS             : Solaris 5.11
KERNEL         : SunOS 5.11
VIRTUALIZATION : virtualbox

------------------------------
PROGRAM OUTPUT
------------------------------

Output from '/usr/bin/make test':

PERL_DL_NONLAZY=1 "/export/home/jmaslak/perl5/perlbrew/perls/perl-5.23.1/bin/perl5.23.1" "-MExtUtils::Command::MM" "-MTest::Harness" "-e" "undef *Test::Harness::Switches; test_harness(0, 'blib/lib', 'blib/arch')" t/*.t
Passing a list of values to enum is deprecated. Enum values should be wrapped in an arrayref. at /export/home/jmaslak/perl5/perlbrew/perls/perl-5.23.1/lib/site_perl/5.23.1/i86pc-solaris/Moose/Util/TypeConstraints.pm line 437.
	Moose::Util::TypeConstraints::enum("NetHack::Menu::Item::SelectedAll", "all") called at lib/NetHack/Menu/Item.pm line 11
	require NetHack/Menu/Item.pm called at lib/NetHack/Menu.pm line 10
	NetHack::Menu::BEGIN() called at lib/NetHack/Menu/Item.pm line 0
	eval {...} called at lib/NetHack/Menu/Item.pm line 0
	require NetHack/Menu.pm called at -e line 1
Passing a list of values to enum is deprecated. Enum values should be wrapped in an arrayref. at /export/home/jmaslak/perl5/perlbrew/perls/perl-5.23.1/lib/site_perl/5.23.1/i86pc-solaris/Moose/Util/TypeConstraints.pm line 437.
	Moose::Util::TypeConstraints::enum("NetHack::Menu::Item::SelectedAll", "all") called at lib/NetHack/Menu/Item.pm line 11
	require NetHack/Menu/Item.pm called at -e line 1
t/00-compile.t ............... ok
Passing a list of values to enum is deprecated. Enum values should be wrapped in an arrayref. at /export/home/jmaslak/perl5/perlbrew/perls/perl-5.23.1/lib/site_perl/5.23.1/i86pc-solaris/Moose/Util/TypeConstraints.pm line 437.
	Moose::Util::TypeConstraints::enum("NetHack::Menu::Item::SelectedAll", "all") called at /export/home/jmaslak/.cpan/build/NetHack-Menu-0.08-0t7jtC/blib/lib/NetHack/Menu/Item.pm line 11
	require NetHack/Menu/Item.pm called at /export/home/jmaslak/.cpan/build/NetHack-Menu-0.08-0t7jtC/blib/lib/NetHack/Menu.pm line 10
	NetHack::Menu::BEGIN() called at /export/home/jmaslak/.cpan/build/NetHack-Menu-0.08-0t7jtC/blib/lib/NetHack/Menu/Item.pm line 0
	eval {...} called at /export/home/jmaslak/.cpan/build/NetHack-Menu-0.08-0t7jtC/blib/lib/NetHack/Menu/Item.pm line 0
	require NetHack/Menu.pm called at t/lib/MockVT.pm line 5
	MockVT::BEGIN() called at /export/home/jmaslak/.cpan/build/NetHack-Menu-0.08-0t7jtC/blib/lib/NetHack/Menu/Item.pm line 0
	eval {...} called at /export/home/jmaslak/.cpan/build/NetHack-Menu-0.08-0t7jtC/blib/lib/NetHack/Menu/Item.pm line 0
	require MockVT.pm called at t/001-basic.t line 4
	main::BEGIN() called at /export/home/jmaslak/.cpan/build/NetHack-Menu-0.08-0t7jtC/blib/lib/NetHack/Menu/Item.pm line 0
	eval {...} called at /export/home/jmaslak/.cpan/build/NetHack-Menu-0.08-0t7jtC/blib/lib/NetHack/Menu/Item.pm line 0
t/001-basic.t ................ ok
Passing a list of values to enum is deprecated. Enum values should be wrapped in an arrayref. at /export/home/jmaslak/perl5/perlbrew/perls/perl-5.23.1/lib/site_perl/5.23.1/i86pc-solaris/Moose/Util/TypeConstraints.pm line 437.
	Moose::Util::TypeConstraints::enum("NetHack::Menu::Item::SelectedAll", "all") called at /export/home/jmaslak/.cpan/build/NetHack-Menu-0.08-0t7jtC/blib/lib/NetHack/Menu/Item.pm line 11
	require NetHack/Menu/Item.pm called at /export/home/jmaslak/.cpan/build/NetHack-Menu-0.08-0t7jtC/blib/lib/NetHack/Menu.pm line 10
	NetHack::Menu::BEGIN() called at /export/home/jmaslak/.cpan/build/NetHack-Menu-0.08-0t7jtC/blib/lib/NetHack/Menu/Item.pm line 0
	eval {...} called at /export/home/jmaslak/.cpan/build/NetHack-Menu-0.08-0t7jtC/blib/lib/NetHack/Menu/Item.pm line 0
	require NetHack/Menu.pm called at t/lib/MockVT.pm line 5
	MockVT::BEGIN() called at /export/home/jmaslak/.cpan/build/NetHack-Menu-0.08-0t7jtC/blib/lib/NetHack/Menu/Item.pm line 0
	eval {...} called at /export/home/jmaslak/.cpan/build/NetHack-Menu-0.08-0t7jtC/blib/lib/NetHack/Menu/Item.pm line 0
	require MockVT.pm called at t/002-no-menu.t line 4
	main::BEGIN() called at /export/home/jmaslak/.cpan/build/NetHack-Menu-0.08-0t7jtC/blib/lib/NetHack/Menu/Item.pm line 0
	eval {...} called at /export/home/jmaslak/.cpan/build/NetHack-Menu-0.08-0t7jtC/blib/lib/NetHack/Menu/Item.pm line 0
t/002-no-menu.t .............. ok
Passing a list of values to enum is deprecated. Enum values should be wrapped in an arrayref. at /export/home/jmaslak/perl5/perlbrew/perls/perl-5.23.1/lib/site_perl/5.23.1/i86pc-solaris/Moose/Util/TypeConstraints.pm line 437.
	Moose::Util::TypeConstraints::enum("NetHack::Menu::Item::SelectedAll", "all") called at /export/home/jmaslak/.cpan/build/NetHack-Menu-0.08-0t7jtC/blib/lib/NetHack/Menu/Item.pm line 11
	require NetHack/Menu/Item.pm called at /export/home/jmaslak/.cpan/build/NetHack-Menu-0.08-0t7jtC/blib/lib/NetHack/Menu.pm line 10
	NetHack::Menu::BEGIN() called at /export/home/jmaslak/.cpan/build/NetHack-Menu-0.08-0t7jtC/blib/lib/NetHack/Menu/Item.pm line 0
	eval {...} called at /export/home/jmaslak/.cpan/build/NetHack-Menu-0.08-0t7jtC/blib/lib/NetHack/Menu/Item.pm line 0
	require NetHack/Menu.pm called at t/lib/MockVT.pm line 5
	MockVT::BEGIN() called at /export/home/jmaslak/.cpan/build/NetHack-Menu-0.08-0t7jtC/blib/lib/NetHack/Menu/Item.pm line 0
	eval {...} called at /export/home/jmaslak/.cpan/build/NetHack-Menu-0.08-0t7jtC/blib/lib/NetHack/Menu/Item.pm line 0
	require MockVT.pm called at t/003-some-selected.t line 4
	main::BEGIN() called at /export/home/jmaslak/.cpan/build/NetHack-Menu-0.08-0t7jtC/blib/lib/NetHack/Menu/Item.pm line 0
	eval {...} called at /export/home/jmaslak/.cpan/build/NetHack-Menu-0.08-0t7jtC/blib/lib/NetHack/Menu/Item.pm line 0
t/003-some-selected.t ........ ok
Passing a list of values to enum is deprecated. Enum values should be wrapped in an arrayref. at /export/home/jmaslak/perl5/perlbrew/perls/perl-5.23.1/lib/site_perl/5.23.1/i86pc-solaris/Moose/Util/TypeConstraints.pm line 437.
	Moose::Util::TypeConstraints::enum("NetHack::Menu::Item::SelectedAll", "all") called at /export/home/jmaslak/.cpan/build/NetHack-Menu-0.08-0t7jtC/blib/lib/NetHack/Menu/Item.pm line 11
	require NetHack/Menu/Item.pm called at /export/home/jmaslak/.cpan/build/NetHack-Menu-0.08-0t7jtC/blib/lib/NetHack/Menu.pm line 10
	NetHack::Menu::BEGIN() called at /export/home/jmaslak/.cpan/build/NetHack-Menu-0.08-0t7jtC/blib/lib/NetHack/Menu/Item.pm line 0
	eval {...} called at /export/home/jmaslak/.cpan/build/NetHack-Menu-0.08-0t7jtC/blib/lib/NetHack/Menu/Item.pm line 0
	require NetHack/Menu.pm called at t/lib/MockVT.pm line 5
	MockVT::BEGIN() called at /export/home/jmaslak/.cpan/build/NetHack-Menu-0.08-0t7jtC/blib/lib/NetHack/Menu/Item.pm line 0
	eval {...} called at /export/home/jmaslak/.cpan/build/NetHack-Menu-0.08-0t7jtC/blib/lib/NetHack/Menu/Item.pm line 0
	require MockVT.pm called at t/004-multipage.t line 4
	main::BEGIN() called at /export/home/jmaslak/.cpan/build/NetHack-Menu-0.08-0t7jtC/blib/lib/NetHack/Menu/Item.pm line 0
	eval {...} called at /export/home/jmaslak/.cpan/build/NetHack-Menu-0.08-0t7jtC/blib/lib/NetHack/Menu/Item.pm line 0
t/004-multipage.t ............ ok
Passing a list of values to enum is deprecated. Enum values should be wrapped in an arrayref. at /export/home/jmaslak/perl5/perlbrew/perls/perl-5.23.1/lib/site_perl/5.23.1/i86pc-solaris/Moose/Util/TypeConstraints.pm line 437.
	Moose::Util::TypeConstraints::enum("NetHack::Menu::Item::SelectedAll", "all") called at /export/home/jmaslak/.cpan/build/NetHack-Menu-0.08-0t7jtC/blib/lib/NetHack/Menu/Item.pm line 11
	require NetHack/Menu/Item.pm called at /export/home/jmaslak/.cpan/build/NetHack-Menu-0.08-0t7jtC/blib/lib/NetHack/Menu.pm line 10
	NetHack::Menu::BEGIN() called at /export/home/jmaslak/.cpan/build/NetHack-Menu-0.08-0t7jtC/blib/lib/NetHack/Menu/Item.pm line 0
	eval {...} called at /export/home/jmaslak/.cpan/build/NetHack-Menu-0.08-0t7jtC/blib/lib/NetHack/Menu/Item.pm line 0
	require NetHack/Menu.pm called at t/lib/MockVT.pm line 5
	MockVT::BEGIN() called at /export/home/jmaslak/.cpan/build/NetHack-Menu-0.08-0t7jtC/blib/lib/NetHack/Menu/Item.pm line 0
	eval {...} called at /export/home/jmaslak/.cpan/build/NetHack-Menu-0.08-0t7jtC/blib/lib/NetHack/Menu/Item.pm line 0
	require MockVT.pm called at t/005-start-at-middle.t line 4
	main::BEGIN() called at /export/home/jmaslak/.cpan/build/NetHack-Menu-0.08-0t7jtC/blib/lib/NetHack/Menu/Item.pm line 0
	eval {...} called at /export/home/jmaslak/.cpan/build/NetHack-Menu-0.08-0t7jtC/blib/lib/NetHack/Menu/Item.pm line 0
t/005-start-at-middle.t ...... ok
Passing a list of values to enum is deprecated. Enum values should be wrapped in an arrayref. at /export/home/jmaslak/perl5/perlbrew/perls/perl-5.23.1/lib/site_perl/5.23.1/i86pc-solaris/Moose/Util/TypeConstraints.pm line 437.
	Moose::Util::TypeConstraints::enum("NetHack::Menu::Item::SelectedAll", "all") called at /export/home/jmaslak/.cpan/build/NetHack-Menu-0.08-0t7jtC/blib/lib/NetHack/Menu/Item.pm line 11
	require NetHack/Menu/Item.pm called at /export/home/jmaslak/.cpan/build/NetHack-Menu-0.08-0t7jtC/blib/lib/NetHack/Menu.pm line 10
	NetHack::Menu::BEGIN() called at /export/home/jmaslak/.cpan/build/NetHack-Menu-0.08-0t7jtC/blib/lib/NetHack/Menu/Item.pm line 0
	eval {...} called at /export/home/jmaslak/.cpan/build/NetHack-Menu-0.08-0t7jtC/blib/lib/NetHack/Menu/Item.pm line 0
	require NetHack/Menu.pm called at t/lib/MockVT.pm line 5
	MockVT::BEGIN() called at /export/home/jmaslak/.cpan/build/NetHack-Menu-0.08-0t7jtC/blib/lib/NetHack/Menu/Item.pm line 0
	eval {...} called at /export/home/jmaslak/.cpan/build/NetHack-Menu-0.08-0t7jtC/blib/lib/NetHack/Menu/Item.pm line 0
	require MockVT.pm called at t/007-single-select.t line 4
	main::BEGIN() called at /export/home/jmaslak/.cpan/build/NetHack-Menu-0.08-0t7jtC/blib/lib/NetHack/Menu/Item.pm line 0
	eval {...} called at /export/home/jmaslak/.cpan/build/NetHack-Menu-0.08-0t7jtC/blib/lib/NetHack/Menu/Item.pm line 0
t/007-single-select.t ........ ok
Passing a list of values to enum is deprecated. Enum values should be wrapped in an arrayref. at /export/home/jmaslak/perl5/perlbrew/perls/perl-5.23.1/lib/site_perl/5.23.1/i86pc-solaris/Moose/Util/TypeConstraints.pm line 437.
	Moose::Util::TypeConstraints::enum("NetHack::Menu::Item::SelectedAll", "all") called at /export/home/jmaslak/.cpan/build/NetHack-Menu-0.08-0t7jtC/blib/lib/NetHack/Menu/Item.pm line 11
	require NetHack/Menu/Item.pm called at /export/home/jmaslak/.cpan/build/NetHack-Menu-0.08-0t7jtC/blib/lib/NetHack/Menu.pm line 10
	NetHack::Menu::BEGIN() called at /export/home/jmaslak/.cpan/build/NetHack-Menu-0.08-0t7jtC/blib/lib/NetHack/Menu/Item.pm line 0
	eval {...} called at /export/home/jmaslak/.cpan/build/NetHack-Menu-0.08-0t7jtC/blib/lib/NetHack/Menu/Item.pm line 0
	require NetHack/Menu.pm called at t/lib/MockVT.pm line 5
	MockVT::BEGIN() called at /export/home/jmaslak/.cpan/build/NetHack-Menu-0.08-0t7jtC/blib/lib/NetHack/Menu/Item.pm line 0
	eval {...} called at /export/home/jmaslak/.cpan/build/NetHack-Menu-0.08-0t7jtC/blib/lib/NetHack/Menu/Item.pm line 0
	require MockVT.pm called at t/008-single-select-paged.t line 4
	main::BEGIN() called at /export/home/jmaslak/.cpan/build/NetHack-Menu-0.08-0t7jtC/blib/lib/NetHack/Menu/Item.pm line 0
	eval {...} called at /export/home/jmaslak/.cpan/build/NetHack-Menu-0.08-0t7jtC/blib/lib/NetHack/Menu/Item.pm line 0
t/008-single-select-paged.t .. ok
Passing a list of values to enum is deprecated. Enum values should be wrapped in an arrayref. at /export/home/jmaslak/perl5/perlbrew/perls/perl-5.23.1/lib/site_perl/5.23.1/i86pc-solaris/Moose/Util/TypeConstraints.pm line 437.
	Moose::Util::TypeConstraints::enum("NetHack::Menu::Item::SelectedAll", "all") called at /export/home/jmaslak/.cpan/build/NetHack-Menu-0.08-0t7jtC/blib/lib/NetHack/Menu/Item.pm line 11
	require NetHack/Menu/Item.pm called at /export/home/jmaslak/.cpan/build/NetHack-Menu-0.08-0t7jtC/blib/lib/NetHack/Menu.pm line 10
	NetHack::Menu::BEGIN() called at /export/home/jmaslak/.cpan/build/NetHack-Menu-0.08-0t7jtC/blib/lib/NetHack/Menu/Item.pm line 0
	eval {...} called at /export/home/jmaslak/.cpan/build/NetHack-Menu-0.08-0t7jtC/blib/lib/NetHack/Menu/Item.pm line 0
	require NetHack/Menu.pm called at t/lib/MockVT.pm line 5
	MockVT::BEGIN() called at /export/home/jmaslak/.cpan/build/NetHack-Menu-0.08-0t7jtC/blib/lib/NetHack/Menu/Item.pm line 0
	eval {...} called at /export/home/jmaslak/.cpan/build/NetHack-Menu-0.08-0t7jtC/blib/lib/NetHack/Menu/Item.pm line 0
	require MockVT.pm called at t/009-single-select-none.t line 4
	main::BEGIN() called at /export/home/jmaslak/.cpan/build/NetHack-Menu-0.08-0t7jtC/blib/lib/NetHack/Menu/Item.pm line 0
	eval {...} called at /export/home/jmaslak/.cpan/build/NetHack-Menu-0.08-0t7jtC/blib/lib/NetHack/Menu/Item.pm line 0
t/009-single-select-none.t ... ok
Passing a list of values to enum is deprecated. Enum values should be wrapped in an arrayref. at /export/home/jmaslak/perl5/perlbrew/perls/perl-5.23.1/lib/site_perl/5.23.1/i86pc-solaris/Moose/Util/TypeConstraints.pm line 437.
	Moose::Util::TypeConstraints::enum("NetHack::Menu::Item::SelectedAll", "all") called at /export/home/jmaslak/.cpan/build/NetHack-Menu-0.08-0t7jtC/blib/lib/NetHack/Menu/Item.pm line 11
	require NetHack/Menu/Item.pm called at /export/home/jmaslak/.cpan/build/NetHack-Menu-0.08-0t7jtC/blib/lib/NetHack/Menu.pm line 10
	NetHack::Menu::BEGIN() called at /export/home/jmaslak/.cpan/build/NetHack-Menu-0.08-0t7jtC/blib/lib/NetHack/Menu/Item.pm line 0
	eval {...} called at /export/home/jmaslak/.cpan/build/NetHack-Menu-0.08-0t7jtC/blib/lib/NetHack/Menu/Item.pm line 0
	require NetHack/Menu.pm called at t/lib/MockVT.pm line 5
	MockVT::BEGIN() called at /export/home/jmaslak/.cpan/build/NetHack-Menu-0.08-0t7jtC/blib/lib/NetHack/Menu/Item.pm line 0
	eval {...} called at /export/home/jmaslak/.cpan/build/NetHack-Menu-0.08-0t7jtC/blib/lib/NetHack/Menu/Item.pm line 0
	require MockVT.pm called at t/010-enhance.t line 4
	main::BEGIN() called at /export/home/jmaslak/.cpan/build/NetHack-Menu-0.08-0t7jtC/blib/lib/NetHack/Menu/Item.pm line 0
	eval {...} called at /export/home/jmaslak/.cpan/build/NetHack-Menu-0.08-0t7jtC/blib/lib/NetHack/Menu/Item.pm line 0
t/010-enhance.t .............. ok
Passing a list of values to enum is deprecated. Enum values should be wrapped in an arrayref. at /export/home/jmaslak/perl5/perlbrew/perls/perl-5.23.1/lib/site_perl/5.23.1/i86pc-solaris/Moose/Util/TypeConstraints.pm line 437.
	Moose::Util::TypeConstraints::enum("NetHack::Menu::Item::SelectedAll", "all") called at /export/home/jmaslak/.cpan/build/NetHack-Menu-0.08-0t7jtC/blib/lib/NetHack/Menu/Item.pm line 11
	require NetHack/Menu/Item.pm called at /export/home/jmaslak/.cpan/build/NetHack-Menu-0.08-0t7jtC/blib/lib/NetHack/Menu.pm line 10
	NetHack::Menu::BEGIN() called at /export/home/jmaslak/.cpan/build/NetHack-Menu-0.08-0t7jtC/blib/lib/NetHack/Menu/Item.pm line 0
	eval {...} called at /export/home/jmaslak/.cpan/build/NetHack-Menu-0.08-0t7jtC/blib/lib/NetHack/Menu/Item.pm line 0
	require NetHack/Menu.pm called at t/lib/MockVT.pm line 5
	MockVT::BEGIN() called at /export/home/jmaslak/.cpan/build/NetHack-Menu-0.08-0t7jtC/blib/lib/NetHack/Menu/Item.pm line 0
	eval {...} called at /export/home/jmaslak/.cpan/build/NetHack-Menu-0.08-0t7jtC/blib/lib/NetHack/Menu/Item.pm line 0
	require MockVT.pm called at t/011-select-count.t line 4
	main::BEGIN() called at /export/home/jmaslak/.cpan/build/NetHack-Menu-0.08-0t7jtC/blib/lib/NetHack/Menu/Item.pm line 0
	eval {...} called at /export/home/jmaslak/.cpan/build/NetHack-Menu-0.08-0t7jtC/blib/lib/NetHack/Menu/Item.pm line 0
t/011-select-count.t ......... ok
Passing a list of values to enum is deprecated. Enum values should be wrapped in an arrayref. at /export/home/jmaslak/perl5/perlbrew/perls/perl-5.23.1/lib/site_perl/5.23.1/i86pc-solaris/Moose/Util/TypeConstraints.pm line 437.
	Moose::Util::TypeConstraints::enum("NetHack::Menu::Item::SelectedAll", "all") called at /export/home/jmaslak/.cpan/build/NetHack-Menu-0.08-0t7jtC/blib/lib/NetHack/Menu/Item.pm line 11
	require NetHack/Menu/Item.pm called at /export/home/jmaslak/.cpan/build/NetHack-Menu-0.08-0t7jtC/blib/lib/NetHack/Menu.pm line 10
	NetHack::Menu::BEGIN() called at /export/home/jmaslak/.cpan/build/NetHack-Menu-0.08-0t7jtC/blib/lib/NetHack/Menu/Item.pm line 0
	eval {...} called at /export/home/jmaslak/.cpan/build/NetHack-Menu-0.08-0t7jtC/blib/lib/NetHack/Menu/Item.pm line 0
	require NetHack/Menu.pm called at t/lib/MockVT.pm line 5
	MockVT::BEGIN() called at /export/home/jmaslak/.cpan/build/NetHack-Menu-0.08-0t7jtC/blib/lib/NetHack/Menu/Item.pm line 0
	eval {...} called at /export/home/jmaslak/.cpan/build/NetHack-Menu-0.08-0t7jtC/blib/lib/NetHack/Menu/Item.pm line 0
	require MockVT.pm called at t/012-counted-transitions.t line 4
	main::BEGIN() called at /export/home/jmaslak/.cpan/build/NetHack-Menu-0.08-0t7jtC/blib/lib/NetHack/Menu/Item.pm line 0
	eval {...} called at /export/home/jmaslak/.cpan/build/NetHack-Menu-0.08-0t7jtC/blib/lib/NetHack/Menu/Item.pm line 0
t/012-counted-transitions.t .. ok
Passing a list of values to enum is deprecated. Enum values should be wrapped in an arrayref. at /export/home/jmaslak/perl5/perlbrew/perls/perl-5.23.1/lib/site_perl/5.23.1/i86pc-solaris/Moose/Util/TypeConstraints.pm line 437.
	Moose::Util::TypeConstraints::enum("NetHack::Menu::Item::SelectedAll", "all") called at /export/home/jmaslak/.cpan/build/NetHack-Menu-0.08-0t7jtC/blib/lib/NetHack/Menu/Item.pm line 11
	require NetHack/Menu/Item.pm called at /export/home/jmaslak/.cpan/build/NetHack-Menu-0.08-0t7jtC/blib/lib/NetHack/Menu.pm line 10
	NetHack::Menu::BEGIN() called at /export/home/jmaslak/.cpan/build/NetHack-Menu-0.08-0t7jtC/blib/lib/NetHack/Menu/Item.pm line 0
	eval {...} called at /export/home/jmaslak/.cpan/build/NetHack-Menu-0.08-0t7jtC/blib/lib/NetHack/Menu/Item.pm line 0
	require NetHack/Menu.pm called at t/lib/MockVT.pm line 5
	MockVT::BEGIN() called at /export/home/jmaslak/.cpan/build/NetHack-Menu-0.08-0t7jtC/blib/lib/NetHack/Menu/Item.pm line 0
	eval {...} called at /export/home/jmaslak/.cpan/build/NetHack-Menu-0.08-0t7jtC/blib/lib/NetHack/Menu/Item.pm line 0
	require MockVT.pm called at t/013-select-item.t line 4
	main::BEGIN() called at /export/home/jmaslak/.cpan/build/NetHack-Menu-0.08-0t7jtC/blib/lib/NetHack/Menu/Item.pm line 0
	eval {...} called at /export/home/jmaslak/.cpan/build/NetHack-Menu-0.08-0t7jtC/blib/lib/NetHack/Menu/Item.pm line 0
t/013-select-item.t .......... ok
All tests successful.
Files=13, Tests=134,  6 wallclock secs ( 0.09 usr  0.10 sys +  3.13 cusr  1.72 csys =  5.04 CPU)
Result: PASS

------------------------------
PREREQUISITES
------------------------------

Prerequisite modules loaded:

requires:

    Module                       Need Have    
    ---------------------------- ---- --------
    Moose                        0    2.1405  
    Moose::Util::TypeConstraints 0    2.1405  

build_requires:

    Module                       Need Have    
    ---------------------------- ---- --------
    File::Find                   0    1.29    
    File::Temp                   0    0.2304  
    lib                          0    0.63    
    parent                       0    0.234   
    strict                       0    1.09    
    Term::VT102                  0    0.91    
    Test::Deep                   0    0.117   
    Test::Fatal                  0    0.014   
    Test::More                   0.88 1.001014
    warnings                     0    1.33    

configure_requires:

    Module                       Need Have    
    ---------------------------- ---- --------
    ExtUtils::MakeMaker          6.30 7.04_01 


------------------------------
ENVIRONMENT AND OTHER CONTEXT
------------------------------

Environment variables:

    AUTOMATED_TESTING = 1
    LANG = en_US.UTF-8
    LC_ALL = 
    LC_COLLATE = 
    LC_CTYPE = 
    LC_MESSAGES = 
    LC_MONETARY = 
    LC_NUMERIC = 
    LC_TIME = 
    NONINTERACTIVE_TESTING = 1
    PATH = /export/home/jmaslak/perl5/perlbrew/bin:/export/home/jmaslak/perl5/perlbrew/perls/perl-5.23.1/bin:/export/home/jmaslak/perltest/bin:/export/home/jmaslak/perltest/bin:/export/home/jmaslak/perltest/bin:/export/home/jmaslak/bin:~/bin:/export/home/jmaslak/perl5/perlbrew/bin:/export/home/jmaslak/perl5/perlbrew/perls/perl-5.23.1/bin:/usr/bin:/bin:/usr/ccs/bin:/usr/sbin:/usr/ccs/bin:/opt/solarisstudio12.4/bin:/usr/ucb:~/perltest/bin
    PERL5LIB = /export/home/jmaslak/.cpan/build/Term-VT102-0.91-yWzkCE/blib/arch:/export/home/jmaslak/.cpan/build/Term-VT102-0.91-yWzkCE/blib/lib
    PERL5OPT = 
    PERL5_CPANPLUS_IS_RUNNING = 17725
    PERL5_CPAN_IS_RUNNING = 17725
    PERL5_CPAN_IS_RUNNING_IN_RECURSION = 13549,17725
    PERLBREW_BASHRC_VERSION = 0.73
    PERLBREW_HOME = /export/home/jmaslak/.perlbrew
    PERLBREW_LIB = 
    PERLBREW_MANPATH = /export/home/jmaslak/perl5/perlbrew/perls/perl-5.23.1/man
    PERLBREW_PATH = /export/home/jmaslak/perl5/perlbrew/bin:/export/home/jmaslak/perl5/perlbrew/perls/perl-5.23.1/bin
    PERLBREW_PERL = perl-5.23.1
    PERLBREW_ROOT = /export/home/jmaslak/perl5/perlbrew
    PERLBREW_VERSION = 0.73
    PERL_CR_SMOKER_CURRENT = NetHack-Menu-0.08
    PERL_EXTUTILS_AUTOINSTALL = --defaultdeps
    PERL_LOCAL_LIB_ROOT = 
    PERL_MM_USE_DEFAULT = 1
    SHELL = /usr/bin/bash
    TERM = screen

Perl special variables (and OS-specific diagnostics, for MSWin32):

    $^X = /export/home/jmaslak/perl5/perlbrew/perls/perl-5.23.1/bin/perl5.23.1
    $UID/$EUID = 100 / 100
    $GID = 10 10
    $EGID = 10 10

Perl module toolchain versions installed:

    Module              Have    
    ------------------- --------
    CPAN                2.11    
    CPAN::Meta          2.150005
    Cwd                 3.56    
    ExtUtils::CBuilder  0.280223
    ExtUtils::Command   1.20    
    ExtUtils::Install   2.04    
    ExtUtils::MakeMaker 7.04_01 
    ExtUtils::Manifest  1.70    
    ExtUtils::ParseXS   3.28    
    File::Spec          3.56    
    JSON                2.90    
    JSON::PP            2.27300 
    Module::Build       0.4214  
    Module::Signature   n/a     
    Parse::CPAN::Meta   1.4417  
    Test::Harness       3.35    
    Test::More          1.001014
    YAML                1.15    
    YAML::Syck          n/a     
    version             0.9909  


--

Summary of my perl5 (revision 5 version 23 subversion 1) configuration:
   
  Platform:
    osname=solaris, osvers=2.11, archname=i86pc-solaris
    uname='sunos solaris.antelope.net 5.11 11.2 i86pc i386 i86pc '
    config_args='-de -Dprefix=/export/home/jmaslak/perl5/perlbrew/perls/perl-5.23.1 -Dusedevel -Aeval:scriptdir=/export/home/jmaslak/perl5/perlbrew/perls/perl-5.23.1/bin'
    hint=recommended, useposix=true, d_sigaction=define
    useithreads=undef, usemultiplicity=undef
    use64bitint=undef, use64bitall=undef, uselongdouble=undef
    usemymalloc=n, bincompat5005=undef
  Compiler:
    cc='/opt/solarisstudio12.4/bin/cc', ccflags ='-I/usr/gnu/include -D_LARGEFILE_SOURCE -D_FILE_OFFSET_BITS=64 -DPERL_USE_SAFE_PUTENV',
    optimize='-O',
    cppflags='-I/usr/gnu/include'
    ccversion='Sun C 5.13 SunOS_i386 2014/10/20', gccversion='', gccosandvers=''
    intsize=4, longsize=4, ptrsize=4, doublesize=8, byteorder=1234, doublekind=3
    d_longlong=define, longlongsize=8, d_longdbl=define, longdblsize=12, longdblkind=3
    ivtype='long', ivsize=4, nvtype='double', nvsize=8, Off_t='off_t', lseeksize=8
    alignbytes=4, prototype=define
  Linker and Libraries:
    ld='/opt/solarisstudio12.4/bin/cc', ldflags =' -L/usr/lib -L/usr/ccs/lib -L/opt/solarisstudio12.4/lib/compilers/staticlib -L/opt/solarisstudio12.4/lib/compilers/sse2 -L/opt/solarisstudio12.4/lib/compilers -L/lib -L/usr/gnu/lib '
    libpth=/usr/lib /usr/ccs/lib /opt/solarisstudio12.4/lib/compilers/staticlib /opt/solarisstudio12.4/lib/compilers/sse2 /opt/solarisstudio12.4/lib/compilers /lib /usr/gnu/lib
    libs=-lpthread -lsocket -lnsl -lgdbm -ldb -ldl -lm -lc
    perllibs=-lpthread -lsocket -lnsl -ldl -lm -lc
    libc=/lib/libc.so, so=so, useshrplib=false, libperl=libperl.a
    gnulibc_version=''
  Dynamic Linking:
    dlsrc=dl_dlopen.xs, dlext=so, d_dlsymun=undef, ccdlflags=' '
    cccdlflags='-KPIC', lddlflags='-G -L/usr/lib -L/usr/ccs/lib -L/opt/solarisstudio12.4/lib/compilers/staticlib -L/opt/solarisstudio12.4/lib/compilers/sse2 -L/opt/solarisstudio12.4/lib/compilers -L/lib -L/usr/gnu/lib'


Characteristics of this binary (from libperl): 
  Compile-time options: HAS_TIMES PERLIO_LAYERS PERL_COPY_ON_WRITE
                        PERL_DONT_CREATE_GVSV
                        PERL_HASH_FUNC_ONE_AT_A_TIME_HARD PERL_MALLOC_WRAP
                        PERL_PRESERVE_IVUV PERL_USE_DEVEL
                        PERL_USE_SAFE_PUTENV USE_LARGE_FILES USE_LOCALE
                        USE_LOCALE_COLLATE USE_LOCALE_CTYPE
                        USE_LOCALE_NUMERIC USE_LOCALE_TIME USE_PERLIO
                        USE_PERL_ATOF
  Locally applied patches:
	Devel::PatchPerl 1.38
  Built under solaris
  Compiled at Jul 24 2015 23:51:02
  %ENV:
    PERL5LIB="/export/home/jmaslak/.cpan/build/Term-VT102-0.91-yWzkCE/blib/arch:/export/home/jmaslak/.cpan/build/Term-VT102-0.91-yWzkCE/blib/lib"
    PERL5OPT=""
    PERL5_CPANPLUS_IS_RUNNING="17725"
    PERL5_CPAN_IS_RUNNING="17725"
    PERL5_CPAN_IS_RUNNING_IN_RECURSION="13549,17725"
    PERLBREW_BASHRC_VERSION="0.73"
    PERLBREW_HOME="/export/home/jmaslak/.perlbrew"
    PERLBREW_LIB=""
    PERLBREW_MANPATH="/export/home/jmaslak/perl5/perlbrew/perls/perl-5.23.1/man"
    PERLBREW_PATH="/export/home/jmaslak/perl5/perlbrew/bin:/export/home/jmaslak/perl5/perlbrew/perls/perl-5.23.1/bin"
    PERLBREW_PERL="perl-5.23.1"
    PERLBREW_ROOT="/export/home/jmaslak/perl5/perlbrew"
    PERLBREW_VERSION="0.73"
    PERL_CR_SMOKER_CURRENT="NetHack-Menu-0.08"
    PERL_EXTUTILS_AUTOINSTALL="--defaultdeps"
    PERL_LOCAL_LIB_ROOT=""
    PERL_MM_USE_DEFAULT="1"
  @INC:
    /export/home/jmaslak/.cpan/build/Term-VT102-0.91-yWzkCE/blib/arch
    /export/home/jmaslak/.cpan/build/Term-VT102-0.91-yWzkCE/blib/lib
    /export/home/jmaslak/perl5/perlbrew/perls/perl-5.23.1/lib/site_perl/5.23.1/i86pc-solaris
    /export/home/jmaslak/perl5/perlbrew/perls/perl-5.23.1/lib/site_perl/5.23.1
    /export/home/jmaslak/perl5/perlbrew/perls/perl-5.23.1/lib/5.23.1/i86pc-solaris
    /export/home/jmaslak/perl5/perlbrew/perls/perl-5.23.1/lib/5.23.1
    .