Class-Accessor-Grouped v0.10014 Perl 5 v5.16.1 x86_64-linux
- Status
- Pass
- From
- Nigel Horne
- Dist
-
Class-Accessor-Grouped v0.10014
- Platform
- Perl 5 v5.16.1 x86_64-linux
- Date
- 2020-04-18 17:20:01
- ID
- d608f732-8198-11ea-baf9-8e7157f1bc38
This distribution has been tested as part of the CPAN Testers
project, supporting the Perl programming language. See
http://wiki.cpantesters.org/ for more information or email
questions to cpan-testers-discuss@perl.org
--
Dear Graham Knop,
This is a computer-generated report for Class-Accessor-Grouped-0.10014
on perl 5.16.1, created by CPAN-Reporter-1.2018.
Thank you for uploading your work to CPAN. Congratulations!
All tests were successful.
Sections of this report:
* Tester comments
* Program output
* Prerequisites
* Environment and other context
------------------------------
TESTER COMMENTS
------------------------------
Additional comments from tester:
this report is from an automated smoke testing program
and was not reviewed by a human for accuracy
------------------------------
PROGRAM OUTPUT
------------------------------
Output from '/usr/bin/make test':
PERL_DL_NONLAZY=1 "/home/njh/perl5/perlbrew/perls/perl-5.16.1/bin/perl5.16.1" "-MExtUtils::Command::MM" "-MTest::Harness" "-e" "undef *Test::Harness::Switches; test_harness(0, 'blib/lib', 'blib/arch')" t/*.t
t/accessors_pp.t ............. skipped: Devel::Hide required for this test in presence of Sub::Name
t/accessors.t ................ ok
t/accessors_ro.t ............. ok
t/accessors_wo.t ............. ok
t/accessors_xs_cachedwarn.t .. ok
t/basic.t .................... ok
t/accessors_xs.t ............. ok
t/clean_namespace.t .......... ok
t/component.t ................ ok
t/illegal_name.t ............. ok
t/inherited.t ................ ok
All tests successful.
Files=11, Tests=1604, 2 wallclock secs ( 0.23 usr 0.03 sys + 1.30 cusr 0.13 csys = 1.69 CPU)
Result: PASS
------------------------------
PREREQUISITES
------------------------------
Prerequisite modules loaded:
requires:
Module Need Have
------------------- ----- --------
Carp 0 1.26
Class::XSAccessor 1.19 1.19
Module::Runtime 0.012 0.016
perl 5.006 5.016001
Scalar::Util 0 1.53
Sub::Name 0.05 0.26
build_requires:
Module Need Have
------------------- ----- --------
Test::Exception 0.31 0.43
Test::More 0.88 1.302168
configure_requires:
Module Need Have
------------------- ----- --------
ExtUtils::MakeMaker 0 7.42
------------------------------
ENVIRONMENT AND OTHER CONTEXT
------------------------------
Environment variables:
AUTOMATED_TESTING = 1
HARNESS_OPTIONS = j2
LANG = en_US.UTF-8
PATH = /home/njh/perl5/perlbrew/bin:/home/njh/perl5/perlbrew/perls/perl-5.16.1/bin:/home/njh/src/njh/smoker/bin:/usr/bin:/bin
PERL5LIB = /tmp/build/Sub-Name-0.26-0/blib/arch:/tmp/build/Sub-Name-0.26-0/blib/lib:/tmp/build/Class-XSAccessor-1.19-0/blib/arch:/tmp/build/Class-XSAccessor-1.19-0/blib/lib
PERL5OPT =
PERL5_CPANPLUS_IS_RUNNING = 986898
PERL5_CPAN_IS_RUNNING = 986898
PERL5_CPAN_IS_RUNNING_IN_RECURSION = 986613,986898
PERLBREW_HOME = /home/njh/.perlbrew
PERLBREW_MANPATH = /home/njh/perl5/perlbrew/perls/perl-5.16.1/man
PERLBREW_PATH = /home/njh/perl5/perlbrew/bin:/home/njh/perl5/perlbrew/perls/perl-5.16.1/bin
PERLBREW_PERL = perl-5.16.1
PERLBREW_ROOT = /home/njh/perl5/perlbrew
PERLBREW_SHELLRC_VERSION = 0.86
PERLBREW_VERSION = 0.86
PERL_USE_UNSAFE_INC = 1
SHELL = /bin/sh
TEMP = /tmp/user/1000
TMPDIR = /tmp/user/1000/testwrapper.986883
Perl special variables (and OS-specific diagnostics, for MSWin32):
$^X = /home/njh/perl5/perlbrew/perls/perl-5.16.1/bin/perl5.16.1
$UID/$EUID = 1000 / 1000
$GID = 1000 4 24 25 29 30 44 46 103 108 115 123 996 1000
$EGID = 1000 4 24 25 29 30 44 46 103 108 115 123 996 1000
Perl module toolchain versions installed:
Module Have
------------------- --------
CPAN 2.27
CPAN::Meta 2.143240
Cwd 3.75
ExtUtils::CBuilder 0.280206
ExtUtils::Command 7.42
ExtUtils::Install 2.06
ExtUtils::MakeMaker 7.42
ExtUtils::Manifest 1.70
ExtUtils::ParseXS 3.16
File::Spec 3.75
JSON 4.02
JSON::PP 2.27203
Module::Build 0.4229
Module::Signature n/a
Parse::CPAN::Meta 1.4414
Test::Harness 3.42
Test::More 1.302168
YAML 1.30
YAML::Syck 1.32
version 0.99
--
Summary of my perl5 (revision 5 version 16 subversion 1) configuration:
Platform:
osname=linux, osvers=4.16.0-2-amd64, archname=x86_64-linux
uname='linux amelia 4.16.0-2-amd64 #1 smp debian 4.16.16-2 (2018-06-22) x86_64 gnulinux '
config_args='-de -Dprefix=/home/njh/perl5/perlbrew/perls/perl-5.16.1 -Dusedevel -Accflags= -Aeval:scriptdir=/home/njh/perl5/perlbrew/perls/perl-5.16.1/bin'
hint=recommended, useposix=true, d_sigaction=define
useithreads=undef, usemultiplicity=undef
useperlio=define, d_sfio=undef, uselargefiles=define, usesocks=undef
use64bitint=define, use64bitall=define, uselongdouble=undef
usemymalloc=n, bincompat5005=undef
Compiler:
cc='cc', ccflags ='-fno-strict-aliasing -pipe -fstack-protector -I/usr/local/include -D_LARGEFILE_SOURCE -D_FILE_OFFSET_BITS=64',
optimize='-O2',
cppflags='-fno-strict-aliasing -pipe -fstack-protector -I/usr/local/include'
ccversion='', gccversion='9.2.1 20191102', gccosandvers=''
intsize=4, longsize=8, ptrsize=8, doublesize=8, byteorder=12345678
d_longlong=define, longlongsize=8, d_longdbl=define, longdblsize=16
ivtype='long', ivsize=8, nvtype='double', nvsize=8, Off_t='off_t', lseeksize=8
alignbytes=8, prototype=define
Linker and Libraries:
ld='cc', ldflags =' -fstack-protector -L/usr/local/lib'
libpth=/usr/local/lib /lib/x86_64-linux-gnu /lib/../lib /usr/lib/x86_64-linux-gnu /usr/lib/../lib /lib /usr/lib
libs=-lnsl -lgdbm -ldb -ldl -lm -lcrypt -lutil -lc
perllibs=-lnsl -ldl -lm -lcrypt -lutil -lc
libc=libc-2.29.so, so=so, useshrplib=false, libperl=libperl.a
gnulibc_version='2.29'
Dynamic Linking:
dlsrc=dl_dlopen.xs, dlext=so, d_dlsymun=undef, ccdlflags='-Wl,-E'
cccdlflags='-fPIC', lddlflags='-shared -O2 -L/usr/local/lib -fstack-protector'
Characteristics of this binary (from libperl):
Compile-time options: HAS_TIMES PERLIO_LAYERS PERL_DONT_CREATE_GVSV
PERL_MALLOC_WRAP PERL_PRESERVE_IVUV PERL_USE_DEVEL
USE_64_BIT_ALL USE_64_BIT_INT USE_LARGE_FILES
USE_LOCALE USE_LOCALE_COLLATE USE_LOCALE_CTYPE
USE_LOCALE_NUMERIC USE_PERLIO USE_PERL_ATOF
Locally applied patches:
Devel::PatchPerl 1.48
Built under linux
Compiled at Nov 7 2019 00:33:22
%ENV:
PERL5LIB="/tmp/build/Sub-Name-0.26-0/blib/arch:/tmp/build/Sub-Name-0.26-0/blib/lib:/tmp/build/Class-XSAccessor-1.19-0/blib/arch:/tmp/build/Class-XSAccessor-1.19-0/blib/lib"
PERL5OPT=""
PERL5_CPANPLUS_IS_RUNNING="986898"
PERL5_CPAN_IS_RUNNING="986898"
PERL5_CPAN_IS_RUNNING_IN_RECURSION="986613,986898"
PERLBREW_HOME="/home/njh/.perlbrew"
PERLBREW_MANPATH="/home/njh/perl5/perlbrew/perls/perl-5.16.1/man"
PERLBREW_PATH="/home/njh/perl5/perlbrew/bin:/home/njh/perl5/perlbrew/perls/perl-5.16.1/bin"
PERLBREW_PERL="perl-5.16.1"
PERLBREW_ROOT="/home/njh/perl5/perlbrew"
PERLBREW_SHELLRC_VERSION="0.86"
PERLBREW_VERSION="0.86"
PERL_USE_UNSAFE_INC="1"
@INC:
/tmp/build/Sub-Name-0.26-0/blib/arch
/tmp/build/Sub-Name-0.26-0/blib/lib
/tmp/build/Class-XSAccessor-1.19-0/blib/arch
/tmp/build/Class-XSAccessor-1.19-0/blib/lib
/home/njh/perl5/perlbrew/perls/perl-5.16.1/lib/site_perl/5.16.1/x86_64-linux
/home/njh/perl5/perlbrew/perls/perl-5.16.1/lib/site_perl/5.16.1
/home/njh/perl5/perlbrew/perls/perl-5.16.1/lib/5.16.1/x86_64-linux
/home/njh/perl5/perlbrew/perls/perl-5.16.1/lib/5.16.1
.