Report for DBIx-Schema-Changelog-0.9.0

Back
From: metabase:user:320bfe00-2aae-11df-837a-5e0a49663a4f
Subject: PASS DBIx-Schema-Changelog-0.9.0 v5.26.0 GNU/Linux
Date: 2017-06-18T21:05:19Z

This distribution has been tested as part of the CPAN Testers
project, supporting the Perl programming language.  See
http://wiki.cpantesters.org/ for more information or email
questions to cpan-testers-discuss@perl.org


--
Dear Mario Zieschang,

This is a computer-generated report for DBIx-Schema-Changelog-0.9.0
on perl 5.26.0, created by CPAN-Reporter-1.2018.

Thank you for uploading your work to CPAN.  Congratulations!
All tests were successful.

Sections of this report:

    * Tester comments
    * Program output
    * Prerequisites
    * Environment and other context

------------------------------
TESTER COMMENTS
------------------------------

Additional comments from tester:

this report is from an automated smoke testing program
and was not reviewed by a human for accuracy

------------------------------
PROGRAM OUTPUT
------------------------------

Output from '/usr/bin/make test':

PERL_DL_NONLAZY=1 "/tmp/basesmoker-reloperl-ue0V/bin/perl" "-MExtUtils::Command::MM" "-MTest::Harness" "-e" "undef *Test::Harness::Switches; test_harness(0, 'blib/lib', 'blib/arch')" t/*.t
t/00-load.t ......... ok
t/010-changelog.t ... ok
t/020-driver.t ...... ok
DBIx::Schema::Changelog::File::Yaml. Read changelog file '/tmp/loop_over_bdir-30686-2DMvA3/DBIx-Schema-Changelog-0.9.0-0/t/data/changelog/changelog.yml'. 
DBIx::Schema::Changelog::File::Yaml. Read changelog file '/tmp/loop_over_bdir-30686-2DMvA3/DBIx-Schema-Changelog-0.9.0-0/t/data/changelog/changelog-01.yml'. 
DBIx::Schema::Changelog::Action::Indices (37) Create index is not supported!  
DBIx::Schema::Changelog::Action::Sql (35). WARNING: Execute sql statements can lead very likely to incompatibilities.
DBIx::Schema::Changelog::Action::Columns (98) Drop column is not supported!
DBIx::Schema::Changelog::Action::Tables (197). Add constraint is not supported!
DBIx::Schema::Changelog::Action::Tables (197). Add constraint is not supported!
t/021-sqlite.t ...... ok
t/030-changeset.t ... ok
t/040-action.t ...... ok
DBIx::Schema::Changelog::Action::Columns (84) Alter column is not supported!
DBIx::Schema::Changelog::Action::Columns (98) Drop column is not supported!
t/0401-column.t ..... ok
t/0403-indices.t .... ok
t/0404-table.t ...... ok
t/0405-views.t ...... ok
t/0406-sql.t ........ ok
t/0408-default.t .... ok
t/0409-functions.t .. ok
t/0411-entries.t .... ok
t/051-base.t ........ ok
t/052-driver.t ...... ok
t/053-file.t ........ ok
DBIx::Schema::Changelog::File::Yaml. Read changelog file '/tmp/loop_over_bdir-30686-2DMvA3/DBIx-Schema-Changelog-0.9.0-0/t/../.tmp/changelog/changelog.yml'. 
DBIx::Schema::Changelog::File::Yaml. Read changelog file '/tmp/loop_over_bdir-30686-2DMvA3/DBIx-Schema-Changelog-0.9.0-0/t/../.tmp/changelog/changelog-01.yml'. 
t/054-changeset.t ... ok
t/060-file.t ........ ok
DBIx::Schema::Changelog::File::Yaml. Read changelog file '/tmp/loop_over_bdir-30686-2DMvA3/DBIx-Schema-Changelog-0.9.0-0/t/data/changelog/changelog.yml'. 
DBIx::Schema::Changelog::File::Yaml. Read changelog file '/tmp/loop_over_bdir-30686-2DMvA3/DBIx-Schema-Changelog-0.9.0-0/t/data/changelog/changelog-01.yml'. 
t/061-yaml.t ........ ok
Could not remove /tmp/loop_over_bdir-30686-2DMvA3/DBIx-Schema-Changelog-0.9.0-0/t/../.tmp: No such file or directory at t/999-delete.t line 17.
t/999-delete.t ...... ok
t/boilerplate.t ..... ok
t/manifest.t ........ skipped: Author tests not required for installation
t/pod-coverage.t .... skipped: Author tests not required for installation
t/pod-spelling.t .... skipped: Author tests not required for installation
t/pod.t ............. skipped: Author tests not required for installation
All tests successful.

Test Summary Report
-------------------
t/boilerplate.t   (Wstat: 0 Tests: 5 Failed: 0)
  TODO passed:   1-3
Files=26, Tests=156,  9 wallclock secs ( 0.15 usr  0.11 sys +  5.75 cusr  0.60 csys =  6.61 CPU)
Result: PASS

------------------------------
PREREQUISITES
------------------------------

Prerequisite modules loaded:

requires:

    Module                       Need     Have    
    ---------------------------- -------- --------
    DBD::SQLite                  1.4      1.54    
    DBI                          1.632    1.634   
    File::Spec                   0        3.67    
    FindBin                      0        1.51    
    Getopt::Long                 2.42     2.5     
    Hash::MD5                    0.08     0.08    
    Moose                        2.1403   2.2005  
    MooseX::HasDefaults::RO      0        0       
    MooseX::Types::LoadableClass 0.013    0.015   
    MooseX::Types::Moose         0.45     0.50    
    MooseX::Types::Path::Class   0.06     0.09    
    MooseX::Types::PerlVersion   0.002    0.002   
    perl                         5.010000 5.026000
    SQL::Abstract                1.81     1.84    
    Time::Piece                  1.27     1.31    
    YAML                         1.13     1.23    
    YAML::XS                     0.55     0.65    

build_requires:

    Module                       Need     Have    
    ---------------------------- -------- --------
    ExtUtils::MakeMaker          0        7.30    
    Pod::Coverage::TrustPod      0        0.100003
    Pod::Usage                   0        1.69    
    Test::CheckManifest          0        1.31    
    Test::Cmd                    0        1.09    
    Test::Exception              0        0.43    
    Test::Pod::Coverage          0        1.10    
    Test::Requires               0        0.10    
    Test::Spelling               0        0.20    

configure_requires:

    Module                       Need     Have    
    ---------------------------- -------- --------
    ExtUtils::MakeMaker          0        7.30    


------------------------------
ENVIRONMENT AND OTHER CONTEXT
------------------------------

Environment variables:

    AUTOMATED_TESTING = 1
    LANG = C
    PATH = /home/sand/bin:/usr/local/bin:/usr/bin:/bin:/usr/games:/usr/local/perl/bin:/usr/X11/bin:/sbin:/usr/sbin
    PERL5LIB = 
    PERL5OPT = 
    PERL5_CPANPLUS_IS_RUNNING = 16937
    PERL5_CPAN_IS_RUNNING = 16937
    PERL_CANARY_STABILITY_NOPROMPT = 1
    PERL_MM_USE_DEFAULT = 1
    PERL_USE_UNSAFE_INC = 1
    SHELL = /usr/bin/zsh
    TERM = screen

Perl special variables (and OS-specific diagnostics, for MSWin32):

    $^X = /tmp/basesmoker-reloperl-ue0V/bin/perl
    $UID/$EUID = 1005 / 1005
    $GID = 1005 1005
    $EGID = 1005 1005

Perl module toolchain versions installed:

    Module              Have    
    ------------------- --------
    CPAN                2.18    
    CPAN::Meta          2.150010
    Cwd                 3.67    
    ExtUtils::CBuilder  0.280225
    ExtUtils::Command   7.30    
    ExtUtils::Install   2.14    
    ExtUtils::MakeMaker 7.30    
    ExtUtils::Manifest  1.70    
    ExtUtils::ParseXS   3.34    
    File::Spec          3.67    
    JSON                2.94    
    JSON::PP            2.94    
    Module::Build       0.4224  
    Module::Signature   0.81    
    Parse::CPAN::Meta   2.150010
    Test::Harness       3.39    
    Test::More          1.302085
    YAML                1.23    
    YAML::Syck          1.30    
    version             0.9918  


--

Summary of my perl5 (revision 5 version 26 subversion 0) configuration:
  Commit id: 95388f2eb27e74cdbfb715c0097f16aeba4e6e4e
  Platform:
    osname=linux
    osvers=4.9.0-3-amd64
    archname=x86_64-linux-thread-multi-ld
    uname='linux k93stretch 4.9.0-3-amd64 #1 smp debian 4.9.30-2 (2017-06-12) x86_64 gnulinux '
    config_args='-Dprefix=/home/sand/src/perl/repoperls/installed-perls/host/k93stretch/v5.26.0/ccee -Dmyhostname=k93stretch -Dinstallusrbinperl=n -Uversiononly -Dusedevel -des -Ui_db -Dlibswanted=cl pthread socket inet nsl gdbm dbm malloc dl ld sun m crypt sec util c cposix posix ucb BSD gdbm_compat -Duseithreads -Duselongdouble -DDEBUGGING=-g'
    hint=recommended
    useposix=true
    d_sigaction=define
    useithreads=define
    usemultiplicity=define
    use64bitint=define
    use64bitall=define
    uselongdouble=define
    usemymalloc=n
    default_inc_excludes_dot=define
    bincompat5005=undef
  Compiler:
    cc='cc'
    ccflags ='-D_REENTRANT -D_GNU_SOURCE -fwrapv -fno-strict-aliasing -pipe -fstack-protector-strong -I/usr/local/include -D_LARGEFILE_SOURCE -D_FILE_OFFSET_BITS=64'
    optimize='-O2 -g'
    cppflags='-D_REENTRANT -D_GNU_SOURCE -fwrapv -fno-strict-aliasing -pipe -fstack-protector-strong -I/usr/local/include'
    ccversion=''
    gccversion='6.3.0 20170516'
    gccosandvers=''
    intsize=4
    longsize=8
    ptrsize=8
    doublesize=8
    byteorder=12345678
    doublekind=3
    d_longlong=define
    longlongsize=8
    d_longdbl=define
    longdblsize=16
    longdblkind=3
    ivtype='long'
    ivsize=8
    nvtype='long double'
    nvsize=16
    Off_t='off_t'
    lseeksize=8
    alignbytes=16
    prototype=define
  Linker and Libraries:
    ld='cc'
    ldflags =' -fstack-protector-strong -L/usr/local/lib'
    libpth=/usr/local/lib /usr/lib/gcc/x86_64-linux-gnu/6/include-fixed /usr/include/x86_64-linux-gnu /usr/lib /lib/x86_64-linux-gnu /lib/../lib /usr/lib/x86_64-linux-gnu /usr/lib/../lib /lib
    libs=-lpthread -lnsl -ldl -lm -lcrypt -lutil -lc
    perllibs=-lpthread -lnsl -ldl -lm -lcrypt -lutil -lc
    libc=libc-2.24.so
    so=so
    useshrplib=false
    libperl=libperl.a
    gnulibc_version='2.24'
  Dynamic Linking:
    dlsrc=dl_dlopen.xs
    dlext=so
    d_dlsymun=undef
    ccdlflags='-Wl,-E'
    cccdlflags='-fPIC'
    lddlflags='-shared -O2 -g -L/usr/local/lib -fstack-protector-strong'


Characteristics of this binary (from libperl): 
  Compile-time options:
    HAS_TIMES
    MULTIPLICITY
    PERLIO_LAYERS
    PERL_COPY_ON_WRITE
    PERL_DONT_CREATE_GVSV
    PERL_IMPLICIT_CONTEXT
    PERL_MALLOC_WRAP
    PERL_OP_PARENT
    PERL_PRESERVE_IVUV
    PERL_USE_DEVEL
    USE_64_BIT_ALL
    USE_64_BIT_INT
    USE_ITHREADS
    USE_LARGE_FILES
    USE_LOCALE
    USE_LOCALE_COLLATE
    USE_LOCALE_CTYPE
    USE_LOCALE_NUMERIC
    USE_LOCALE_TIME
    USE_LONG_DOUBLE
    USE_PERLIO
    USE_PERL_ATOF
    USE_REENTRANT_API
  Built under linux
  Compiled at Jun 17 2017 07:49:37
  %ENV:
    PERL5LIB=""
    PERL5OPT=""
    PERL5_CPANPLUS_IS_RUNNING="16937"
    PERL5_CPAN_IS_RUNNING="16937"
    PERL_CANARY_STABILITY_NOPROMPT="1"
    PERL_MM_USE_DEFAULT="1"
    PERL_USE_UNSAFE_INC="1"
  @INC:
    /home/sand/src/perl/repoperls/installed-perls/host/k93stretch/v5.26.0/ccee/lib/site_perl/5.26.0/x86_64-linux-thread-multi-ld
    /home/sand/src/perl/repoperls/installed-perls/host/k93stretch/v5.26.0/ccee/lib/site_perl/5.26.0
    /home/sand/src/perl/repoperls/installed-perls/host/k93stretch/v5.26.0/ccee/lib/5.26.0/x86_64-linux-thread-multi-ld
    /home/sand/src/perl/repoperls/installed-perls/host/k93stretch/v5.26.0/ccee/lib/5.26.0
    .