HTML-FormFu-MultiForm v1.03 Perl 5 v5.30.1 x86_64-linux-ld

Status
Pass
From
Chris Williams (BINGOS)
Dist
HTML-FormFu-MultiForm v1.03
Platform
Perl 5 v5.30.1 x86_64-linux-ld
Date
2024-11-23 07:44:57
ID
d630a6a8-a96e-11ef-98b0-b3c3213a625c
This distribution has been tested as part of the CPAN Testers
project, supporting the Perl programming language.  See
http://wiki.cpantesters.org/ for more information or email
questions to cpan-testers-discuss@perl.org


--

Dear Nigel Metheringham,

This is a computer-generated error report created automatically by
CPANPLUS, version 0.9914. Testers personal comments may appear
at the end of this report.


Thank you for uploading your work to CPAN.  Congratulations!
All tests were successful.

TEST RESULTS:

Below is the error stack from stage 'make test':

PERL_DL_NONLAZY=1 "/home/cpan/pit/bare-ld/perl-5.30.1/bin/perl" "-MExtUtils::Command::MM" "-MTest::Harness" "-e" "undef *Test::Harness::Switches; test_harness(0, 'blib/lib', 'blib/arch')" t/*.t t/multiform-misc/*.t t/multiform-nested-name/*.t t/multiform-no-combine/*.t t/multiform/*.t t/multiform_hidden_name/*.t
# 
# Versions for all modules listed in MYMETA.json (including optional ones):
# 
# === Configure Requires ===
# 
#     Module              Want Have
#     ------------------- ---- ----
#     ExtUtils::MakeMaker  any 7.70
# 
# === Build Requires ===
# 
#     Module              Want Have
#     ------------------- ---- ----
#     ExtUtils::MakeMaker  any 7.70
# 
# === Test Requires ===
# 
#     Module              Want     Have
#     ------------------- ---- --------
#     Cwd                  any     3.78
#     ExtUtils::MakeMaker  any     7.70
#     Fatal                any     2.29
#     File::Spec           any     3.78
#     Test::More          0.92 1.302204
#     YAML::XS             any v0.902.0
#     warnings             any     1.44
# 
# === Test Recommends ===
# 
#     Module         Want     Have
#     ---------- -------- --------
#     CPAN::Meta 2.120900 2.150010
# 
# === Runtime Requires ===
# 
#     Module                                       Want   Have
#     -------------------------------------------- ---- ------
#     Carp                                          any   1.50
#     Clone                                         any   0.47
#     Crypt::CBC                                    any   3.04
#     Crypt::DES                                    any   2.07
#     HTML::FormFu                                  any   2.07
#     HTML::FormFu::Attribute                       any   2.07
#     HTML::FormFu::ObjectUtil                      any   2.07
#     HTML::FormFu::QueryType::CGI                  any   2.07
#     HTML::FormFu::Role::FormAndElementMethods     any   2.07
#     HTML::FormFu::Role::FormBlockAndFieldMethods  any   2.07
#     HTML::FormFu::Role::NestedHashUtils           any   2.07
#     HTML::FormFu::Role::Populate                  any   2.07
#     List::MoreUtils                               any  0.430
#     Moose                                         any 2.2207
#     MooseX::Attribute::Chained                    any  1.0.3
#     Scalar::Util                                  any   1.68
#     Storable                                      any   3.25
#     overload                                      any   1.30
#     strict                                        any   1.11
# 
t/00-report-prereqs.t ........................ ok
t/multiform-misc-file-client-side.t .......... skipped: CGI tmp_upload_dir functionality makes this unusable on modern versions
WARNING: The key derivation method "opensslv1" is deprecated. Using -pbkdf=>'pbkdf2' would be better.
Pass -nodeprecate=>1 to inhibit this message.
 at /home/cpan/pit/bare-ld/conf/perl-5.30.1/.cpanplus/5.30.1/build/mV0lLSVsS_/HTML-FormFu-MultiForm-1.03/blib/lib/HTML/FormFu/MultiForm.pm line 533.
t/multiform-misc/accessors.t ................. ok
t/multiform-misc/file-server-side.t .......... skipped: CGI tmp_upload_dir functionality makes this unusable on modern versions
t/multiform-nested-name/0_render_page_1.t .... ok
t/multiform-nested-name/1_submit_page_1.t .... ok
WARNING: The key derivation method "opensslv1" is deprecated. Using -pbkdf=>'pbkdf2' would be better.
Pass -nodeprecate=>1 to inhibit this message.
 at /home/cpan/pit/bare-ld/conf/perl-5.30.1/.cpanplus/5.30.1/build/mV0lLSVsS_/HTML-FormFu-MultiForm-1.03/blib/lib/HTML/FormFu/MultiForm.pm line 533.
WARNING: The key derivation method "opensslv1" is deprecated. Using -pbkdf=>'pbkdf2' would be better.
Pass -nodeprecate=>1 to inhibit this message.
 at /home/cpan/pit/bare-ld/conf/perl-5.30.1/.cpanplus/5.30.1/build/mV0lLSVsS_/HTML-FormFu-MultiForm-1.03/blib/lib/HTML/FormFu/MultiForm.pm line 533.
t/multiform-nested-name/2_render_page_2.t .... ok
WARNING: The key derivation method "opensslv1" is deprecated. Using -pbkdf=>'pbkdf2' would be better.
Pass -nodeprecate=>1 to inhibit this message.
 at /home/cpan/pit/bare-ld/conf/perl-5.30.1/.cpanplus/5.30.1/build/mV0lLSVsS_/HTML-FormFu-MultiForm-1.03/blib/lib/HTML/FormFu/MultiForm.pm line 533.
WARNING: The key derivation method "opensslv1" is deprecated. Using -pbkdf=>'pbkdf2' would be better.
Pass -nodeprecate=>1 to inhibit this message.
 at /home/cpan/pit/bare-ld/conf/perl-5.30.1/.cpanplus/5.30.1/build/mV0lLSVsS_/HTML-FormFu-MultiForm-1.03/blib/lib/HTML/FormFu/MultiForm.pm line 533.
t/multiform-nested-name/3_submit_page_2.t .... ok
WARNING: The key derivation method "opensslv1" is deprecated. Using -pbkdf=>'pbkdf2' would be better.
Pass -nodeprecate=>1 to inhibit this message.
 at /home/cpan/pit/bare-ld/conf/perl-5.30.1/.cpanplus/5.30.1/build/mV0lLSVsS_/HTML-FormFu-MultiForm-1.03/blib/lib/HTML/FormFu/MultiForm.pm line 533.
WARNING: The key derivation method "opensslv1" is deprecated. Using -pbkdf=>'pbkdf2' would be better.
Pass -nodeprecate=>1 to inhibit this message.
 at /home/cpan/pit/bare-ld/conf/perl-5.30.1/.cpanplus/5.30.1/build/mV0lLSVsS_/HTML-FormFu-MultiForm-1.03/blib/lib/HTML/FormFu/MultiForm.pm line 533.
t/multiform-nested-name/4_complete_page_3.t .. ok
t/multiform-no-combine/0_render_page_1.t ..... ok
t/multiform-no-combine/1_submit_page_1.t ..... ok
WARNING: The key derivation method "opensslv1" is deprecated. Using -pbkdf=>'pbkdf2' would be better.
Pass -nodeprecate=>1 to inhibit this message.
 at /home/cpan/pit/bare-ld/conf/perl-5.30.1/.cpanplus/5.30.1/build/mV0lLSVsS_/HTML-FormFu-MultiForm-1.03/blib/lib/HTML/FormFu/MultiForm.pm line 533.
WARNING: The key derivation method "opensslv1" is deprecated. Using -pbkdf=>'pbkdf2' would be better.
Pass -nodeprecate=>1 to inhibit this message.
 at /home/cpan/pit/bare-ld/conf/perl-5.30.1/.cpanplus/5.30.1/build/mV0lLSVsS_/HTML-FormFu-MultiForm-1.03/blib/lib/HTML/FormFu/MultiForm.pm line 533.
t/multiform-no-combine/2_render_page_2.t ..... ok
WARNING: The key derivation method "opensslv1" is deprecated. Using -pbkdf=>'pbkdf2' would be better.
Pass -nodeprecate=>1 to inhibit this message.
 at /home/cpan/pit/bare-ld/conf/perl-5.30.1/.cpanplus/5.30.1/build/mV0lLSVsS_/HTML-FormFu-MultiForm-1.03/blib/lib/HTML/FormFu/MultiForm.pm line 533.
WARNING: The key derivation method "opensslv1" is deprecated. Using -pbkdf=>'pbkdf2' would be better.
Pass -nodeprecate=>1 to inhibit this message.
 at /home/cpan/pit/bare-ld/conf/perl-5.30.1/.cpanplus/5.30.1/build/mV0lLSVsS_/HTML-FormFu-MultiForm-1.03/blib/lib/HTML/FormFu/MultiForm.pm line 533.
t/multiform-no-combine/3_submit_page_2.t ..... ok
WARNING: The key derivation method "opensslv1" is deprecated. Using -pbkdf=>'pbkdf2' would be better.
Pass -nodeprecate=>1 to inhibit this message.
 at /home/cpan/pit/bare-ld/conf/perl-5.30.1/.cpanplus/5.30.1/build/mV0lLSVsS_/HTML-FormFu-MultiForm-1.03/blib/lib/HTML/FormFu/MultiForm.pm line 533.
WARNING: The key derivation method "opensslv1" is deprecated. Using -pbkdf=>'pbkdf2' would be better.
Pass -nodeprecate=>1 to inhibit this message.
 at /home/cpan/pit/bare-ld/conf/perl-5.30.1/.cpanplus/5.30.1/build/mV0lLSVsS_/HTML-FormFu-MultiForm-1.03/blib/lib/HTML/FormFu/MultiForm.pm line 533.
t/multiform-no-combine/4_complete_page_3.t ... ok
t/multiform/0_render_page_1.t ................ ok
t/multiform/1_submit_page_1.t ................ ok
WARNING: The key derivation method "opensslv1" is deprecated. Using -pbkdf=>'pbkdf2' would be better.
Pass -nodeprecate=>1 to inhibit this message.
 at /home/cpan/pit/bare-ld/conf/perl-5.30.1/.cpanplus/5.30.1/build/mV0lLSVsS_/HTML-FormFu-MultiForm-1.03/blib/lib/HTML/FormFu/MultiForm.pm line 533.
WARNING: The key derivation method "opensslv1" is deprecated. Using -pbkdf=>'pbkdf2' would be better.
Pass -nodeprecate=>1 to inhibit this message.
 at /home/cpan/pit/bare-ld/conf/perl-5.30.1/.cpanplus/5.30.1/build/mV0lLSVsS_/HTML-FormFu-MultiForm-1.03/blib/lib/HTML/FormFu/MultiForm.pm line 533.
t/multiform/2_render_page_2.t ................ ok
WARNING: The key derivation method "opensslv1" is deprecated. Using -pbkdf=>'pbkdf2' would be better.
Pass -nodeprecate=>1 to inhibit this message.
 at /home/cpan/pit/bare-ld/conf/perl-5.30.1/.cpanplus/5.30.1/build/mV0lLSVsS_/HTML-FormFu-MultiForm-1.03/blib/lib/HTML/FormFu/MultiForm.pm line 533.
WARNING: The key derivation method "opensslv1" is deprecated. Using -pbkdf=>'pbkdf2' would be better.
Pass -nodeprecate=>1 to inhibit this message.
 at /home/cpan/pit/bare-ld/conf/perl-5.30.1/.cpanplus/5.30.1/build/mV0lLSVsS_/HTML-FormFu-MultiForm-1.03/blib/lib/HTML/FormFu/MultiForm.pm line 533.
t/multiform/3_submit_page_2.t ................ ok
WARNING: The key derivation method "opensslv1" is deprecated. Using -pbkdf=>'pbkdf2' would be better.
Pass -nodeprecate=>1 to inhibit this message.
 at /home/cpan/pit/bare-ld/conf/perl-5.30.1/.cpanplus/5.30.1/build/mV0lLSVsS_/HTML-FormFu-MultiForm-1.03/blib/lib/HTML/FormFu/MultiForm.pm line 533.
WARNING: The key derivation method "opensslv1" is deprecated. Using -pbkdf=>'pbkdf2' would be better.
Pass -nodeprecate=>1 to inhibit this message.
 at /home/cpan/pit/bare-ld/conf/perl-5.30.1/.cpanplus/5.30.1/build/mV0lLSVsS_/HTML-FormFu-MultiForm-1.03/blib/lib/HTML/FormFu/MultiForm.pm line 533.
t/multiform/4_complete_page_3.t .............. ok
t/multiform_hidden_name/0_render_page_1.t .... ok
t/multiform_hidden_name/1_submit_page_1.t .... ok
WARNING: The key derivation method "opensslv1" is deprecated. Using -pbkdf=>'pbkdf2' would be better.
Pass -nodeprecate=>1 to inhibit this message.
 at /home/cpan/pit/bare-ld/conf/perl-5.30.1/.cpanplus/5.30.1/build/mV0lLSVsS_/HTML-FormFu-MultiForm-1.03/blib/lib/HTML/FormFu/MultiForm.pm line 533.
WARNING: The key derivation method "opensslv1" is deprecated. Using -pbkdf=>'pbkdf2' would be better.
Pass -nodeprecate=>1 to inhibit this message.
 at /home/cpan/pit/bare-ld/conf/perl-5.30.1/.cpanplus/5.30.1/build/mV0lLSVsS_/HTML-FormFu-MultiForm-1.03/blib/lib/HTML/FormFu/MultiForm.pm line 533.
t/multiform_hidden_name/2_render_page_2.t .... ok
WARNING: The key derivation method "opensslv1" is deprecated. Using -pbkdf=>'pbkdf2' would be better.
Pass -nodeprecate=>1 to inhibit this message.
 at /home/cpan/pit/bare-ld/conf/perl-5.30.1/.cpanplus/5.30.1/build/mV0lLSVsS_/HTML-FormFu-MultiForm-1.03/blib/lib/HTML/FormFu/MultiForm.pm line 533.
WARNING: The key derivation method "opensslv1" is deprecated. Using -pbkdf=>'pbkdf2' would be better.
Pass -nodeprecate=>1 to inhibit this message.
 at /home/cpan/pit/bare-ld/conf/perl-5.30.1/.cpanplus/5.30.1/build/mV0lLSVsS_/HTML-FormFu-MultiForm-1.03/blib/lib/HTML/FormFu/MultiForm.pm line 533.
t/multiform_hidden_name/3_submit_page_2.t .... ok
WARNING: The key derivation method "opensslv1" is deprecated. Using -pbkdf=>'pbkdf2' would be better.
Pass -nodeprecate=>1 to inhibit this message.
 at /home/cpan/pit/bare-ld/conf/perl-5.30.1/.cpanplus/5.30.1/build/mV0lLSVsS_/HTML-FormFu-MultiForm-1.03/blib/lib/HTML/FormFu/MultiForm.pm line 533.
WARNING: The key derivation method "opensslv1" is deprecated. Using -pbkdf=>'pbkdf2' would be better.
Pass -nodeprecate=>1 to inhibit this message.
 at /home/cpan/pit/bare-ld/conf/perl-5.30.1/.cpanplus/5.30.1/build/mV0lLSVsS_/HTML-FormFu-MultiForm-1.03/blib/lib/HTML/FormFu/MultiForm.pm line 533.
t/multiform_hidden_name/4_complete_page_3.t .. ok
All tests successful.
Files=24, Tests=111, 12 wallclock secs ( 0.06 usr  0.03 sys + 10.95 cusr  0.78 csys = 11.82 CPU)
Result: PASS


PREREQUISITES:

Here is a list of prerequisites you specified and versions we
managed to load:

	  Module Name                        Have     Want
	  Carp                               1.50        0
	  Clone                              0.47        0
	  Crypt::CBC                         3.04        0
	  Crypt::DES                         2.07        0
	  Cwd                                3.78        0
	  ExtUtils::MakeMaker                7.70        0
	  Fatal                              2.29        0
	  File::Spec                         3.78        0
	  HTML::FormFu                       2.07        0
	  HTML::FormFu::Attribute            2.07        0
	  HTML::FormFu::ObjectUtil           2.07        0
	  HTML::FormFu::QueryType::CGI       2.07        0
	  HTML::FormFu::Role::FormAndElementMethods     2.07        0
	  HTML::FormFu::Role::FormBlockAndFieldMethods     2.07        0
	  HTML::FormFu::Role::NestedHashUtils     2.07        0
	  HTML::FormFu::Role::Populate       2.07        0
	  List::MoreUtils                   0.430        0
	  Moose                            2.2207        0
	  MooseX::Attribute::Chained        1.0.3        0
	  Scalar::Util                       1.68        0
	  Storable                           3.25        0
	  Test::More                     1.302204     0.92
	  YAML::XS                       v0.902.0        0
	  overload                           1.30        0
	  strict                             1.11        0
	  warnings                           1.44        0

Perl module toolchain versions installed:
	Module Name                        Have
	CPANPLUS                         0.9914
	CPANPLUS::Dist::Build              0.90
	Cwd                                3.78
	ExtUtils::CBuilder             0.280236
	ExtUtils::Command                  7.70
	ExtUtils::Install                  2.22
	ExtUtils::MakeMaker                7.70
	ExtUtils::Manifest                 1.75
	ExtUtils::ParseXS                  3.51
	File::Spec                         3.78
	Module::Build                    0.4234
	Pod::Parser                        1.63
	Pod::Simple                        3.35
	Test2                          1.302204
	Test::Harness                      3.48
	Test::More                     1.302204
	version                          0.9932

******************************** NOTE ********************************
The comments above are created mechanically, possibly without manual
checking by the sender.  As there are many people performing automatic
tests on each upload to CPAN, it is likely that you will receive
identical messages about the same problem.

If you believe that the message is mistaken, please reply to the first
one with correction and/or additional informations, and do not take
it personally.  We appreciate your patience. :)
**********************************************************************

Additional comments:


This report was machine-generated by CPANPLUS::Dist::YACSmoke 1.08.
Powered by minismokebox version 0.68

CPANPLUS is prefering Build.PL

------------------------------
ENVIRONMENT AND OTHER CONTEXT
------------------------------

Environment variables:

    AUTOMATED_TESTING = 1
    LANG = en_GB.UTF-8
    LANGUAGE = en_GB:en
    NONINTERACTIVE_TESTING = 1
    PATH = /usr/local/sbin:/usr/local/bin:/usr/sbin:/usr/bin:/sbin:/bin:/usr/games:/usr/local/games:/snap/bin
    PERL5LIB = /home/cpan/pit/jail/mIh17O5YPo/lib/perl5:/home/cpan/pit/bare-ld/conf/perl-5.30.1/.cpanplus/5.30.1/build/mV0lLSVsS_/HTML-FormFu-MultiForm-1.03/blib/lib:/home/cpan/pit/bare-ld/conf/perl-5.30.1/.cpanplus/5.30.1/build/mV0lLSVsS_/HTML-FormFu-MultiForm-1.03/blib/arch
    PERL5_CPANPLUS_IS_RUNNING = 418216
    PERL5_CPANPLUS_IS_VERSION = 0.9914
    PERL5_MINISMOKEBOX = 0.68
    PERL5_YACSMOKE_BASE = /home/cpan/pit/bare-ld/conf/perl-5.30.1
    PERL_EXTUTILS_AUTOINSTALL = --defaultdeps
    PERL_LOCAL_LIB_ROOT = /home/cpan/pit/jail/mIh17O5YPo
    PERL_MB_OPT = --install_base "/home/cpan/pit/jail/mIh17O5YPo"
    PERL_MM_OPT = INSTALL_BASE=/home/cpan/pit/jail/mIh17O5YPo
    PERL_MM_USE_DEFAULT = 1
    PERL_USE_UNSAFE_INC = 1
    SHELL = /bin/bash
    TERM = screen.xterm-256color

Perl special variables (and OS-specific diagnostics, for MSWin32):

    Perl: $^X = /home/cpan/pit/bare-ld/perl-5.30.1/bin/perl
    UID:  $<  = 1001
    EUID: $>  = 1001
    GID:  $(  = 1001 1001
    EGID: $)  = 1001 1001


-------------------------------


--

Summary of my perl5 (revision 5 version 30 subversion 1) configuration:
   
  Platform:
    osname=linux
    osvers=5.4.0-26-generic
    archname=x86_64-linux-ld
    uname='linux uchder 5.4.0-26-generic #30-ubuntu smp mon apr 20 16:58:30 utc 2020 x86_64 x86_64 x86_64 gnulinux '
    config_args='-des -Dprefix=/home/cpan/pit/bare-ld/perl-5.30.1 -Duselongdouble'
    hint=recommended
    useposix=true
    d_sigaction=define
    useithreads=undef
    usemultiplicity=undef
    use64bitint=define
    use64bitall=define
    uselongdouble=define
    usemymalloc=n
    default_inc_excludes_dot=define
    bincompat5005=undef
  Compiler:
    cc='cc'
    ccflags ='-fwrapv -fno-strict-aliasing -pipe -fstack-protector-strong -I/usr/local/include -D_LARGEFILE_SOURCE -D_FILE_OFFSET_BITS=64'
    optimize='-O2'
    cppflags='-fwrapv -fno-strict-aliasing -pipe -fstack-protector-strong -I/usr/local/include'
    ccversion=''
    gccversion='9.3.0'
    gccosandvers=''
    intsize=4
    longsize=8
    ptrsize=8
    doublesize=8
    byteorder=12345678
    doublekind=3
    d_longlong=define
    longlongsize=8
    d_longdbl=define
    longdblsize=16
    longdblkind=3
    ivtype='long'
    ivsize=8
    nvtype='long double'
    nvsize=16
    Off_t='off_t'
    lseeksize=8
    alignbytes=16
    prototype=define
  Linker and Libraries:
    ld='cc'
    ldflags =' -fstack-protector-strong -L/usr/local/lib'
    libpth=/usr/local/lib /usr/include/x86_64-linux-gnu /usr/lib /lib/x86_64-linux-gnu /lib/../lib /usr/lib/x86_64-linux-gnu /usr/lib/../lib /lib
    libs=-lpthread -lnsl -lgdbm -ldl -lm -lcrypt -lutil -lc
    perllibs=-lpthread -lnsl -ldl -lm -lcrypt -lutil -lc
    libc=libc-2.31.so
    so=so
    useshrplib=false
    libperl=libperl.a
    gnulibc_version='2.31'
  Dynamic Linking:
    dlsrc=dl_dlopen.xs
    dlext=so
    d_dlsymun=undef
    ccdlflags='-Wl,-E'
    cccdlflags='-fPIC'
    lddlflags='-shared -O2 -L/usr/local/lib -fstack-protector-strong'


Characteristics of this binary (from libperl): 
  Compile-time options:
    HAS_TIMES
    PERLIO_LAYERS
    PERL_COPY_ON_WRITE
    PERL_DONT_CREATE_GVSV
    PERL_MALLOC_WRAP
    PERL_OP_PARENT
    PERL_PRESERVE_IVUV
    USE_64_BIT_ALL
    USE_64_BIT_INT
    USE_LARGE_FILES
    USE_LOCALE
    USE_LOCALE_COLLATE
    USE_LOCALE_CTYPE
    USE_LOCALE_NUMERIC
    USE_LOCALE_TIME
    USE_LONG_DOUBLE
    USE_PERLIO
    USE_PERL_ATOF
  Locally applied patches:
    Devel::PatchPerl 1.90
  Built under linux
  Compiled at Apr 26 2020 22:16:20
  %ENV:
    PERL5LIB="/home/cpan/pit/jail/mIh17O5YPo/lib/perl5:/home/cpan/pit/bare-ld/conf/perl-5.30.1/.cpanplus/5.30.1/build/mV0lLSVsS_/HTML-FormFu-MultiForm-1.03/blib/lib:/home/cpan/pit/bare-ld/conf/perl-5.30.1/.cpanplus/5.30.1/build/mV0lLSVsS_/HTML-FormFu-MultiForm-1.03/blib/arch"
    PERL5_CPANPLUS_IS_RUNNING="418216"
    PERL5_CPANPLUS_IS_VERSION="0.9914"
    PERL5_MINISMOKEBOX="0.68"
    PERL5_YACSMOKE_BASE="/home/cpan/pit/bare-ld/conf/perl-5.30.1"
    PERL_EXTUTILS_AUTOINSTALL="--defaultdeps"
    PERL_LOCAL_LIB_ROOT="/home/cpan/pit/jail/mIh17O5YPo"
    PERL_MB_OPT="--install_base "/home/cpan/pit/jail/mIh17O5YPo""
    PERL_MM_OPT="INSTALL_BASE=/home/cpan/pit/jail/mIh17O5YPo"
    PERL_MM_USE_DEFAULT="1"
    PERL_USE_UNSAFE_INC="1"
  @INC:
    /home/cpan/pit/jail/mIh17O5YPo/lib/perl5/5.30.1/x86_64-linux-ld
    /home/cpan/pit/jail/mIh17O5YPo/lib/perl5/5.30.1
    /home/cpan/pit/jail/mIh17O5YPo/lib/perl5/x86_64-linux-ld
    /home/cpan/pit/jail/mIh17O5YPo/lib/perl5
    /home/cpan/pit/bare-ld/conf/perl-5.30.1/.cpanplus/5.30.1/build/mV0lLSVsS_/HTML-FormFu-MultiForm-1.03/blib/lib
    /home/cpan/pit/bare-ld/conf/perl-5.30.1/.cpanplus/5.30.1/build/mV0lLSVsS_/HTML-FormFu-MultiForm-1.03/blib/arch
    /home/cpan/pit/bare-ld/perl-5.30.1/lib/site_perl/5.30.1/x86_64-linux-ld
    /home/cpan/pit/bare-ld/perl-5.30.1/lib/site_perl/5.30.1
    /home/cpan/pit/bare-ld/perl-5.30.1/lib/5.30.1/x86_64-linux-ld
    /home/cpan/pit/bare-ld/perl-5.30.1/lib/5.30.1
    .