HTTP-Session2 v1.10 Perl 5 v5.20.3 x86_64-linux

Status
Pass
From
Slaven Rezić (SREZIC)
Dist
HTTP-Session2 v1.10
Platform
Perl 5 v5.20.3 x86_64-linux
Date
2018-01-26 06:33:35
ID
d63aaf32-0262-11e8-86cd-f76f6ee1ca60
This distribution has been tested as part of the CPAN Testers
project, supporting the Perl programming language.  See
http://wiki.cpantesters.org/ for more information or email
questions to cpan-testers-discuss@perl.org


--
Dear Author,

This is a computer-generated report for HTTP-Session2-1.10
on perl 5.20.3, created by CPAN-Reporter-1.2018.

Thank you for uploading your work to CPAN.  Congratulations!
All tests were successful.

Sections of this report:

    * Tester comments
    * Program output
    * Prerequisites
    * Environment and other context

------------------------------
TESTER COMMENTS
------------------------------

Additional comments from tester:

none provided

------------------------------
PROGRAM OUTPUT
------------------------------

Output from './Build test':

t/00_compile.t .............. ok
Secret string too short at /home/cpansand/.cpan/build/2018012603/HTTP-Session2-1.10-0/blib/lib/HTTP/Session2/Base.pm line 79.
	HTTP::Session2::Base::__ANON__(HTTP::Session2::ServerStore=HASH(0x1d84608), "s3cret") called at t/01_server_side.t line 23
	main::__ANON__("client -> server: request without cookie", CODE(0x1d84020)) called at t/01_server_side.t line 25
	main::__ANON__() called at /opt/perl-5.20.3/lib/site_perl/5.20.3/Test/Builder.pm line 337
	eval {...} called at /opt/perl-5.20.3/lib/site_perl/5.20.3/Test/Builder.pm line 337
	Test::Builder::subtest(Test::Builder=HASH(0x1d9ce90), "First request", CODE(0x25ec078)) called at /opt/perl-5.20.3/lib/site_perl/5.20.3/Test/More.pm line 807
	Test::More::subtest("First request", CODE(0x25ec078)) called at t/01_server_side.t line 11
	main::scenario("First request", CODE(0x25ec078)) called at t/01_server_side.t line 31
Secret string too short at /home/cpansand/.cpan/build/2018012603/HTTP-Session2-1.10-0/blib/lib/HTTP/Session2/Base.pm line 79.
	HTTP::Session2::Base::__ANON__(HTTP::Session2::ServerStore=HASH(0x2683aa8), "s3cret") called at t/01_server_side.t line 40
	main::__ANON__("client -> server: request without cookie", CODE(0x1d849e0)) called at t/01_server_side.t line 42
	main::__ANON__() called at /opt/perl-5.20.3/lib/site_perl/5.20.3/Test/Builder.pm line 337
	eval {...} called at /opt/perl-5.20.3/lib/site_perl/5.20.3/Test/Builder.pm line 337
	Test::Builder::subtest(Test::Builder=HASH(0x1d9ce90), "Store something without login", CODE(0x23b7460)) called at /opt/perl-5.20.3/lib/site_perl/5.20.3/Test/More.pm line 807
	Test::More::subtest("Store something without login", CODE(0x23b7460)) called at t/01_server_side.t line 11
	main::scenario("Store something without login", CODE(0x23b7460)) called at t/01_server_side.t line 58
Secret string too short at /home/cpansand/.cpan/build/2018012603/HTTP-Session2-1.10-0/blib/lib/HTTP/Session2/Base.pm line 79.
	HTTP::Session2::Base::__ANON__(HTTP::Session2::ServerStore=HASH(0x268fc20), "s3cret") called at t/01_server_side.t line 70
	main::__ANON__("client -> server: request without cookie", CODE(0x260cb98)) called at t/01_server_side.t line 72
	main::__ANON__() called at /opt/perl-5.20.3/lib/site_perl/5.20.3/Test/Builder.pm line 337
	eval {...} called at /opt/perl-5.20.3/lib/site_perl/5.20.3/Test/Builder.pm line 337
	Test::Builder::subtest(Test::Builder=HASH(0x1d9ce90), "Login", CODE(0x23b7988)) called at /opt/perl-5.20.3/lib/site_perl/5.20.3/Test/More.pm line 807
	Test::More::subtest("Login", CODE(0x23b7988)) called at t/01_server_side.t line 11
	main::scenario("Login", CODE(0x23b7988)) called at t/01_server_side.t line 96
Secret string too short at /home/cpansand/.cpan/build/2018012603/HTTP-Session2-1.10-0/blib/lib/HTTP/Session2/Base.pm line 79.
	HTTP::Session2::Base::__ANON__(HTTP::Session2::ServerStore=HASH(0x2696fd8), "s3cret") called at t/01_server_side.t line 108
	main::__ANON__("client -> server: request without cookie", CODE(0x268f488)) called at t/01_server_side.t line 110
	main::__ANON__() called at /opt/perl-5.20.3/lib/site_perl/5.20.3/Test/Builder.pm line 337
	eval {...} called at /opt/perl-5.20.3/lib/site_perl/5.20.3/Test/Builder.pm line 337
	Test::Builder::subtest(Test::Builder=HASH(0x1d9ce90), "In a login session", CODE(0x260c748)) called at /opt/perl-5.20.3/lib/site_perl/5.20.3/Test/More.pm line 807
	Test::More::subtest("In a login session", CODE(0x260c748)) called at t/01_server_side.t line 11
	main::scenario("In a login session", CODE(0x260c748)) called at t/01_server_side.t line 124
Secret string too short at /home/cpansand/.cpan/build/2018012603/HTTP-Session2-1.10-0/blib/lib/HTTP/Session2/Base.pm line 79.
	HTTP::Session2::Base::__ANON__(HTTP::Session2::ServerStore=HASH(0x269da90), "s3cret") called at t/01_server_side.t line 136
	main::__ANON__("client -> server: request without cookie", CODE(0x26966c0)) called at t/01_server_side.t line 138
	main::__ANON__() called at /opt/perl-5.20.3/lib/site_perl/5.20.3/Test/Builder.pm line 337
	eval {...} called at /opt/perl-5.20.3/lib/site_perl/5.20.3/Test/Builder.pm line 337
	Test::Builder::subtest(Test::Builder=HASH(0x1d9ce90), "Invalid session id", CODE(0x260d0f0)) called at /opt/perl-5.20.3/lib/site_perl/5.20.3/Test/More.pm line 807
	Test::More::subtest("Invalid session id", CODE(0x260d0f0)) called at t/01_server_side.t line 11
	main::scenario("Invalid session id", CODE(0x260d0f0)) called at t/01_server_side.t line 153
Secret string too short at /home/cpansand/.cpan/build/2018012603/HTTP-Session2-1.10-0/blib/lib/HTTP/Session2/Base.pm line 79.
	HTTP::Session2::Base::__ANON__(HTTP::Session2::ServerStore=HASH(0x26a1130), "s3cret") called at t/01_server_side.t line 160
	main::__ANON__("client -> server: request without cookie", CODE(0x2689060)) called at t/01_server_side.t line 167
	main::__ANON__() called at /opt/perl-5.20.3/lib/site_perl/5.20.3/Test/Builder.pm line 337
	eval {...} called at /opt/perl-5.20.3/lib/site_perl/5.20.3/Test/Builder.pm line 337
	Test::Builder::subtest(Test::Builder=HASH(0x1d9ce90), "Logout", CODE(0x261a430)) called at /opt/perl-5.20.3/lib/site_perl/5.20.3/Test/More.pm line 807
	Test::More::subtest("Logout", CODE(0x261a430)) called at t/01_server_side.t line 11
	main::scenario("Logout", CODE(0x261a430)) called at t/01_server_side.t line 182
t/01_server_side.t .......... ok
Secret string too short at /home/cpansand/.cpan/build/2018012603/HTTP-Session2-1.10-0/blib/lib/HTTP/Session2/Base.pm line 79.
	HTTP::Session2::Base::__ANON__(HTTP::Session2::ClientStore=HASH(0x20013d8), "s3cret") called at t/02_client_side.t line 17
	main::__ANON__("client -> server: request without cookie", CODE(0x2000e38)) called at t/02_client_side.t line 22
	main::__ANON__() called at /opt/perl-5.20.3/lib/site_perl/5.20.3/Test/Builder.pm line 337
	eval {...} called at /opt/perl-5.20.3/lib/site_perl/5.20.3/Test/Builder.pm line 337
	Test::Builder::subtest(Test::Builder=HASH(0x20178e0), "First request", CODE(0x27a3b48)) called at /opt/perl-5.20.3/lib/site_perl/5.20.3/Test/More.pm line 807
	Test::More::subtest("First request", CODE(0x27a3b48)) called at t/02_client_side.t line 9
	main::scenario("First request", CODE(0x27a3b48)) called at t/02_client_side.t line 28
Secret string too short at /home/cpansand/.cpan/build/2018012603/HTTP-Session2-1.10-0/blib/lib/HTTP/Session2/Base.pm line 79.
	HTTP::Session2::Base::__ANON__(HTTP::Session2::ClientStore=HASH(0x2985688), "s3cret") called at t/02_client_side.t line 33
	main::__ANON__("client -> server: request without cookie", CODE(0x297dc40)) called at t/02_client_side.t line 38
	main::__ANON__() called at /opt/perl-5.20.3/lib/site_perl/5.20.3/Test/Builder.pm line 337
	eval {...} called at /opt/perl-5.20.3/lib/site_perl/5.20.3/Test/Builder.pm line 337
	Test::Builder::subtest(Test::Builder=HASH(0x20178e0), "Store something without login", CODE(0x26174b8)) called at /opt/perl-5.20.3/lib/site_perl/5.20.3/Test/More.pm line 807
	Test::More::subtest("Store something without login", CODE(0x26174b8)) called at t/02_client_side.t line 9
	main::scenario("Store something without login", CODE(0x26174b8)) called at t/02_client_side.t line 54
Do not use HTTP::Session2::ClientStore. Use HTTP::Session2::ServerStore or HTTP::Session2::ClientStore2 instead. at /home/cpansand/.cpan/build/2018012603/HTTP-Session2-1.10-0/blib/lib/HTTP/Session2/ClientStore.pm line 25.
Secret string too short at /home/cpansand/.cpan/build/2018012603/HTTP-Session2-1.10-0/blib/lib/HTTP/Session2/Base.pm line 79.
	HTTP::Session2::Base::__ANON__(HTTP::Session2::ClientStore=HASH(0x298d450), "s3cret") called at t/02_client_side.t line 60
	main::__ANON__("client -> server: request without cookie", CODE(0x297e840)) called at t/02_client_side.t line 66
	main::__ANON__() called at /opt/perl-5.20.3/lib/site_perl/5.20.3/Test/Builder.pm line 337
	eval {...} called at /opt/perl-5.20.3/lib/site_perl/5.20.3/Test/Builder.pm line 337
	Test::Builder::subtest(Test::Builder=HASH(0x20178e0), "Login", CODE(0x26178c0)) called at /opt/perl-5.20.3/lib/site_perl/5.20.3/Test/More.pm line 807
	Test::More::subtest("Login", CODE(0x26178c0)) called at t/02_client_side.t line 9
	main::scenario("Login", CODE(0x26178c0)) called at t/02_client_side.t line 86
Do not use HTTP::Session2::ClientStore. Use HTTP::Session2::ServerStore or HTTP::Session2::ClientStore2 instead. at /home/cpansand/.cpan/build/2018012603/HTTP-Session2-1.10-0/blib/lib/HTTP/Session2/ClientStore.pm line 35.
Do not use HTTP::Session2::ClientStore. Use HTTP::Session2::ServerStore or HTTP::Session2::ClientStore2 instead. at /home/cpansand/.cpan/build/2018012603/HTTP-Session2-1.10-0/blib/lib/HTTP/Session2/ClientStore.pm line 25.
Secret string too short at /home/cpansand/.cpan/build/2018012603/HTTP-Session2-1.10-0/blib/lib/HTTP/Session2/Base.pm line 79.
	HTTP::Session2::Base::__ANON__(HTTP::Session2::ClientStore=HASH(0x2994710), "s3cret") called at t/02_client_side.t line 92
	main::__ANON__("client -> server: request without cookie", CODE(0x298d0a8)) called at t/02_client_side.t line 98
	main::__ANON__() called at /opt/perl-5.20.3/lib/site_perl/5.20.3/Test/Builder.pm line 337
	eval {...} called at /opt/perl-5.20.3/lib/site_perl/5.20.3/Test/Builder.pm line 337
	Test::Builder::subtest(Test::Builder=HASH(0x20178e0), "In a login session", CODE(0x26180a0)) called at /opt/perl-5.20.3/lib/site_perl/5.20.3/Test/More.pm line 807
	Test::More::subtest("In a login session", CODE(0x26180a0)) called at t/02_client_side.t line 9
	main::scenario("In a login session", CODE(0x26180a0)) called at t/02_client_side.t line 107
Do not use HTTP::Session2::ClientStore. Use HTTP::Session2::ServerStore or HTTP::Session2::ClientStore2 instead. at /home/cpansand/.cpan/build/2018012603/HTTP-Session2-1.10-0/blib/lib/HTTP/Session2/ClientStore.pm line 35.
Do not use HTTP::Session2::ClientStore. Use HTTP::Session2::ServerStore or HTTP::Session2::ClientStore2 instead. at /home/cpansand/.cpan/build/2018012603/HTTP-Session2-1.10-0/blib/lib/HTTP/Session2/ClientStore.pm line 25.
Secret string too short at /home/cpansand/.cpan/build/2018012603/HTTP-Session2-1.10-0/blib/lib/HTTP/Session2/Base.pm line 79.
	HTTP::Session2::Base::__ANON__(HTTP::Session2::ClientStore=HASH(0x2998708), "s3cret") called at t/02_client_side.t line 112
	main::__ANON__("client -> server: request without cookie", CODE(0x2997be0)) called at t/02_client_side.t line 118
	main::__ANON__() called at /opt/perl-5.20.3/lib/site_perl/5.20.3/Test/Builder.pm line 337
	eval {...} called at /opt/perl-5.20.3/lib/site_perl/5.20.3/Test/Builder.pm line 337
	Test::Builder::subtest(Test::Builder=HASH(0x20178e0), "Logout", CODE(0x2969410)) called at /opt/perl-5.20.3/lib/site_perl/5.20.3/Test/More.pm line 807
	Test::More::subtest("Logout", CODE(0x2969410)) called at t/02_client_side.t line 9
	main::scenario("Logout", CODE(0x2969410)) called at t/02_client_side.t line 131
t/02_client_side.t .......... ok
Secret string too short at /home/cpansand/.cpan/build/2018012603/HTTP-Session2-1.10-0/blib/lib/HTTP/Session2/Base.pm line 79.
	HTTP::Session2::Base::__ANON__(HTTP::Session2::ServerStore=HASH(0x2920990), "s3cret") called at t/03_mech.t line 121
	main::server_session(HASH(0x29134f0)) called at t/03_mech.t line 17
	main::__ANON__(HASH(0x29134f0)) called at /opt/perl-5.20.3/lib/site_perl/5.20.3/Test/WWW/Mechanize/PSGI.pm line 43
	Test::WWW::Mechanize::PSGI::try {...} () called at /opt/perl-5.20.3/lib/site_perl/5.20.3/Try/Tiny.pm line 102
	eval {...} called at /opt/perl-5.20.3/lib/site_perl/5.20.3/Try/Tiny.pm line 93
	Try::Tiny::try(CODE(0x2913160), Try::Tiny::Catch=REF(0x1b22548)) called at /opt/perl-5.20.3/lib/site_perl/5.20.3/Test/WWW/Mechanize/PSGI.pm line 50
	Test::WWW::Mechanize::PSGI::simple_request(Test::WWW::Mechanize::PSGI=HASH(0x27b6b00), HTTP::Request=HASH(0x2875978), undef, undef) called at /opt/perl-5.20.3/lib/site_perl/5.20.3/LWP/UserAgent.pm line 297
	LWP::UserAgent::request(Test::WWW::Mechanize::PSGI=HASH(0x27b6b00), HTTP::Request=HASH(0x2875978)) called at /opt/perl-5.20.3/lib/site_perl/5.20.3/WWW/Mechanize.pm line 1413
	WWW::Mechanize::_make_request(Test::WWW::Mechanize::PSGI=HASH(0x27b6b00), HTTP::Request=HASH(0x2875978)) called at /opt/perl-5.20.3/lib/site_perl/5.20.3/WWW/Mechanize.pm line 1253
	WWW::Mechanize::request(Test::WWW::Mechanize::PSGI=HASH(0x27b6b00), HTTP::Request=HASH(0x2875978)) called at /opt/perl-5.20.3/lib/site_perl/5.20.3/LWP/UserAgent.pm line 435
	LWP::UserAgent::get(Test::WWW::Mechanize::PSGI=HASH(0x27b6b00), "/") called at /opt/perl-5.20.3/lib/site_perl/5.20.3/WWW/Mechanize.pm line 117
	WWW::Mechanize::get(Test::WWW::Mechanize::PSGI=HASH(0x27b6b00), "/") called at /opt/perl-5.20.3/lib/site_perl/5.20.3/Test/WWW/Mechanize.pm line 160
	Test::WWW::Mechanize::get_ok(Test::WWW::Mechanize::PSGI=HASH(0x27b6b00), "/") called at t/03_mech.t line 74
Secret string too short at /home/cpansand/.cpan/build/2018012603/HTTP-Session2-1.10-0/blib/lib/HTTP/Session2/Base.pm line 79.
	HTTP::Session2::Base::__ANON__(HTTP::Session2::ServerStore=HASH(0x2928870), "s3cret") called at t/03_mech.t line 121
	main::server_session(HASH(0x29283f0)) called at t/03_mech.t line 17
	main::__ANON__(HASH(0x29283f0)) called at /opt/perl-5.20.3/lib/site_perl/5.20.3/Test/WWW/Mechanize/PSGI.pm line 43
	Test::WWW::Mechanize::PSGI::try {...} () called at /opt/perl-5.20.3/lib/site_perl/5.20.3/Try/Tiny.pm line 102
	eval {...} called at /opt/perl-5.20.3/lib/site_perl/5.20.3/Try/Tiny.pm line 93
	Try::Tiny::try(CODE(0x2928390), Try::Tiny::Catch=REF(0x29208e8)) called at /opt/perl-5.20.3/lib/site_perl/5.20.3/Test/WWW/Mechanize/PSGI.pm line 50
	Test::WWW::Mechanize::PSGI::simple_request(Test::WWW::Mechanize::PSGI=HASH(0x27b6b00), HTTP::Request=HASH(0x2928120), undef, undef) called at /opt/perl-5.20.3/lib/site_perl/5.20.3/LWP/UserAgent.pm line 297
	LWP::UserAgent::request(Test::WWW::Mechanize::PSGI=HASH(0x27b6b00), HTTP::Request=HASH(0x2928120)) called at /opt/perl-5.20.3/lib/site_perl/5.20.3/WWW/Mechanize.pm line 1413
	WWW::Mechanize::_make_request(Test::WWW::Mechanize::PSGI=HASH(0x27b6b00), HTTP::Request=HASH(0x2928120)) called at /opt/perl-5.20.3/lib/site_perl/5.20.3/WWW/Mechanize.pm line 1253
	WWW::Mechanize::request(Test::WWW::Mechanize::PSGI=HASH(0x27b6b00), HTTP::Request=HASH(0x2928120)) called at /opt/perl-5.20.3/lib/site_perl/5.20.3/LWP/UserAgent.pm line 478
	LWP::UserAgent::post(Test::WWW::Mechanize::PSGI=HASH(0x27b6b00), "/wishlist?foo", HASH(0x24abb98)) called at /opt/perl-5.20.3/lib/site_perl/5.20.3/Test/WWW/Mechanize.pm line 237
	Test::WWW::Mechanize::post_ok(Test::WWW::Mechanize::PSGI=HASH(0x27b6b00), "/wishlist?foo") called at t/03_mech.t line 75
Secret string too short at /home/cpansand/.cpan/build/2018012603/HTTP-Session2-1.10-0/blib/lib/HTTP/Session2/Base.pm line 79.
	HTTP::Session2::Base::__ANON__(HTTP::Session2::ServerStore=HASH(0x292f0c8), "s3cret") called at t/03_mech.t line 121
	main::server_session(HASH(0x2928ae0)) called at t/03_mech.t line 17
	main::__ANON__(HASH(0x2928ae0)) called at /opt/perl-5.20.3/lib/site_perl/5.20.3/Test/WWW/Mechanize/PSGI.pm line 43
	Test::WWW::Mechanize::PSGI::try {...} () called at /opt/perl-5.20.3/lib/site_perl/5.20.3/Try/Tiny.pm line 102
	eval {...} called at /opt/perl-5.20.3/lib/site_perl/5.20.3/Try/Tiny.pm line 93
	Try::Tiny::try(CODE(0x2928cd8), Try::Tiny::Catch=REF(0x29286d8)) called at /opt/perl-5.20.3/lib/site_perl/5.20.3/Test/WWW/Mechanize/PSGI.pm line 50
	Test::WWW::Mechanize::PSGI::simple_request(Test::WWW::Mechanize::PSGI=HASH(0x27b6b00), HTTP::Request=HASH(0x2920c90), undef, undef) called at /opt/perl-5.20.3/lib/site_perl/5.20.3/LWP/UserAgent.pm line 297
	LWP::UserAgent::request(Test::WWW::Mechanize::PSGI=HASH(0x27b6b00), HTTP::Request=HASH(0x2920c90)) called at /opt/perl-5.20.3/lib/site_perl/5.20.3/WWW/Mechanize.pm line 1413
	WWW::Mechanize::_make_request(Test::WWW::Mechanize::PSGI=HASH(0x27b6b00), HTTP::Request=HASH(0x2920c90)) called at /opt/perl-5.20.3/lib/site_perl/5.20.3/WWW/Mechanize.pm line 1253
	WWW::Mechanize::request(Test::WWW::Mechanize::PSGI=HASH(0x27b6b00), HTTP::Request=HASH(0x2920c90)) called at /opt/perl-5.20.3/lib/site_perl/5.20.3/LWP/UserAgent.pm line 435
	LWP::UserAgent::get(Test::WWW::Mechanize::PSGI=HASH(0x27b6b00), "http://localhost/wishlist") called at /opt/perl-5.20.3/lib/site_perl/5.20.3/WWW/Mechanize.pm line 117
	WWW::Mechanize::get(Test::WWW::Mechanize::PSGI=HASH(0x27b6b00), "/wishlist") called at /opt/perl-5.20.3/lib/site_perl/5.20.3/Test/WWW/Mechanize.pm line 160
	Test::WWW::Mechanize::get_ok(Test::WWW::Mechanize::PSGI=HASH(0x27b6b00), "/wishlist") called at t/03_mech.t line 76
Secret string too short at /home/cpansand/.cpan/build/2018012603/HTTP-Session2-1.10-0/blib/lib/HTTP/Session2/Base.pm line 79.
	HTTP::Session2::Base::__ANON__(HTTP::Session2::ServerStore=HASH(0x292f6b0), "s3cret") called at t/03_mech.t line 121
	main::server_session(HASH(0x2928ba0)) called at t/03_mech.t line 17
	main::__ANON__(HASH(0x2928ba0)) called at /opt/perl-5.20.3/lib/site_perl/5.20.3/Test/WWW/Mechanize/PSGI.pm line 43
	Test::WWW::Mechanize::PSGI::try {...} () called at /opt/perl-5.20.3/lib/site_perl/5.20.3/Try/Tiny.pm line 102
	eval {...} called at /opt/perl-5.20.3/lib/site_perl/5.20.3/Try/Tiny.pm line 93
	Try::Tiny::try(CODE(0x2929038), Try::Tiny::Catch=REF(0x2928ed0)) called at /opt/perl-5.20.3/lib/site_perl/5.20.3/Test/WWW/Mechanize/PSGI.pm line 50
	Test::WWW::Mechanize::PSGI::simple_request(Test::WWW::Mechanize::PSGI=HASH(0x27b6b00), HTTP::Request=HASH(0x292f158), undef, undef) called at /opt/perl-5.20.3/lib/site_perl/5.20.3/LWP/UserAgent.pm line 297
	LWP::UserAgent::request(Test::WWW::Mechanize::PSGI=HASH(0x27b6b00), HTTP::Request=HASH(0x292f158)) called at /opt/perl-5.20.3/lib/site_perl/5.20.3/WWW/Mechanize.pm line 1413
	WWW::Mechanize::_make_request(Test::WWW::Mechanize::PSGI=HASH(0x27b6b00), HTTP::Request=HASH(0x292f158)) called at /opt/perl-5.20.3/lib/site_perl/5.20.3/WWW/Mechanize.pm line 1253
	WWW::Mechanize::request(Test::WWW::Mechanize::PSGI=HASH(0x27b6b00), HTTP::Request=HASH(0x292f158)) called at /opt/perl-5.20.3/lib/site_perl/5.20.3/LWP/UserAgent.pm line 478
	LWP::UserAgent::post(Test::WWW::Mechanize::PSGI=HASH(0x27b6b00), "/wishlist?bar") called at t/03_mech.t line 78
Secret string too short at /home/cpansand/.cpan/build/2018012603/HTTP-Session2-1.10-0/blib/lib/HTTP/Session2/Base.pm line 79.
	HTTP::Session2::Base::__ANON__(HTTP::Session2::ServerStore=HASH(0x2928af8), "s3cret") called at t/03_mech.t line 121
	main::server_session(HASH(0x292f620)) called at t/03_mech.t line 17
	main::__ANON__(HASH(0x292f620)) called at /opt/perl-5.20.3/lib/site_perl/5.20.3/Test/WWW/Mechanize/PSGI.pm line 43
	Test::WWW::Mechanize::PSGI::try {...} () called at /opt/perl-5.20.3/lib/site_perl/5.20.3/Try/Tiny.pm line 102
	eval {...} called at /opt/perl-5.20.3/lib/site_perl/5.20.3/Try/Tiny.pm line 93
	Try::Tiny::try(CODE(0x292f830), Try::Tiny::Catch=REF(0x292f200)) called at /opt/perl-5.20.3/lib/site_perl/5.20.3/Test/WWW/Mechanize/PSGI.pm line 50
	Test::WWW::Mechanize::PSGI::simple_request(Test::WWW::Mechanize::PSGI=HASH(0x27b6b00), HTTP::Request=HASH(0x2928630), undef, undef) called at /opt/perl-5.20.3/lib/site_perl/5.20.3/LWP/UserAgent.pm line 297
	LWP::UserAgent::request(Test::WWW::Mechanize::PSGI=HASH(0x27b6b00), HTTP::Request=HASH(0x2928630)) called at /opt/perl-5.20.3/lib/site_perl/5.20.3/WWW/Mechanize.pm line 1413
	WWW::Mechanize::_make_request(Test::WWW::Mechanize::PSGI=HASH(0x27b6b00), HTTP::Request=HASH(0x2928630)) called at /opt/perl-5.20.3/lib/site_perl/5.20.3/WWW/Mechanize.pm line 1253
	WWW::Mechanize::request(Test::WWW::Mechanize::PSGI=HASH(0x27b6b00), HTTP::Request=HASH(0x2928630)) called at /opt/perl-5.20.3/lib/site_perl/5.20.3/LWP/UserAgent.pm line 478
	LWP::UserAgent::post(Test::WWW::Mechanize::PSGI=HASH(0x27b6b00), "/wishlist?bar", HASH(0x24abb98)) called at /opt/perl-5.20.3/lib/site_perl/5.20.3/Test/WWW/Mechanize.pm line 237
	Test::WWW::Mechanize::post_ok(Test::WWW::Mechanize::PSGI=HASH(0x27b6b00), "/wishlist?bar") called at t/03_mech.t line 81
Secret string too short at /home/cpansand/.cpan/build/2018012603/HTTP-Session2-1.10-0/blib/lib/HTTP/Session2/Base.pm line 79.
	HTTP::Session2::Base::__ANON__(HTTP::Session2::ServerStore=HASH(0x292ff68), "s3cret") called at t/03_mech.t line 121
	main::server_session(HASH(0x292fb60)) called at t/03_mech.t line 17
	main::__ANON__(HASH(0x292fb60)) called at /opt/perl-5.20.3/lib/site_perl/5.20.3/Test/WWW/Mechanize/PSGI.pm line 43
	Test::WWW::Mechanize::PSGI::try {...} () called at /opt/perl-5.20.3/lib/site_perl/5.20.3/Try/Tiny.pm line 102
	eval {...} called at /opt/perl-5.20.3/lib/site_perl/5.20.3/Try/Tiny.pm line 93
	Try::Tiny::try(CODE(0x292f2d8), Try::Tiny::Catch=REF(0x292f8c0)) called at /opt/perl-5.20.3/lib/site_perl/5.20.3/Test/WWW/Mechanize/PSGI.pm line 50
	Test::WWW::Mechanize::PSGI::simple_request(Test::WWW::Mechanize::PSGI=HASH(0x27b6b00), HTTP::Request=HASH(0x2928870), undef, undef) called at /opt/perl-5.20.3/lib/site_perl/5.20.3/LWP/UserAgent.pm line 297
	LWP::UserAgent::request(Test::WWW::Mechanize::PSGI=HASH(0x27b6b00), HTTP::Request=HASH(0x2928870)) called at /opt/perl-5.20.3/lib/site_perl/5.20.3/WWW/Mechanize.pm line 1413
	WWW::Mechanize::_make_request(Test::WWW::Mechanize::PSGI=HASH(0x27b6b00), HTTP::Request=HASH(0x2928870)) called at /opt/perl-5.20.3/lib/site_perl/5.20.3/WWW/Mechanize.pm line 1253
	WWW::Mechanize::request(Test::WWW::Mechanize::PSGI=HASH(0x27b6b00), HTTP::Request=HASH(0x2928870)) called at /opt/perl-5.20.3/lib/site_perl/5.20.3/LWP/UserAgent.pm line 435
	LWP::UserAgent::get(Test::WWW::Mechanize::PSGI=HASH(0x27b6b00), "http://localhost/wishlist") called at /opt/perl-5.20.3/lib/site_perl/5.20.3/WWW/Mechanize.pm line 117
	WWW::Mechanize::get(Test::WWW::Mechanize::PSGI=HASH(0x27b6b00), "/wishlist") called at /opt/perl-5.20.3/lib/site_perl/5.20.3/Test/WWW/Mechanize.pm line 160
	Test::WWW::Mechanize::get_ok(Test::WWW::Mechanize::PSGI=HASH(0x27b6b00), "/wishlist") called at t/03_mech.t line 82
Secret string too short at /home/cpansand/.cpan/build/2018012603/HTTP-Session2-1.10-0/blib/lib/HTTP/Session2/Base.pm line 79.
	HTTP::Session2::Base::__ANON__(HTTP::Session2::ServerStore=HASH(0x2933c38), "s3cret") called at t/03_mech.t line 121
	main::server_session(HASH(0x2933800)) called at t/03_mech.t line 17
	main::__ANON__(HASH(0x2933800)) called at /opt/perl-5.20.3/lib/site_perl/5.20.3/Test/WWW/Mechanize/PSGI.pm line 43
	Test::WWW::Mechanize::PSGI::try {...} () called at /opt/perl-5.20.3/lib/site_perl/5.20.3/Try/Tiny.pm line 102
	eval {...} called at /opt/perl-5.20.3/lib/site_perl/5.20.3/Try/Tiny.pm line 93
	Try::Tiny::try(CODE(0x292fcf8), Try::Tiny::Catch=REF(0x292f9f8)) called at /opt/perl-5.20.3/lib/site_perl/5.20.3/Test/WWW/Mechanize/PSGI.pm line 50
	Test::WWW::Mechanize::PSGI::simple_request(Test::WWW::Mechanize::PSGI=HASH(0x27b6b00), HTTP::Request=HASH(0x292fd28), undef, undef) called at /opt/perl-5.20.3/lib/site_perl/5.20.3/LWP/UserAgent.pm line 297
	LWP::UserAgent::request(Test::WWW::Mechanize::PSGI=HASH(0x27b6b00), HTTP::Request=HASH(0x292fd28)) called at /opt/perl-5.20.3/lib/site_perl/5.20.3/WWW/Mechanize.pm line 1413
	WWW::Mechanize::_make_request(Test::WWW::Mechanize::PSGI=HASH(0x27b6b00), HTTP::Request=HASH(0x292fd28)) called at /opt/perl-5.20.3/lib/site_perl/5.20.3/WWW/Mechanize.pm line 1253
	WWW::Mechanize::request(Test::WWW::Mechanize::PSGI=HASH(0x27b6b00), HTTP::Request=HASH(0x292fd28)) called at /opt/perl-5.20.3/lib/site_perl/5.20.3/LWP/UserAgent.pm line 478
	LWP::UserAgent::post(Test::WWW::Mechanize::PSGI=HASH(0x27b6b00), "/account/login?john", HASH(0x24abb98)) called at /opt/perl-5.20.3/lib/site_perl/5.20.3/Test/WWW/Mechanize.pm line 237
	Test::WWW::Mechanize::post_ok(Test::WWW::Mechanize::PSGI=HASH(0x27b6b00), "/account/login?john") called at t/03_mech.t line 84
Secret string too short at /home/cpansand/.cpan/build/2018012603/HTTP-Session2-1.10-0/blib/lib/HTTP/Session2/Base.pm line 79.
	HTTP::Session2::Base::__ANON__(HTTP::Session2::ServerStore=HASH(0x2934040), "s3cret") called at t/03_mech.t line 121
	main::server_session(HASH(0x2928c48)) called at t/03_mech.t line 17
	main::__ANON__(HASH(0x2928c48)) called at /opt/perl-5.20.3/lib/site_perl/5.20.3/Test/WWW/Mechanize/PSGI.pm line 43
	Test::WWW::Mechanize::PSGI::try {...} () called at /opt/perl-5.20.3/lib/site_perl/5.20.3/Try/Tiny.pm line 102
	eval {...} called at /opt/perl-5.20.3/lib/site_perl/5.20.3/Try/Tiny.pm line 93
	Try::Tiny::try(CODE(0x2933b90), Try::Tiny::Catch=REF(0x2933998)) called at /opt/perl-5.20.3/lib/site_perl/5.20.3/Test/WWW/Mechanize/PSGI.pm line 50
	Test::WWW::Mechanize::PSGI::simple_request(Test::WWW::Mechanize::PSGI=HASH(0x27b6b00), HTTP::Request=HASH(0x292f488), undef, undef) called at /opt/perl-5.20.3/lib/site_perl/5.20.3/LWP/UserAgent.pm line 297
	LWP::UserAgent::request(Test::WWW::Mechanize::PSGI=HASH(0x27b6b00), HTTP::Request=HASH(0x292f488)) called at /opt/perl-5.20.3/lib/site_perl/5.20.3/WWW/Mechanize.pm line 1413
	WWW::Mechanize::_make_request(Test::WWW::Mechanize::PSGI=HASH(0x27b6b00), HTTP::Request=HASH(0x292f488)) called at /opt/perl-5.20.3/lib/site_perl/5.20.3/WWW/Mechanize.pm line 1253
	WWW::Mechanize::request(Test::WWW::Mechanize::PSGI=HASH(0x27b6b00), HTTP::Request=HASH(0x292f488)) called at /opt/perl-5.20.3/lib/site_perl/5.20.3/LWP/UserAgent.pm line 435
	LWP::UserAgent::get(Test::WWW::Mechanize::PSGI=HASH(0x27b6b00), "http://localhost/wishlist") called at /opt/perl-5.20.3/lib/site_perl/5.20.3/WWW/Mechanize.pm line 117
	WWW::Mechanize::get(Test::WWW::Mechanize::PSGI=HASH(0x27b6b00), "/wishlist") called at /opt/perl-5.20.3/lib/site_perl/5.20.3/Test/WWW/Mechanize.pm line 160
	Test::WWW::Mechanize::get_ok(Test::WWW::Mechanize::PSGI=HASH(0x27b6b00), "/wishlist", "Wishlist is still available") called at t/03_mech.t line 85
Secret string too short at /home/cpansand/.cpan/build/2018012603/HTTP-Session2-1.10-0/blib/lib/HTTP/Session2/Base.pm line 79.
	HTTP::Session2::Base::__ANON__(HTTP::Session2::ServerStore=HASH(0x2934640), "s3cret") called at t/03_mech.t line 121
	main::server_session(HASH(0x2933728)) called at t/03_mech.t line 17
	main::__ANON__(HASH(0x2933728)) called at /opt/perl-5.20.3/lib/site_perl/5.20.3/Test/WWW/Mechanize/PSGI.pm line 43
	Test::WWW::Mechanize::PSGI::try {...} () called at /opt/perl-5.20.3/lib/site_perl/5.20.3/Try/Tiny.pm line 102
	eval {...} called at /opt/perl-5.20.3/lib/site_perl/5.20.3/Try/Tiny.pm line 93
	Try::Tiny::try(CODE(0x2934418), Try::Tiny::Catch=REF(0x2933740)) called at /opt/perl-5.20.3/lib/site_perl/5.20.3/Test/WWW/Mechanize/PSGI.pm line 50
	Test::WWW::Mechanize::PSGI::simple_request(Test::WWW::Mechanize::PSGI=HASH(0x27b6b00), HTTP::Request=HASH(0x29344f0), undef, undef) called at /opt/perl-5.20.3/lib/site_perl/5.20.3/LWP/UserAgent.pm line 297
	LWP::UserAgent::request(Test::WWW::Mechanize::PSGI=HASH(0x27b6b00), HTTP::Request=HASH(0x29344f0)) called at /opt/perl-5.20.3/lib/site_perl/5.20.3/WWW/Mechanize.pm line 1413
	WWW::Mechanize::_make_request(Test::WWW::Mechanize::PSGI=HASH(0x27b6b00), HTTP::Request=HASH(0x29344f0)) called at /opt/perl-5.20.3/lib/site_perl/5.20.3/WWW/Mechanize.pm line 1253
	WWW::Mechanize::request(Test::WWW::Mechanize::PSGI=HASH(0x27b6b00), HTTP::Request=HASH(0x29344f0)) called at /opt/perl-5.20.3/lib/site_perl/5.20.3/LWP/UserAgent.pm line 478
	LWP::UserAgent::post(Test::WWW::Mechanize::PSGI=HASH(0x27b6b00), "/wishlist?baz") called at t/03_mech.t line 87
Secret string too short at /home/cpansand/.cpan/build/2018012603/HTTP-Session2-1.10-0/blib/lib/HTTP/Session2/Base.pm line 79.
	HTTP::Session2::Base::__ANON__(HTTP::Session2::ServerStore=HASH(0x292fe78), "s3cret") called at t/03_mech.t line 121
	main::server_session(HASH(0x29340e8)) called at t/03_mech.t line 17
	main::__ANON__(HASH(0x29340e8)) called at /opt/perl-5.20.3/lib/site_perl/5.20.3/Test/WWW/Mechanize/PSGI.pm line 43
	Test::WWW::Mechanize::PSGI::try {...} () called at /opt/perl-5.20.3/lib/site_perl/5.20.3/Try/Tiny.pm line 102
	eval {...} called at /opt/perl-5.20.3/lib/site_perl/5.20.3/Try/Tiny.pm line 93
	Try::Tiny::try(CODE(0x2933ef0), Try::Tiny::Catch=REF(0x2933e30)) called at /opt/perl-5.20.3/lib/site_perl/5.20.3/Test/WWW/Mechanize/PSGI.pm line 50
	Test::WWW::Mechanize::PSGI::simple_request(Test::WWW::Mechanize::PSGI=HASH(0x27b6b00), HTTP::Request=HASH(0x2933920), undef, undef) called at /opt/perl-5.20.3/lib/site_perl/5.20.3/LWP/UserAgent.pm line 297
	LWP::UserAgent::request(Test::WWW::Mechanize::PSGI=HASH(0x27b6b00), HTTP::Request=HASH(0x2933920)) called at /opt/perl-5.20.3/lib/site_perl/5.20.3/WWW/Mechanize.pm line 1413
	WWW::Mechanize::_make_request(Test::WWW::Mechanize::PSGI=HASH(0x27b6b00), HTTP::Request=HASH(0x2933920)) called at /opt/perl-5.20.3/lib/site_perl/5.20.3/WWW/Mechanize.pm line 1253
	WWW::Mechanize::request(Test::WWW::Mechanize::PSGI=HASH(0x27b6b00), HTTP::Request=HASH(0x2933920)) called at /opt/perl-5.20.3/lib/site_perl/5.20.3/LWP/UserAgent.pm line 478
	LWP::UserAgent::post(Test::WWW::Mechanize::PSGI=HASH(0x27b6b00), "/wishlist?baz", HASH(0x24abb98)) called at /opt/perl-5.20.3/lib/site_perl/5.20.3/Test/WWW/Mechanize.pm line 237
	Test::WWW::Mechanize::post_ok(Test::WWW::Mechanize::PSGI=HASH(0x27b6b00), "/wishlist?baz") called at t/03_mech.t line 90
Secret string too short at /home/cpansand/.cpan/build/2018012603/HTTP-Session2-1.10-0/blib/lib/HTTP/Session2/Base.pm line 79.
	HTTP::Session2::Base::__ANON__(HTTP::Session2::ServerStore=HASH(0x2938fc8), "s3cret") called at t/03_mech.t line 121
	main::server_session(HASH(0x2938a88)) called at t/03_mech.t line 17
	main::__ANON__(HASH(0x2938a88)) called at /opt/perl-5.20.3/lib/site_perl/5.20.3/Test/WWW/Mechanize/PSGI.pm line 43
	Test::WWW::Mechanize::PSGI::try {...} () called at /opt/perl-5.20.3/lib/site_perl/5.20.3/Try/Tiny.pm line 102
	eval {...} called at /opt/perl-5.20.3/lib/site_perl/5.20.3/Try/Tiny.pm line 93
	Try::Tiny::try(CODE(0x2934550), Try::Tiny::Catch=REF(0x2934610)) called at /opt/perl-5.20.3/lib/site_perl/5.20.3/Test/WWW/Mechanize/PSGI.pm line 50
	Test::WWW::Mechanize::PSGI::simple_request(Test::WWW::Mechanize::PSGI=HASH(0x27b6b00), HTTP::Request=HASH(0x2933c38), undef, undef) called at /opt/perl-5.20.3/lib/site_perl/5.20.3/LWP/UserAgent.pm line 297
	LWP::UserAgent::request(Test::WWW::Mechanize::PSGI=HASH(0x27b6b00), HTTP::Request=HASH(0x2933c38)) called at /opt/perl-5.20.3/lib/site_perl/5.20.3/WWW/Mechanize.pm line 1413
	WWW::Mechanize::_make_request(Test::WWW::Mechanize::PSGI=HASH(0x27b6b00), HTTP::Request=HASH(0x2933c38)) called at /opt/perl-5.20.3/lib/site_perl/5.20.3/WWW/Mechanize.pm line 1253
	WWW::Mechanize::request(Test::WWW::Mechanize::PSGI=HASH(0x27b6b00), HTTP::Request=HASH(0x2933c38)) called at /opt/perl-5.20.3/lib/site_perl/5.20.3/LWP/UserAgent.pm line 435
	LWP::UserAgent::get(Test::WWW::Mechanize::PSGI=HASH(0x27b6b00), "http://localhost/wishlist") called at /opt/perl-5.20.3/lib/site_perl/5.20.3/WWW/Mechanize.pm line 117
	WWW::Mechanize::get(Test::WWW::Mechanize::PSGI=HASH(0x27b6b00), "/wishlist") called at /opt/perl-5.20.3/lib/site_perl/5.20.3/Test/WWW/Mechanize.pm line 160
	Test::WWW::Mechanize::get_ok(Test::WWW::Mechanize::PSGI=HASH(0x27b6b00), "/wishlist", "Wishlist is still available") called at t/03_mech.t line 91
Secret string too short at /home/cpansand/.cpan/build/2018012603/HTTP-Session2-1.10-0/blib/lib/HTTP/Session2/Base.pm line 79.
	HTTP::Session2::Base::__ANON__(HTTP::Session2::ServerStore=HASH(0x2939580), "s3cret") called at t/03_mech.t line 121
	main::server_session(HASH(0x2933ec0)) called at t/03_mech.t line 17
	main::__ANON__(HASH(0x2933ec0)) called at /opt/perl-5.20.3/lib/site_perl/5.20.3/Test/WWW/Mechanize/PSGI.pm line 43
	Test::WWW::Mechanize::PSGI::try {...} () called at /opt/perl-5.20.3/lib/site_perl/5.20.3/Try/Tiny.pm line 102
	eval {...} called at /opt/perl-5.20.3/lib/site_perl/5.20.3/Try/Tiny.pm line 93
	Try::Tiny::try(CODE(0x2939358), Try::Tiny::Catch=REF(0x2938cf8)) called at /opt/perl-5.20.3/lib/site_perl/5.20.3/Test/WWW/Mechanize/PSGI.pm line 50
	Test::WWW::Mechanize::PSGI::simple_request(Test::WWW::Mechanize::PSGI=HASH(0x27b6b00), HTTP::Request=HASH(0x2938b90), undef, undef) called at /opt/perl-5.20.3/lib/site_perl/5.20.3/LWP/UserAgent.pm line 297
	LWP::UserAgent::request(Test::WWW::Mechanize::PSGI=HASH(0x27b6b00), HTTP::Request=HASH(0x2938b90)) called at /opt/perl-5.20.3/lib/site_perl/5.20.3/WWW/Mechanize.pm line 1413
	WWW::Mechanize::_make_request(Test::WWW::Mechanize::PSGI=HASH(0x27b6b00), HTTP::Request=HASH(0x2938b90)) called at /opt/perl-5.20.3/lib/site_perl/5.20.3/WWW/Mechanize.pm line 1253
	WWW::Mechanize::request(Test::WWW::Mechanize::PSGI=HASH(0x27b6b00), HTTP::Request=HASH(0x2938b90)) called at /opt/perl-5.20.3/lib/site_perl/5.20.3/LWP/UserAgent.pm line 435
	LWP::UserAgent::get(Test::WWW::Mechanize::PSGI=HASH(0x27b6b00), "http://localhost/my/name") called at /opt/perl-5.20.3/lib/site_perl/5.20.3/WWW/Mechanize.pm line 117
	WWW::Mechanize::get(Test::WWW::Mechanize::PSGI=HASH(0x27b6b00), "/my/name") called at /opt/perl-5.20.3/lib/site_perl/5.20.3/Test/WWW/Mechanize.pm line 160
	Test::WWW::Mechanize::get_ok(Test::WWW::Mechanize::PSGI=HASH(0x27b6b00), "/my/name") called at t/03_mech.t line 93
Secret string too short at /home/cpansand/.cpan/build/2018012603/HTTP-Session2-1.10-0/blib/lib/HTTP/Session2/Base.pm line 79.
	HTTP::Session2::Base::__ANON__(HTTP::Session2::ServerStore=HASH(0x293c9f0), "s3cret") called at t/03_mech.t line 121
	main::server_session(HASH(0x2939280)) called at t/03_mech.t line 17
	main::__ANON__(HASH(0x2939280)) called at /opt/perl-5.20.3/lib/site_perl/5.20.3/Test/WWW/Mechanize/PSGI.pm line 43
	Test::WWW::Mechanize::PSGI::try {...} () called at /opt/perl-5.20.3/lib/site_perl/5.20.3/Try/Tiny.pm line 102
	eval {...} called at /opt/perl-5.20.3/lib/site_perl/5.20.3/Try/Tiny.pm line 93
	Try::Tiny::try(CODE(0x2934310), Try::Tiny::Catch=REF(0x2939100)) called at /opt/perl-5.20.3/lib/site_perl/5.20.3/Test/WWW/Mechanize/PSGI.pm line 50
	Test::WWW::Mechanize::PSGI::simple_request(Test::WWW::Mechanize::PSGI=HASH(0x27b6b00), HTTP::Request=HASH(0x2939700), undef, undef) called at /opt/perl-5.20.3/lib/site_perl/5.20.3/LWP/UserAgent.pm line 297
	LWP::UserAgent::request(Test::WWW::Mechanize::PSGI=HASH(0x27b6b00), HTTP::Request=HASH(0x2939700)) called at /opt/perl-5.20.3/lib/site_perl/5.20.3/WWW/Mechanize.pm line 1413
	WWW::Mechanize::_make_request(Test::WWW::Mechanize::PSGI=HASH(0x27b6b00), HTTP::Request=HASH(0x2939700)) called at /opt/perl-5.20.3/lib/site_perl/5.20.3/WWW/Mechanize.pm line 1253
	WWW::Mechanize::request(Test::WWW::Mechanize::PSGI=HASH(0x27b6b00), HTTP::Request=HASH(0x2939700)) called at /opt/perl-5.20.3/lib/site_perl/5.20.3/LWP/UserAgent.pm line 478
	LWP::UserAgent::post(Test::WWW::Mechanize::PSGI=HASH(0x27b6b00), "/account/logout?john") called at t/03_mech.t line 97
Secret string too short at /home/cpansand/.cpan/build/2018012603/HTTP-Session2-1.10-0/blib/lib/HTTP/Session2/Base.pm line 79.
	HTTP::Session2::Base::__ANON__(HTTP::Session2::ClientStore=HASH(0x2928b88), "s3cret") called at t/03_mech.t line 127
	main::client_session(HASH(0x2928ee8)) called at t/03_mech.t line 17
	main::__ANON__(HASH(0x2928ee8)) called at /opt/perl-5.20.3/lib/site_perl/5.20.3/Test/WWW/Mechanize/PSGI.pm line 43
	Test::WWW::Mechanize::PSGI::try {...} () called at /opt/perl-5.20.3/lib/site_perl/5.20.3/Try/Tiny.pm line 102
	eval {...} called at /opt/perl-5.20.3/lib/site_perl/5.20.3/Try/Tiny.pm line 93
	Try::Tiny::try(CODE(0x2920c90), Try::Tiny::Catch=REF(0x2939160)) called at /opt/perl-5.20.3/lib/site_perl/5.20.3/Test/WWW/Mechanize/PSGI.pm line 50
	Test::WWW::Mechanize::PSGI::simple_request(Test::WWW::Mechanize::PSGI=HASH(0x293cac8), HTTP::Request=HASH(0x2938f38), undef, undef) called at /opt/perl-5.20.3/lib/site_perl/5.20.3/LWP/UserAgent.pm line 297
	LWP::UserAgent::request(Test::WWW::Mechanize::PSGI=HASH(0x293cac8), HTTP::Request=HASH(0x2938f38)) called at /opt/perl-5.20.3/lib/site_perl/5.20.3/WWW/Mechanize.pm line 1413
	WWW::Mechanize::_make_request(Test::WWW::Mechanize::PSGI=HASH(0x293cac8), HTTP::Request=HASH(0x2938f38)) called at /opt/perl-5.20.3/lib/site_perl/5.20.3/WWW/Mechanize.pm line 1253
	WWW::Mechanize::request(Test::WWW::Mechanize::PSGI=HASH(0x293cac8), HTTP::Request=HASH(0x2938f38)) called at /opt/perl-5.20.3/lib/site_perl/5.20.3/LWP/UserAgent.pm line 435
	LWP::UserAgent::get(Test::WWW::Mechanize::PSGI=HASH(0x293cac8), "/") called at /opt/perl-5.20.3/lib/site_perl/5.20.3/WWW/Mechanize.pm line 117
	WWW::Mechanize::get(Test::WWW::Mechanize::PSGI=HASH(0x293cac8), "/") called at /opt/perl-5.20.3/lib/site_perl/5.20.3/Test/WWW/Mechanize.pm line 160
	Test::WWW::Mechanize::get_ok(Test::WWW::Mechanize::PSGI=HASH(0x293cac8), "/") called at t/03_mech.t line 74
Secret string too short at /home/cpansand/.cpan/build/2018012603/HTTP-Session2-1.10-0/blib/lib/HTTP/Session2/Base.pm line 79.
	HTTP::Session2::Base::__ANON__(HTTP::Session2::ClientStore=HASH(0x2933830), "s3cret") called at t/03_mech.t line 127
	main::client_session(HASH(0x2939160)) called at t/03_mech.t line 17
	main::__ANON__(HASH(0x2939160)) called at /opt/perl-5.20.3/lib/site_perl/5.20.3/Test/WWW/Mechanize/PSGI.pm line 43
	Test::WWW::Mechanize::PSGI::try {...} () called at /opt/perl-5.20.3/lib/site_perl/5.20.3/Try/Tiny.pm line 102
	eval {...} called at /opt/perl-5.20.3/lib/site_perl/5.20.3/Try/Tiny.pm line 93
	Try::Tiny::try(CODE(0x29289c0), Try::Tiny::Catch=REF(0x2928bb8)) called at /opt/perl-5.20.3/lib/site_perl/5.20.3/Test/WWW/Mechanize/PSGI.pm line 50
	Test::WWW::Mechanize::PSGI::simple_request(Test::WWW::Mechanize::PSGI=HASH(0x293cac8), HTTP::Request=HASH(0x29282a0), undef, undef) called at /opt/perl-5.20.3/lib/site_perl/5.20.3/LWP/UserAgent.pm line 297
	LWP::UserAgent::request(Test::WWW::Mechanize::PSGI=HASH(0x293cac8), HTTP::Request=HASH(0x29282a0)) called at /opt/perl-5.20.3/lib/site_perl/5.20.3/WWW/Mechanize.pm line 1413
	WWW::Mechanize::_make_request(Test::WWW::Mechanize::PSGI=HASH(0x293cac8), HTTP::Request=HASH(0x29282a0)) called at /opt/perl-5.20.3/lib/site_perl/5.20.3/WWW/Mechanize.pm line 1253
	WWW::Mechanize::request(Test::WWW::Mechanize::PSGI=HASH(0x293cac8), HTTP::Request=HASH(0x29282a0)) called at /opt/perl-5.20.3/lib/site_perl/5.20.3/LWP/UserAgent.pm line 478
	LWP::UserAgent::post(Test::WWW::Mechanize::PSGI=HASH(0x293cac8), "/wishlist?foo", HASH(0x24abb98)) called at /opt/perl-5.20.3/lib/site_perl/5.20.3/Test/WWW/Mechanize.pm line 237
	Test::WWW::Mechanize::post_ok(Test::WWW::Mechanize::PSGI=HASH(0x293cac8), "/wishlist?foo") called at t/03_mech.t line 75
Do not use HTTP::Session2::ClientStore. Use HTTP::Session2::ServerStore or HTTP::Session2::ClientStore2 instead. at /home/cpansand/.cpan/build/2018012603/HTTP-Session2-1.10-0/blib/lib/HTTP/Session2/ClientStore.pm line 25.
Secret string too short at /home/cpansand/.cpan/build/2018012603/HTTP-Session2-1.10-0/blib/lib/HTTP/Session2/Base.pm line 79.
	HTTP::Session2::Base::__ANON__(HTTP::Session2::ClientStore=HASH(0x292f488), "s3cret") called at t/03_mech.t line 127
	main::client_session(HASH(0x292fed8)) called at t/03_mech.t line 17
	main::__ANON__(HASH(0x292fed8)) called at /opt/perl-5.20.3/lib/site_perl/5.20.3/Test/WWW/Mechanize/PSGI.pm line 43
	Test::WWW::Mechanize::PSGI::try {...} () called at /opt/perl-5.20.3/lib/site_perl/5.20.3/Try/Tiny.pm line 102
	eval {...} called at /opt/perl-5.20.3/lib/site_perl/5.20.3/Try/Tiny.pm line 93
	Try::Tiny::try(CODE(0x2928870), Try::Tiny::Catch=REF(0x292f5d8)) called at /opt/perl-5.20.3/lib/site_perl/5.20.3/Test/WWW/Mechanize/PSGI.pm line 50
	Test::WWW::Mechanize::PSGI::simple_request(Test::WWW::Mechanize::PSGI=HASH(0x293cac8), HTTP::Request=HASH(0x29208e8), undef, undef) called at /opt/perl-5.20.3/lib/site_perl/5.20.3/LWP/UserAgent.pm line 297
	LWP::UserAgent::request(Test::WWW::Mechanize::PSGI=HASH(0x293cac8), HTTP::Request=HASH(0x29208e8)) called at /opt/perl-5.20.3/lib/site_perl/5.20.3/WWW/Mechanize.pm line 1413
	WWW::Mechanize::_make_request(Test::WWW::Mechanize::PSGI=HASH(0x293cac8), HTTP::Request=HASH(0x29208e8)) called at /opt/perl-5.20.3/lib/site_perl/5.20.3/WWW/Mechanize.pm line 1253
	WWW::Mechanize::request(Test::WWW::Mechanize::PSGI=HASH(0x293cac8), HTTP::Request=HASH(0x29208e8)) called at /opt/perl-5.20.3/lib/site_perl/5.20.3/LWP/UserAgent.pm line 435
	LWP::UserAgent::get(Test::WWW::Mechanize::PSGI=HASH(0x293cac8), "http://localhost/wishlist") called at /opt/perl-5.20.3/lib/site_perl/5.20.3/WWW/Mechanize.pm line 117
	WWW::Mechanize::get(Test::WWW::Mechanize::PSGI=HASH(0x293cac8), "/wishlist") called at /opt/perl-5.20.3/lib/site_perl/5.20.3/Test/WWW/Mechanize.pm line 160
	Test::WWW::Mechanize::get_ok(Test::WWW::Mechanize::PSGI=HASH(0x293cac8), "/wishlist") called at t/03_mech.t line 76
Do not use HTTP::Session2::ClientStore. Use HTTP::Session2::ServerStore or HTTP::Session2::ClientStore2 instead. at /home/cpansand/.cpan/build/2018012603/HTTP-Session2-1.10-0/blib/lib/HTTP/Session2/ClientStore.pm line 35.
Secret string too short at /home/cpansand/.cpan/build/2018012603/HTTP-Session2-1.10-0/blib/lib/HTTP/Session2/Base.pm line 79.
	HTTP::Session2::Base::__ANON__(HTTP::Session2::ClientStore=HASH(0x2929008), "s3cret") called at t/03_mech.t line 127
	main::client_session(HASH(0x292fa70)) called at t/03_mech.t line 17
	main::__ANON__(HASH(0x292fa70)) called at /opt/perl-5.20.3/lib/site_perl/5.20.3/Test/WWW/Mechanize/PSGI.pm line 43
	Test::WWW::Mechanize::PSGI::try {...} () called at /opt/perl-5.20.3/lib/site_perl/5.20.3/Try/Tiny.pm line 102
	eval {...} called at /opt/perl-5.20.3/lib/site_perl/5.20.3/Try/Tiny.pm line 93
	Try::Tiny::try(CODE(0x292f050), Try::Tiny::Catch=REF(0x2933860)) called at /opt/perl-5.20.3/lib/site_perl/5.20.3/Test/WWW/Mechanize/PSGI.pm line 50
	Test::WWW::Mechanize::PSGI::simple_request(Test::WWW::Mechanize::PSGI=HASH(0x293cac8), HTTP::Request=HASH(0x292fb48), undef, undef) called at /opt/perl-5.20.3/lib/site_perl/5.20.3/LWP/UserAgent.pm line 297
	LWP::UserAgent::request(Test::WWW::Mechanize::PSGI=HASH(0x293cac8), HTTP::Request=HASH(0x292fb48)) called at /opt/perl-5.20.3/lib/site_perl/5.20.3/WWW/Mechanize.pm line 1413
	WWW::Mechanize::_make_request(Test::WWW::Mechanize::PSGI=HASH(0x293cac8), HTTP::Request=HASH(0x292fb48)) called at /opt/perl-5.20.3/lib/site_perl/5.20.3/WWW/Mechanize.pm line 1253
	WWW::Mechanize::request(Test::WWW::Mechanize::PSGI=HASH(0x293cac8), HTTP::Request=HASH(0x292fb48)) called at /opt/perl-5.20.3/lib/site_perl/5.20.3/LWP/UserAgent.pm line 478
	LWP::UserAgent::post(Test::WWW::Mechanize::PSGI=HASH(0x293cac8), "/wishlist?bar") called at t/03_mech.t line 78
Do not use HTTP::Session2::ClientStore. Use HTTP::Session2::ServerStore or HTTP::Session2::ClientStore2 instead. at /home/cpansand/.cpan/build/2018012603/HTTP-Session2-1.10-0/blib/lib/HTTP/Session2/ClientStore.pm line 35.
Secret string too short at /home/cpansand/.cpan/build/2018012603/HTTP-Session2-1.10-0/blib/lib/HTTP/Session2/Base.pm line 79.
	HTTP::Session2::Base::__ANON__(HTTP::Session2::ClientStore=HASH(0x2934040), "s3cret") called at t/03_mech.t line 127
	main::client_session(HASH(0x29337e8)) called at t/03_mech.t line 17
	main::__ANON__(HASH(0x29337e8)) called at /opt/perl-5.20.3/lib/site_perl/5.20.3/Test/WWW/Mechanize/PSGI.pm line 43
	Test::WWW::Mechanize::PSGI::try {...} () called at /opt/perl-5.20.3/lib/site_perl/5.20.3/Try/Tiny.pm line 102
	eval {...} called at /opt/perl-5.20.3/lib/site_perl/5.20.3/Try/Tiny.pm line 93
	Try::Tiny::try(CODE(0x29388a8), Try::Tiny::Catch=REF(0x29343a0)) called at /opt/perl-5.20.3/lib/site_perl/5.20.3/Test/WWW/Mechanize/PSGI.pm line 50
	Test::WWW::Mechanize::PSGI::simple_request(Test::WWW::Mechanize::PSGI=HASH(0x293cac8), HTTP::Request=HASH(0x293cf00), undef, undef) called at /opt/perl-5.20.3/lib/site_perl/5.20.3/LWP/UserAgent.pm line 297
	LWP::UserAgent::request(Test::WWW::Mechanize::PSGI=HASH(0x293cac8), HTTP::Request=HASH(0x293cf00)) called at /opt/perl-5.20.3/lib/site_perl/5.20.3/WWW/Mechanize.pm line 1413
	WWW::Mechanize::_make_request(Test::WWW::Mechanize::PSGI=HASH(0x293cac8), HTTP::Request=HASH(0x293cf00)) called at /opt/perl-5.20.3/lib/site_perl/5.20.3/WWW/Mechanize.pm line 1253
	WWW::Mechanize::request(Test::WWW::Mechanize::PSGI=HASH(0x293cac8), HTTP::Request=HASH(0x293cf00)) called at /opt/perl-5.20.3/lib/site_perl/5.20.3/LWP/UserAgent.pm line 478
	LWP::UserAgent::post(Test::WWW::Mechanize::PSGI=HASH(0x293cac8), "/wishlist?bar", HASH(0x24abb98)) called at /opt/perl-5.20.3/lib/site_perl/5.20.3/Test/WWW/Mechanize.pm line 237
	Test::WWW::Mechanize::post_ok(Test::WWW::Mechanize::PSGI=HASH(0x293cac8), "/wishlist?bar") called at t/03_mech.t line 81
Do not use HTTP::Session2::ClientStore. Use HTTP::Session2::ServerStore or HTTP::Session2::ClientStore2 instead. at /home/cpansand/.cpan/build/2018012603/HTTP-Session2-1.10-0/blib/lib/HTTP/Session2/ClientStore.pm line 35.
Do not use HTTP::Session2::ClientStore. Use HTTP::Session2::ServerStore or HTTP::Session2::ClientStore2 instead. at /home/cpansand/.cpan/build/2018012603/HTTP-Session2-1.10-0/blib/lib/HTTP/Session2/ClientStore.pm line 25.
Secret string too short at /home/cpansand/.cpan/build/2018012603/HTTP-Session2-1.10-0/blib/lib/HTTP/Session2/Base.pm line 79.
	HTTP::Session2::Base::__ANON__(HTTP::Session2::ClientStore=HASH(0x2933ce0), "s3cret") called at t/03_mech.t line 127
	main::client_session(HASH(0x292f0c8)) called at t/03_mech.t line 17
	main::__ANON__(HASH(0x292f0c8)) called at /opt/perl-5.20.3/lib/site_perl/5.20.3/Test/WWW/Mechanize/PSGI.pm line 43
	Test::WWW::Mechanize::PSGI::try {...} () called at /opt/perl-5.20.3/lib/site_perl/5.20.3/Try/Tiny.pm line 102
	eval {...} called at /opt/perl-5.20.3/lib/site_perl/5.20.3/Try/Tiny.pm line 93
	Try::Tiny::try(CODE(0x2933800), Try::Tiny::Catch=REF(0x29340d0)) called at /opt/perl-5.20.3/lib/site_perl/5.20.3/Test/WWW/Mechanize/PSGI.pm line 50
	Test::WWW::Mechanize::PSGI::simple_request(Test::WWW::Mechanize::PSGI=HASH(0x293cac8), HTTP::Request=HASH(0x2933ea8), undef, undef) called at /opt/perl-5.20.3/lib/site_perl/5.20.3/LWP/UserAgent.pm line 297
	LWP::UserAgent::request(Test::WWW::Mechanize::PSGI=HASH(0x293cac8), HTTP::Request=HASH(0x2933ea8)) called at /opt/perl-5.20.3/lib/site_perl/5.20.3/WWW/Mechanize.pm line 1413
	WWW::Mechanize::_make_request(Test::WWW::Mechanize::PSGI=HASH(0x293cac8), HTTP::Request=HASH(0x2933ea8)) called at /opt/perl-5.20.3/lib/site_perl/5.20.3/WWW/Mechanize.pm line 1253
	WWW::Mechanize::request(Test::WWW::Mechanize::PSGI=HASH(0x293cac8), HTTP::Request=HASH(0x2933ea8)) called at /opt/perl-5.20.3/lib/site_perl/5.20.3/LWP/UserAgent.pm line 435
	LWP::UserAgent::get(Test::WWW::Mechanize::PSGI=HASH(0x293cac8), "http://localhost/wishlist") called at /opt/perl-5.20.3/lib/site_perl/5.20.3/WWW/Mechanize.pm line 117
	WWW::Mechanize::get(Test::WWW::Mechanize::PSGI=HASH(0x293cac8), "/wishlist") called at /opt/perl-5.20.3/lib/site_perl/5.20.3/Test/WWW/Mechanize.pm line 160
	Test::WWW::Mechanize::get_ok(Test::WWW::Mechanize::PSGI=HASH(0x293cac8), "/wishlist") called at t/03_mech.t line 82
Do not use HTTP::Session2::ClientStore. Use HTTP::Session2::ServerStore or HTTP::Session2::ClientStore2 instead. at /home/cpansand/.cpan/build/2018012603/HTTP-Session2-1.10-0/blib/lib/HTTP/Session2/ClientStore.pm line 35.
Secret string too short at /home/cpansand/.cpan/build/2018012603/HTTP-Session2-1.10-0/blib/lib/HTTP/Session2/Base.pm line 79.
	HTTP::Session2::Base::__ANON__(HTTP::Session2::ClientStore=HASH(0x293c9d8), "s3cret") called at t/03_mech.t line 127
	main::client_session(HASH(0x29283d8)) called at t/03_mech.t line 17
	main::__ANON__(HASH(0x29283d8)) called at /opt/perl-5.20.3/lib/site_perl/5.20.3/Test/WWW/Mechanize/PSGI.pm line 43
	Test::WWW::Mechanize::PSGI::try {...} () called at /opt/perl-5.20.3/lib/site_perl/5.20.3/Try/Tiny.pm line 102
	eval {...} called at /opt/perl-5.20.3/lib/site_perl/5.20.3/Try/Tiny.pm line 93
	Try::Tiny::try(CODE(0x2938f68), Try::Tiny::Catch=REF(0x2934640)) called at /opt/perl-5.20.3/lib/site_perl/5.20.3/Test/WWW/Mechanize/PSGI.pm line 50
	Test::WWW::Mechanize::PSGI::simple_request(Test::WWW::Mechanize::PSGI=HASH(0x293cac8), HTTP::Request=HASH(0x2938e48), undef, undef) called at /opt/perl-5.20.3/lib/site_perl/5.20.3/LWP/UserAgent.pm line 297
	LWP::UserAgent::request(Test::WWW::Mechanize::PSGI=HASH(0x293cac8), HTTP::Request=HASH(0x2938e48)) called at /opt/perl-5.20.3/lib/site_perl/5.20.3/WWW/Mechanize.pm line 1413
	WWW::Mechanize::_make_request(Test::WWW::Mechanize::PSGI=HASH(0x293cac8), HTTP::Request=HASH(0x2938e48)) called at /opt/perl-5.20.3/lib/site_perl/5.20.3/WWW/Mechanize.pm line 1253
	WWW::Mechanize::request(Test::WWW::Mechanize::PSGI=HASH(0x293cac8), HTTP::Request=HASH(0x2938e48)) called at /opt/perl-5.20.3/lib/site_perl/5.20.3/LWP/UserAgent.pm line 478
	LWP::UserAgent::post(Test::WWW::Mechanize::PSGI=HASH(0x293cac8), "/account/login?john", HASH(0x24abb98)) called at /opt/perl-5.20.3/lib/site_perl/5.20.3/Test/WWW/Mechanize.pm line 237
	Test::WWW::Mechanize::post_ok(Test::WWW::Mechanize::PSGI=HASH(0x293cac8), "/account/login?john") called at t/03_mech.t line 84
Do not use HTTP::Session2::ClientStore. Use HTTP::Session2::ServerStore or HTTP::Session2::ClientStore2 instead. at /home/cpansand/.cpan/build/2018012603/HTTP-Session2-1.10-0/blib/lib/HTTP/Session2/ClientStore.pm line 35.
Do not use HTTP::Session2::ClientStore. Use HTTP::Session2::ServerStore or HTTP::Session2::ClientStore2 instead. at /home/cpansand/.cpan/build/2018012603/HTTP-Session2-1.10-0/blib/lib/HTTP/Session2/ClientStore.pm line 35.
Do not use HTTP::Session2::ClientStore. Use HTTP::Session2::ServerStore or HTTP::Session2::ClientStore2 instead. at /home/cpansand/.cpan/build/2018012603/HTTP-Session2-1.10-0/blib/lib/HTTP/Session2/ClientStore.pm line 25.
Secret string too short at /home/cpansand/.cpan/build/2018012603/HTTP-Session2-1.10-0/blib/lib/HTTP/Session2/Base.pm line 79.
	HTTP::Session2::Base::__ANON__(HTTP::Session2::ClientStore=HASH(0x27d3be0), "s3cret") called at t/03_mech.t line 127
	main::client_session(HASH(0x292f788)) called at t/03_mech.t line 17
	main::__ANON__(HASH(0x292f788)) called at /opt/perl-5.20.3/lib/site_perl/5.20.3/Test/WWW/Mechanize/PSGI.pm line 43
	Test::WWW::Mechanize::PSGI::try {...} () called at /opt/perl-5.20.3/lib/site_perl/5.20.3/Try/Tiny.pm line 102
	eval {...} called at /opt/perl-5.20.3/lib/site_perl/5.20.3/Try/Tiny.pm line 93
	Try::Tiny::try(CODE(0x29337d0), Try::Tiny::Catch=REF(0x2939538)) called at /opt/perl-5.20.3/lib/site_perl/5.20.3/Test/WWW/Mechanize/PSGI.pm line 50
	Test::WWW::Mechanize::PSGI::simple_request(Test::WWW::Mechanize::PSGI=HASH(0x293cac8), HTTP::Request=HASH(0x2933da0), undef, undef) called at /opt/perl-5.20.3/lib/site_perl/5.20.3/LWP/UserAgent.pm line 297
	LWP::UserAgent::request(Test::WWW::Mechanize::PSGI=HASH(0x293cac8), HTTP::Request=HASH(0x2933da0)) called at /opt/perl-5.20.3/lib/site_perl/5.20.3/WWW/Mechanize.pm line 1413
	WWW::Mechanize::_make_request(Test::WWW::Mechanize::PSGI=HASH(0x293cac8), HTTP::Request=HASH(0x2933da0)) called at /opt/perl-5.20.3/lib/site_perl/5.20.3/WWW/Mechanize.pm line 1253
	WWW::Mechanize::request(Test::WWW::Mechanize::PSGI=HASH(0x293cac8), HTTP::Request=HASH(0x2933da0)) called at /opt/perl-5.20.3/lib/site_perl/5.20.3/LWP/UserAgent.pm line 435
	LWP::UserAgent::get(Test::WWW::Mechanize::PSGI=HASH(0x293cac8), "http://localhost/wishlist") called at /opt/perl-5.20.3/lib/site_perl/5.20.3/WWW/Mechanize.pm line 117
	WWW::Mechanize::get(Test::WWW::Mechanize::PSGI=HASH(0x293cac8), "/wishlist") called at /opt/perl-5.20.3/lib/site_perl/5.20.3/Test/WWW/Mechanize.pm line 160
	Test::WWW::Mechanize::get_ok(Test::WWW::Mechanize::PSGI=HASH(0x293cac8), "/wishlist", "Wishlist is still available") called at t/03_mech.t line 85
Do not use HTTP::Session2::ClientStore. Use HTTP::Session2::ServerStore or HTTP::Session2::ClientStore2 instead. at /home/cpansand/.cpan/build/2018012603/HTTP-Session2-1.10-0/blib/lib/HTTP/Session2/ClientStore.pm line 35.
Secret string too short at /home/cpansand/.cpan/build/2018012603/HTTP-Session2-1.10-0/blib/lib/HTTP/Session2/Base.pm line 79.
	HTTP::Session2::Base::__ANON__(HTTP::Session2::ClientStore=HASH(0x2939130), "s3cret") called at t/03_mech.t line 127
	main::client_session(HASH(0x2939460)) called at t/03_mech.t line 17
	main::__ANON__(HASH(0x2939460)) called at /opt/perl-5.20.3/lib/site_perl/5.20.3/Test/WWW/Mechanize/PSGI.pm line 43
	Test::WWW::Mechanize::PSGI::try {...} () called at /opt/perl-5.20.3/lib/site_perl/5.20.3/Try/Tiny.pm line 102
	eval {...} called at /opt/perl-5.20.3/lib/site_perl/5.20.3/Try/Tiny.pm line 93
	Try::Tiny::try(CODE(0x27f0618), Try::Tiny::Catch=REF(0x1e81a20)) called at /opt/perl-5.20.3/lib/site_perl/5.20.3/Test/WWW/Mechanize/PSGI.pm line 50
	Test::WWW::Mechanize::PSGI::simple_request(Test::WWW::Mechanize::PSGI=HASH(0x293cac8), HTTP::Request=HASH(0x28757b0), undef, undef) called at /opt/perl-5.20.3/lib/site_perl/5.20.3/LWP/UserAgent.pm line 297
	LWP::UserAgent::request(Test::WWW::Mechanize::PSGI=HASH(0x293cac8), HTTP::Request=HASH(0x28757b0)) called at /opt/perl-5.20.3/lib/site_perl/5.20.3/WWW/Mechanize.pm line 1413
	WWW::Mechanize::_make_request(Test::WWW::Mechanize::PSGI=HASH(0x293cac8), HTTP::Request=HASH(0x28757b0)) called at /opt/perl-5.20.3/lib/site_perl/5.20.3/WWW/Mechanize.pm line 1253
	WWW::Mechanize::request(Test::WWW::Mechanize::PSGI=HASH(0x293cac8), HTTP::Request=HASH(0x28757b0)) called at /opt/perl-5.20.3/lib/site_perl/5.20.3/LWP/UserAgent.pm line 478
	LWP::UserAgent::post(Test::WWW::Mechanize::PSGI=HASH(0x293cac8), "/wishlist?baz") called at t/03_mech.t line 87
Do not use HTTP::Session2::ClientStore. Use HTTP::Session2::ServerStore or HTTP::Session2::ClientStore2 instead. at /home/cpansand/.cpan/build/2018012603/HTTP-Session2-1.10-0/blib/lib/HTTP/Session2/ClientStore.pm line 35.
Secret string too short at /home/cpansand/.cpan/build/2018012603/HTTP-Session2-1.10-0/blib/lib/HTTP/Session2/Base.pm line 79.
	HTTP::Session2::Base::__ANON__(HTTP::Session2::ClientStore=HASH(0x27b6c50), "s3cret") called at t/03_mech.t line 127
	main::client_session(HASH(0x27b6b90)) called at t/03_mech.t line 17
	main::__ANON__(HASH(0x27b6b90)) called at /opt/perl-5.20.3/lib/site_perl/5.20.3/Test/WWW/Mechanize/PSGI.pm line 43
	Test::WWW::Mechanize::PSGI::try {...} () called at /opt/perl-5.20.3/lib/site_perl/5.20.3/Try/Tiny.pm line 102
	eval {...} called at /opt/perl-5.20.3/lib/site_perl/5.20.3/Try/Tiny.pm line 93
	Try::Tiny::try(CODE(0x2938fc8), Try::Tiny::Catch=REF(0x27d3c10)) called at /opt/perl-5.20.3/lib/site_perl/5.20.3/Test/WWW/Mechanize/PSGI.pm line 50
	Test::WWW::Mechanize::PSGI::simple_request(Test::WWW::Mechanize::PSGI=HASH(0x293cac8), HTTP::Request=HASH(0x1392788), undef, undef) called at /opt/perl-5.20.3/lib/site_perl/5.20.3/LWP/UserAgent.pm line 297
	LWP::UserAgent::request(Test::WWW::Mechanize::PSGI=HASH(0x293cac8), HTTP::Request=HASH(0x1392788)) called at /opt/perl-5.20.3/lib/site_perl/5.20.3/WWW/Mechanize.pm line 1413
	WWW::Mechanize::_make_request(Test::WWW::Mechanize::PSGI=HASH(0x293cac8), HTTP::Request=HASH(0x1392788)) called at /opt/perl-5.20.3/lib/site_perl/5.20.3/WWW/Mechanize.pm line 1253
	WWW::Mechanize::request(Test::WWW::Mechanize::PSGI=HASH(0x293cac8), HTTP::Request=HASH(0x1392788)) called at /opt/perl-5.20.3/lib/site_perl/5.20.3/LWP/UserAgent.pm line 478
	LWP::UserAgent::post(Test::WWW::Mechanize::PSGI=HASH(0x293cac8), "/wishlist?baz", HASH(0x24abb98)) called at /opt/perl-5.20.3/lib/site_perl/5.20.3/Test/WWW/Mechanize.pm line 237
	Test::WWW::Mechanize::post_ok(Test::WWW::Mechanize::PSGI=HASH(0x293cac8), "/wishlist?baz") called at t/03_mech.t line 90
Do not use HTTP::Session2::ClientStore. Use HTTP::Session2::ServerStore or HTTP::Session2::ClientStore2 instead. at /home/cpansand/.cpan/build/2018012603/HTTP-Session2-1.10-0/blib/lib/HTTP/Session2/ClientStore.pm line 35.
Do not use HTTP::Session2::ClientStore. Use HTTP::Session2::ServerStore or HTTP::Session2::ClientStore2 instead. at /home/cpansand/.cpan/build/2018012603/HTTP-Session2-1.10-0/blib/lib/HTTP/Session2/ClientStore.pm line 25.
Secret string too short at /home/cpansand/.cpan/build/2018012603/HTTP-Session2-1.10-0/blib/lib/HTTP/Session2/Base.pm line 79.
	HTTP::Session2::Base::__ANON__(HTTP::Session2::ClientStore=HASH(0x293d380), "s3cret") called at t/03_mech.t line 127
	main::client_session(HASH(0x2928d50)) called at t/03_mech.t line 17
	main::__ANON__(HASH(0x2928d50)) called at /opt/perl-5.20.3/lib/site_perl/5.20.3/Test/WWW/Mechanize/PSGI.pm line 43
	Test::WWW::Mechanize::PSGI::try {...} () called at /opt/perl-5.20.3/lib/site_perl/5.20.3/Try/Tiny.pm line 102
	eval {...} called at /opt/perl-5.20.3/lib/site_perl/5.20.3/Try/Tiny.pm line 93
	Try::Tiny::try(CODE(0x292f6f8), Try::Tiny::Catch=REF(0x293cd80)) called at /opt/perl-5.20.3/lib/site_perl/5.20.3/Test/WWW/Mechanize/PSGI.pm line 50
	Test::WWW::Mechanize::PSGI::simple_request(Test::WWW::Mechanize::PSGI=HASH(0x293cac8), HTTP::Request=HASH(0x292ff68), undef, undef) called at /opt/perl-5.20.3/lib/site_perl/5.20.3/LWP/UserAgent.pm line 297
	LWP::UserAgent::request(Test::WWW::Mechanize::PSGI=HASH(0x293cac8), HTTP::Request=HASH(0x292ff68)) called at /opt/perl-5.20.3/lib/site_perl/5.20.3/WWW/Mechanize.pm line 1413
	WWW::Mechanize::_make_request(Test::WWW::Mechanize::PSGI=HASH(0x293cac8), HTTP::Request=HASH(0x292ff68)) called at /opt/perl-5.20.3/lib/site_perl/5.20.3/WWW/Mechanize.pm line 1253
	WWW::Mechanize::request(Test::WWW::Mechanize::PSGI=HASH(0x293cac8), HTTP::Request=HASH(0x292ff68)) called at /opt/perl-5.20.3/lib/site_perl/5.20.3/LWP/UserAgent.pm line 435
	LWP::UserAgent::get(Test::WWW::Mechanize::PSGI=HASH(0x293cac8), "http://localhost/wishlist") called at /opt/perl-5.20.3/lib/site_perl/5.20.3/WWW/Mechanize.pm line 117
	WWW::Mechanize::get(Test::WWW::Mechanize::PSGI=HASH(0x293cac8), "/wishlist") called at /opt/perl-5.20.3/lib/site_perl/5.20.3/Test/WWW/Mechanize.pm line 160
	Test::WWW::Mechanize::get_ok(Test::WWW::Mechanize::PSGI=HASH(0x293cac8), "/wishlist", "Wishlist is still available") called at t/03_mech.t line 91
Do not use HTTP::Session2::ClientStore. Use HTTP::Session2::ServerStore or HTTP::Session2::ClientStore2 instead. at /home/cpansand/.cpan/build/2018012603/HTTP-Session2-1.10-0/blib/lib/HTTP/Session2/ClientStore.pm line 35.
Secret string too short at /home/cpansand/.cpan/build/2018012603/HTTP-Session2-1.10-0/blib/lib/HTTP/Session2/Base.pm line 79.
	HTTP::Session2::Base::__ANON__(HTTP::Session2::ClientStore=HASH(0x2933ba8), "s3cret") called at t/03_mech.t line 127
	main::client_session(HASH(0x293d350)) called at t/03_mech.t line 17
	main::__ANON__(HASH(0x293d350)) called at /opt/perl-5.20.3/lib/site_perl/5.20.3/Test/WWW/Mechanize/PSGI.pm line 43
	Test::WWW::Mechanize::PSGI::try {...} () called at /opt/perl-5.20.3/lib/site_perl/5.20.3/Try/Tiny.pm line 102
	eval {...} called at /opt/perl-5.20.3/lib/site_perl/5.20.3/Try/Tiny.pm line 93
	Try::Tiny::try(CODE(0x293ce88), Try::Tiny::Catch=REF(0x293d338)) called at /opt/perl-5.20.3/lib/site_perl/5.20.3/Test/WWW/Mechanize/PSGI.pm line 50
	Test::WWW::Mechanize::PSGI::simple_request(Test::WWW::Mechanize::PSGI=HASH(0x293cac8), HTTP::Request=HASH(0x293d698), undef, undef) called at /opt/perl-5.20.3/lib/site_perl/5.20.3/LWP/UserAgent.pm line 297
	LWP::UserAgent::request(Test::WWW::Mechanize::PSGI=HASH(0x293cac8), HTTP::Request=HASH(0x293d698)) called at /opt/perl-5.20.3/lib/site_perl/5.20.3/WWW/Mechanize.pm line 1413
	WWW::Mechanize::_make_request(Test::WWW::Mechanize::PSGI=HASH(0x293cac8), HTTP::Request=HASH(0x293d698)) called at /opt/perl-5.20.3/lib/site_perl/5.20.3/WWW/Mechanize.pm line 1253
	WWW::Mechanize::request(Test::WWW::Mechanize::PSGI=HASH(0x293cac8), HTTP::Request=HASH(0x293d698)) called at /opt/perl-5.20.3/lib/site_perl/5.20.3/LWP/UserAgent.pm line 435
	LWP::UserAgent::get(Test::WWW::Mechanize::PSGI=HASH(0x293cac8), "http://localhost/my/name") called at /opt/perl-5.20.3/lib/site_perl/5.20.3/WWW/Mechanize.pm line 117
	WWW::Mechanize::get(Test::WWW::Mechanize::PSGI=HASH(0x293cac8), "/my/name") called at /opt/perl-5.20.3/lib/site_perl/5.20.3/Test/WWW/Mechanize.pm line 160
	Test::WWW::Mechanize::get_ok(Test::WWW::Mechanize::PSGI=HASH(0x293cac8), "/my/name") called at t/03_mech.t line 93
Do not use HTTP::Session2::ClientStore. Use HTTP::Session2::ServerStore or HTTP::Session2::ClientStore2 instead. at /home/cpansand/.cpan/build/2018012603/HTTP-Session2-1.10-0/blib/lib/HTTP/Session2/ClientStore.pm line 35.
Secret string too short at /home/cpansand/.cpan/build/2018012603/HTTP-Session2-1.10-0/blib/lib/HTTP/Session2/Base.pm line 79.
	HTTP::Session2::Base::__ANON__(HTTP::Session2::ClientStore=HASH(0x29447d0), "s3cret") called at t/03_mech.t line 127
	main::client_session(HASH(0x293d4b8)) called at t/03_mech.t line 17
	main::__ANON__(HASH(0x293d4b8)) called at /opt/perl-5.20.3/lib/site_perl/5.20.3/Test/WWW/Mechanize/PSGI.pm line 43
	Test::WWW::Mechanize::PSGI::try {...} () called at /opt/perl-5.20.3/lib/site_perl/5.20.3/Try/Tiny.pm line 102
	eval {...} called at /opt/perl-5.20.3/lib/site_perl/5.20.3/Try/Tiny.pm line 93
	Try::Tiny::try(CODE(0x293d6b0), Try::Tiny::Catch=REF(0x28590c0)) called at /opt/perl-5.20.3/lib/site_perl/5.20.3/Test/WWW/Mechanize/PSGI.pm line 50
	Test::WWW::Mechanize::PSGI::simple_request(Test::WWW::Mechanize::PSGI=HASH(0x293cac8), HTTP::Request=HASH(0x293d818), undef, undef) called at /opt/perl-5.20.3/lib/site_perl/5.20.3/LWP/UserAgent.pm line 297
	LWP::UserAgent::request(Test::WWW::Mechanize::PSGI=HASH(0x293cac8), HTTP::Request=HASH(0x293d818)) called at /opt/perl-5.20.3/lib/site_perl/5.20.3/WWW/Mechanize.pm line 1413
	WWW::Mechanize::_make_request(Test::WWW::Mechanize::PSGI=HASH(0x293cac8), HTTP::Request=HASH(0x293d818)) called at /opt/perl-5.20.3/lib/site_perl/5.20.3/WWW/Mechanize.pm line 1253
	WWW::Mechanize::request(Test::WWW::Mechanize::PSGI=HASH(0x293cac8), HTTP::Request=HASH(0x293d818)) called at /opt/perl-5.20.3/lib/site_perl/5.20.3/LWP/UserAgent.pm line 478
	LWP::UserAgent::post(Test::WWW::Mechanize::PSGI=HASH(0x293cac8), "/account/logout?john") called at t/03_mech.t line 97
Do not use HTTP::Session2::ClientStore. Use HTTP::Session2::ServerStore or HTTP::Session2::ClientStore2 instead. at /home/cpansand/.cpan/build/2018012603/HTTP-Session2-1.10-0/blib/lib/HTTP/Session2/ClientStore.pm line 35.
Do not use HTTP::Session2::ClientStore. Use HTTP::Session2::ServerStore or HTTP::Session2::ClientStore2 instead. at /home/cpansand/.cpan/build/2018012603/HTTP-Session2-1.10-0/blib/lib/HTTP/Session2/ClientStore.pm line 35.
t/03_mech.t ................. ok
Do not use HTTP::Session2::ClientStore. Use HTTP::Session2::ServerStore or HTTP::Session2::ClientStore2 instead. at /home/cpansand/.cpan/build/2018012603/HTTP-Session2-1.10-0/blib/lib/HTTP/Session2/ClientStore.pm line 25.
t/04_plack_response.t ....... ok
Secret string too short at /home/cpansand/.cpan/build/2018012603/HTTP-Session2-1.10-0/blib/lib/HTTP/Session2/Base.pm line 79.
	HTTP::Session2::Base::__ANON__(HTTP::Session2::ClientStore=HASH(0x156d130), "s3cret") called at t/05_keep_me_signed_in.t line 15
Do not use HTTP::Session2::ClientStore. Use HTTP::Session2::ServerStore or HTTP::Session2::ClientStore2 instead. at /home/cpansand/.cpan/build/2018012603/HTTP-Session2-1.10-0/blib/lib/HTTP/Session2/ClientStore.pm line 25.
t/05_keep_me_signed_in.t .... ok
Secret string too short at /home/cpansand/.cpan/build/2018012603/HTTP-Session2-1.10-0/blib/lib/HTTP/Session2/Base.pm line 79.
	HTTP::Session2::Base::__ANON__(HTTP::Session2::Base=HASH(0x1bf2380), "i am secret") called at t/06_base_abstract.t line 7
t/06_base_abstract.t ........ ok
Secret string too short at /home/cpansand/.cpan/build/2018012603/HTTP-Session2-1.10-0/blib/lib/HTTP/Session2/Base.pm line 79.
	HTTP::Session2::Base::__ANON__(HTTP::Session2::ClientStore=HASH(0x12ae650), "secret") called at t/07_client_store.t line 23
	main::__ANON__() called at /opt/perl-5.20.3/lib/site_perl/5.20.3/Test/Builder.pm line 337
	eval {...} called at /opt/perl-5.20.3/lib/site_perl/5.20.3/Test/Builder.pm line 337
	Test::Builder::subtest(Test::Builder=HASH(0x12d33b0), "get/set/remove", CODE(0x18d2c50)) called at /opt/perl-5.20.3/lib/site_perl/5.20.3/Test/More.pm line 807
	Test::More::subtest("get/set/remove", CODE(0x18d2c50)) called at t/07_client_store.t line 31
Secret string too short at /home/cpansand/.cpan/build/2018012603/HTTP-Session2-1.10-0/blib/lib/HTTP/Session2/Base.pm line 79.
	HTTP::Session2::Base::__ANON__(HTTP::Session2::ClientStore=HASH(0x208b3c8), "secret") called at t/07_client_store.t line 35
	main::__ANON__() called at /opt/perl-5.20.3/lib/site_perl/5.20.3/Test/Builder.pm line 337
	eval {...} called at /opt/perl-5.20.3/lib/site_perl/5.20.3/Test/Builder.pm line 337
	Test::Builder::subtest(Test::Builder=HASH(0x12d33b0), "validate_token", CODE(0x1c14b68)) called at /opt/perl-5.20.3/lib/site_perl/5.20.3/Test/More.pm line 807
	Test::More::subtest("validate_token", CODE(0x1c14b68)) called at t/07_client_store.t line 71
Do not use HTTP::Session2::ClientStore. Use HTTP::Session2::ServerStore or HTTP::Session2::ClientStore2 instead. at /home/cpansand/.cpan/build/2018012603/HTTP-Session2-1.10-0/blib/lib/HTTP/Session2/ClientStore.pm line 25.
Secret string too short at /home/cpansand/.cpan/build/2018012603/HTTP-Session2-1.10-0/blib/lib/HTTP/Session2/Base.pm line 79.
	HTTP::Session2::Base::__ANON__(HTTP::Session2::ClientStore=HASH(0x2099bc8), "secret") called at t/07_client_store.t line 51
	main::__ANON__() called at /opt/perl-5.20.3/lib/site_perl/5.20.3/Test/Builder.pm line 337
	eval {...} called at /opt/perl-5.20.3/lib/site_perl/5.20.3/Test/Builder.pm line 337
	Test::Builder::subtest(Test::Builder=HASH(0x12d33b0), "bad", CODE(0x1c15090)) called at /opt/perl-5.20.3/lib/site_perl/5.20.3/Test/More.pm line 807
	Test::More::subtest("bad", CODE(0x1c15090)) called at t/07_client_store.t line 57
	main::__ANON__() called at /opt/perl-5.20.3/lib/site_perl/5.20.3/Test/Builder.pm line 337
	eval {...} called at /opt/perl-5.20.3/lib/site_perl/5.20.3/Test/Builder.pm line 337
	Test::Builder::subtest(Test::Builder=HASH(0x12d33b0), "validate_token", CODE(0x1c14b68)) called at /opt/perl-5.20.3/lib/site_perl/5.20.3/Test/More.pm line 807
	Test::More::subtest("validate_token", CODE(0x1c14b68)) called at t/07_client_store.t line 71
Do not use HTTP::Session2::ClientStore. Use HTTP::Session2::ServerStore or HTTP::Session2::ClientStore2 instead. at /home/cpansand/.cpan/build/2018012603/HTTP-Session2-1.10-0/blib/lib/HTTP/Session2/ClientStore.pm line 35.
Secret string too short at /home/cpansand/.cpan/build/2018012603/HTTP-Session2-1.10-0/blib/lib/HTTP/Session2/Base.pm line 79.
	HTTP::Session2::Base::__ANON__(HTTP::Session2::ClientStore=HASH(0x209b860), "secret") called at t/07_client_store.t line 65
	main::__ANON__() called at /opt/perl-5.20.3/lib/site_perl/5.20.3/Test/Builder.pm line 337
	eval {...} called at /opt/perl-5.20.3/lib/site_perl/5.20.3/Test/Builder.pm line 337
	Test::Builder::subtest(Test::Builder=HASH(0x12d33b0), "good", CODE(0x1c15090)) called at /opt/perl-5.20.3/lib/site_perl/5.20.3/Test/More.pm line 807
	Test::More::subtest("good", CODE(0x1c15090)) called at t/07_client_store.t line 70
	main::__ANON__() called at /opt/perl-5.20.3/lib/site_perl/5.20.3/Test/Builder.pm line 337
	eval {...} called at /opt/perl-5.20.3/lib/site_perl/5.20.3/Test/Builder.pm line 337
	Test::Builder::subtest(Test::Builder=HASH(0x12d33b0), "validate_token", CODE(0x1c14b68)) called at /opt/perl-5.20.3/lib/site_perl/5.20.3/Test/More.pm line 807
	Test::More::subtest("validate_token", CODE(0x1c14b68)) called at t/07_client_store.t line 71
Do not use HTTP::Session2::ClientStore. Use HTTP::Session2::ServerStore or HTTP::Session2::ClientStore2 instead. at /home/cpansand/.cpan/build/2018012603/HTTP-Session2-1.10-0/blib/lib/HTTP/Session2/ClientStore.pm line 35.
Secret string too short at /home/cpansand/.cpan/build/2018012603/HTTP-Session2-1.10-0/blib/lib/HTTP/Session2/Base.pm line 79.
	HTTP::Session2::Base::__ANON__(HTTP::Session2::ClientStore=HASH(0x2099808), "secret") called at t/07_client_store.t line 76
	main::__ANON__() called at /opt/perl-5.20.3/lib/site_perl/5.20.3/Test/Builder.pm line 337
	eval {...} called at /opt/perl-5.20.3/lib/site_perl/5.20.3/Test/Builder.pm line 337
	Test::Builder::subtest(Test::Builder=HASH(0x12d33b0), "ignore_old", CODE(0x1c15240)) called at /opt/perl-5.20.3/lib/site_perl/5.20.3/Test/More.pm line 807
	Test::More::subtest("ignore_old", CODE(0x1c15240)) called at t/07_client_store.t line 106
Do not use HTTP::Session2::ClientStore. Use HTTP::Session2::ServerStore or HTTP::Session2::ClientStore2 instead. at /home/cpansand/.cpan/build/2018012603/HTTP-Session2-1.10-0/blib/lib/HTTP/Session2/ClientStore.pm line 25.
Secret string too short at /home/cpansand/.cpan/build/2018012603/HTTP-Session2-1.10-0/blib/lib/HTTP/Session2/Base.pm line 79.
	HTTP::Session2::Base::__ANON__(HTTP::Session2::ClientStore=HASH(0x20a2ef0), "secret") called at t/07_client_store.t line 87
	main::__ANON__() called at /opt/perl-5.20.3/lib/site_perl/5.20.3/Test/Builder.pm line 337
	eval {...} called at /opt/perl-5.20.3/lib/site_perl/5.20.3/Test/Builder.pm line 337
	Test::Builder::subtest(Test::Builder=HASH(0x12d33b0), "ignore_old disabled", CODE(0x20a2908)) called at /opt/perl-5.20.3/lib/site_perl/5.20.3/Test/More.pm line 807
	Test::More::subtest("ignore_old disabled", CODE(0x20a2908)) called at t/07_client_store.t line 95
	main::__ANON__() called at /opt/perl-5.20.3/lib/site_perl/5.20.3/Test/Builder.pm line 337
	eval {...} called at /opt/perl-5.20.3/lib/site_perl/5.20.3/Test/Builder.pm line 337
	Test::Builder::subtest(Test::Builder=HASH(0x12d33b0), "ignore_old", CODE(0x1c15240)) called at /opt/perl-5.20.3/lib/site_perl/5.20.3/Test/More.pm line 807
	Test::More::subtest("ignore_old", CODE(0x1c15240)) called at t/07_client_store.t line 106
Do not use HTTP::Session2::ClientStore. Use HTTP::Session2::ServerStore or HTTP::Session2::ClientStore2 instead. at /home/cpansand/.cpan/build/2018012603/HTTP-Session2-1.10-0/blib/lib/HTTP/Session2/ClientStore.pm line 35.
Secret string too short at /home/cpansand/.cpan/build/2018012603/HTTP-Session2-1.10-0/blib/lib/HTTP/Session2/Base.pm line 79.
	HTTP::Session2::Base::__ANON__(HTTP::Session2::ClientStore=HASH(0x20a7c18), "secret") called at t/07_client_store.t line 97
	main::__ANON__() called at /opt/perl-5.20.3/lib/site_perl/5.20.3/Test/Builder.pm line 337
	eval {...} called at /opt/perl-5.20.3/lib/site_perl/5.20.3/Test/Builder.pm line 337
	Test::Builder::subtest(Test::Builder=HASH(0x12d33b0), "ignore_old enabled", CODE(0x20a2908)) called at /opt/perl-5.20.3/lib/site_perl/5.20.3/Test/More.pm line 807
	Test::More::subtest("ignore_old enabled", CODE(0x20a2908)) called at t/07_client_store.t line 105
	main::__ANON__() called at /opt/perl-5.20.3/lib/site_perl/5.20.3/Test/Builder.pm line 337
	eval {...} called at /opt/perl-5.20.3/lib/site_perl/5.20.3/Test/Builder.pm line 337
	Test::Builder::subtest(Test::Builder=HASH(0x12d33b0), "ignore_old", CODE(0x1c15240)) called at /opt/perl-5.20.3/lib/site_perl/5.20.3/Test/More.pm line 807
	Test::More::subtest("ignore_old", CODE(0x1c15240)) called at t/07_client_store.t line 106
t/07_client_store.t ......... ok
Secret string too short at /home/cpansand/.cpan/build/2018012603/HTTP-Session2-1.10-0/blib/lib/HTTP/Session2/Base.pm line 79.
	HTTP::Session2::Base::__ANON__(HTTP::Session2::Expired=HASH(0x15f2440), 33333) called at t/08_expired.t line 7
t/08_expired.t .............. ok
# /dev/urandom available
# /dev/urandom(1): Fms0Hx6s7Vz4BViKa5c_PPbjVh4BIxK
# /dev/urandom(2): yVsCx3WI_vrI0N815ZMi16C3DfmLcUk
# perl:            bffead57766774b87d7acc106f22f7c
t/09_random.t ............... ok
t/11_secret_string.t ........ ok
Secret string too short at /home/cpansand/.cpan/build/2018012603/HTTP-Session2-1.10-0/blib/lib/HTTP/Session2/Base.pm line 79.
	HTTP::Session2::Base::__ANON__(HTTP::Session2::ClientStore2=HASH(0x16e2fb8), "s3cret") called at t/client_store2/01_basic.t line 24
	main::__ANON__("client -> server: request without cookie", CODE(0x16e2af0)) called at t/client_store2/01_basic.t line 30
	main::__ANON__() called at /opt/perl-5.20.3/lib/site_perl/5.20.3/Test/Builder.pm line 337
	eval {...} called at /opt/perl-5.20.3/lib/site_perl/5.20.3/Test/Builder.pm line 337
	Test::Builder::subtest(Test::Builder=HASH(0xd69ab0), "First request", CODE(0xd32148)) called at /opt/perl-5.20.3/lib/site_perl/5.20.3/Test/More.pm line 807
	Test::More::subtest("First request", CODE(0xd32148)) called at t/client_store2/01_basic.t line 9
	main::scenario("First request", CODE(0xd32148)) called at t/client_store2/01_basic.t line 36
Secret string too short at /home/cpansand/.cpan/build/2018012603/HTTP-Session2-1.10-0/blib/lib/HTTP/Session2/Base.pm line 79.
	HTTP::Session2::Base::__ANON__(HTTP::Session2::ClientStore2=HASH(0x16e6228), "s3cret") called at t/client_store2/01_basic.t line 41
	main::__ANON__("client -> server: request without cookie", CODE(0x16e5ce8)) called at t/client_store2/01_basic.t line 47
	main::__ANON__() called at /opt/perl-5.20.3/lib/site_perl/5.20.3/Test/Builder.pm line 337
	eval {...} called at /opt/perl-5.20.3/lib/site_perl/5.20.3/Test/Builder.pm line 337
	Test::Builder::subtest(Test::Builder=HASH(0xd69ab0), "Store something without login", CODE(0xd32148)) called at /opt/perl-5.20.3/lib/site_perl/5.20.3/Test/More.pm line 807
	Test::More::subtest("Store something without login", CODE(0xd32148)) called at t/client_store2/01_basic.t line 9
	main::scenario("Store something without login", CODE(0xd32148)) called at t/client_store2/01_basic.t line 63
Secret string too short at /home/cpansand/.cpan/build/2018012603/HTTP-Session2-1.10-0/blib/lib/HTTP/Session2/Base.pm line 79.
	HTTP::Session2::Base::__ANON__(HTTP::Session2::ClientStore2=HASH(0x16f3bf8), "s3cret") called at t/client_store2/01_basic.t line 69
	main::__ANON__("client -> server: request without cookie", CODE(0x16e6450)) called at t/client_store2/01_basic.t line 76
	main::__ANON__() called at /opt/perl-5.20.3/lib/site_perl/5.20.3/Test/Builder.pm line 337
	eval {...} called at /opt/perl-5.20.3/lib/site_perl/5.20.3/Test/Builder.pm line 337
	Test::Builder::subtest(Test::Builder=HASH(0xd69ab0), "Login", CODE(0xd32148)) called at /opt/perl-5.20.3/lib/site_perl/5.20.3/Test/More.pm line 807
	Test::More::subtest("Login", CODE(0xd32148)) called at t/client_store2/01_basic.t line 9
	main::scenario("Login", CODE(0xd32148)) called at t/client_store2/01_basic.t line 96
Ciphertext does not begin with a valid header for 'salt' header mode at /home/cpansand/.cpan/build/2018012603/HTTP-Session2-1.10-0/blib/lib/HTTP/Session2/ClientStore2.pm line 81.
Ciphertext does not begin with a valid header for 'salt' header mode at /home/cpansand/.cpan/build/2018012603/HTTP-Session2-1.10-0/blib/lib/HTTP/Session2/ClientStore2.pm line 81.
Secret string too short at /home/cpansand/.cpan/build/2018012603/HTTP-Session2-1.10-0/blib/lib/HTTP/Session2/Base.pm line 79.
	HTTP::Session2::Base::__ANON__(HTTP::Session2::ClientStore2=HASH(0x16fd5f8), "s3cret") called at t/client_store2/01_basic.t line 102
	main::__ANON__("client -> server: request without cookie", CODE(0x16fd340)) called at t/client_store2/01_basic.t line 109
	main::__ANON__() called at /opt/perl-5.20.3/lib/site_perl/5.20.3/Test/Builder.pm line 337
	eval {...} called at /opt/perl-5.20.3/lib/site_perl/5.20.3/Test/Builder.pm line 337
	Test::Builder::subtest(Test::Builder=HASH(0xd69ab0), "In a login session", CODE(0xd32148)) called at /opt/perl-5.20.3/lib/site_perl/5.20.3/Test/More.pm line 807
	Test::More::subtest("In a login session", CODE(0xd32148)) called at t/client_store2/01_basic.t line 9
	main::scenario("In a login session", CODE(0xd32148)) called at t/client_store2/01_basic.t line 118
Ciphertext does not begin with a valid header for 'salt' header mode at /home/cpansand/.cpan/build/2018012603/HTTP-Session2-1.10-0/blib/lib/HTTP/Session2/ClientStore2.pm line 81.
Secret string too short at /home/cpansand/.cpan/build/2018012603/HTTP-Session2-1.10-0/blib/lib/HTTP/Session2/Base.pm line 79.
	HTTP::Session2::Base::__ANON__(HTTP::Session2::ClientStore2=HASH(0x16ffa30), "s3cret") called at t/client_store2/01_basic.t line 123
	main::__ANON__("client -> server: request without cookie", CODE(0x16e2e38)) called at t/client_store2/01_basic.t line 130
	main::__ANON__() called at /opt/perl-5.20.3/lib/site_perl/5.20.3/Test/Builder.pm line 337
	eval {...} called at /opt/perl-5.20.3/lib/site_perl/5.20.3/Test/Builder.pm line 337
	Test::Builder::subtest(Test::Builder=HASH(0xd69ab0), "Logout", CODE(0xd32148)) called at /opt/perl-5.20.3/lib/site_perl/5.20.3/Test/More.pm line 807
	Test::More::subtest("Logout", CODE(0xd32148)) called at t/client_store2/01_basic.t line 9
	main::scenario("Logout", CODE(0xd32148)) called at t/client_store2/01_basic.t line 143
Ciphertext does not begin with a valid header for 'salt' header mode at /home/cpansand/.cpan/build/2018012603/HTTP-Session2-1.10-0/blib/lib/HTTP/Session2/ClientStore2.pm line 81.
t/client_store2/01_basic.t .. ok
t/client_store2/02_mech.t ... ok
t/client_store2/03_colon.t .. ok
All tests successful.
Files=14, Tests=84,  2 wallclock secs ( 0.04 usr  0.08 sys +  0.91 cusr  0.18 csys =  1.21 CPU)
Result: PASS

------------------------------
PREREQUISITES
------------------------------

Prerequisite modules loaded:

requires:

    Module                     Need     Have    
    -------------------------- -------- --------
    Cookie::Baker              0        0.08    
    Crypt::CBC                 0        2.33    
    Data::MessagePack          0        1.00    
    Digest::HMAC               0        1.03    
    Digest::SHA                0        5.98    
    Digest::SHA1               0        2.13    
    MIME::Base64               3.11     3.15    
    Mouse                      0        v2.5.1  
    parent                     0        0.236   
    perl                       5.008005 5.020003
    Time::HiRes                0        1.9752  

build_requires:

    Module                     Need     Have    
    -------------------------- -------- --------
    Crypt::Rijndael            0        1.13    
    Plack::Request             0        1.0044  
    Plack::Response            0        1.0044  
    Test::More                 0.98     1.302120
    Test::WWW::Mechanize::PSGI 0        0.38    

configure_requires:

    Module                     Need     Have    
    -------------------------- -------- --------
    Module::Build::Tiny        0.035    0.039   


------------------------------
ENVIRONMENT AND OTHER CONTEXT
------------------------------

Environment variables:

    LANG = C
    PATH = /usr/local/bin:/usr/bin:/bin:/usr/local/sbin:/usr/sbin:/sbin:/home/cpansand/bin/linux-gnu:/home/cpansand/bin/sh:/home/cpansand/bin:/usr/games:/home/cpansand/devel:/home/eserte/src/srezic-misc/scripts
    PERL5LIB = /home/cpansand/.cpan/build/2018012603/IO-Epoll-0.03-0/blib/arch:/home/cpansand/.cpan/build/2018012603/IO-Epoll-0.03-0/blib/lib:/home/cpansand/.cpan/build/2018012603/UV-1.000004-0/blib/arch:/home/cpansand/.cpan/build/2018012603/UV-1.000004-0/blib/lib
    PERL5OPT = 
    PERL5_CPANPLUS_IS_RUNNING = 24083
    PERL5_CPAN_IS_RUNNING = 24083
    PERL5_CPAN_IS_RUNNING_IN_RECURSION = 24003,24083
    PERLDOC = -MPod::Perldoc::ToTextOverstrike
    PERL_BATCH = yes
    PERL_CANARY_STABILITY_NOPROMPT = 1
    PERL_CPAN_REPORTER_CONFIG = /var/tmp/cpansmoker-1023/2018012603/cpanreporter_000_config.ini
    PERL_EXTUTILS_AUTOINSTALL = --defaultdeps
    PERL_USE_UNSAFE_INC = 1
    SHELL = /usr/bin/zsh
    TERM = screen
    TMPDIR = /var/tmp/cpansmoker-1023/2018012603

Perl special variables (and OS-specific diagnostics, for MSWin32):

    $^X = /opt/perl-5.20.3/bin/perl
    $UID/$EUID = 1023 / 1023
    $GID = 1023 1023
    $EGID = 1023 1023

Perl module toolchain versions installed:

    Module              Have    
    ------------------- --------
    CPAN                2.16    
    CPAN::Meta          2.150010
    Cwd                 3.62    
    ExtUtils::CBuilder  0.280230
    ExtUtils::Command   7.30    
    ExtUtils::Install   2.06    
    ExtUtils::MakeMaker 7.30    
    ExtUtils::Manifest  1.70    
    ExtUtils::ParseXS   3.35    
    File::Spec          3.62    
    JSON                2.97001 
    JSON::PP            2.97001 
    Module::Build       0.4224  
    Module::Signature   0.81    
    Parse::CPAN::Meta   2.150010
    Test::Harness       3.39    
    Test::More          1.302120
    YAML                1.24    
    YAML::Syck          1.30    
    version             0.9918  


--

Summary of my perl5 (revision 5 version 20 subversion 3) configuration:
   
  Platform:
    osname=linux, osvers=3.16.0-4-amd64, archname=x86_64-linux
    uname='linux debian8 3.16.0-4-amd64 #1 smp debian 3.16.43-2+deb8u1 (2017-06-18) x86_64 gnulinux '
    config_args='-ds -e -Dprefix=/opt/perl-5.20.3 -Dcf_email=srezic@cpan.org'
    hint=recommended, useposix=true, d_sigaction=define
    useithreads=undef, usemultiplicity=undef
    use64bitint=define, use64bitall=define, uselongdouble=undef
    usemymalloc=n, bincompat5005=undef
  Compiler:
    cc='cc', ccflags ='-fwrapv -fno-strict-aliasing -pipe -fstack-protector -I/usr/local/include -D_LARGEFILE_SOURCE -D_FILE_OFFSET_BITS=64',
    optimize='-O2',
    cppflags='-fwrapv -fno-strict-aliasing -pipe -fstack-protector -I/usr/local/include'
    ccversion='', gccversion='4.9.2', gccosandvers=''
    intsize=4, longsize=8, ptrsize=8, doublesize=8, byteorder=12345678
    d_longlong=define, longlongsize=8, d_longdbl=define, longdblsize=16
    ivtype='long', ivsize=8, nvtype='double', nvsize=8, Off_t='off_t', lseeksize=8
    alignbytes=8, prototype=define
  Linker and Libraries:
    ld='cc', ldflags =' -fstack-protector -L/usr/local/lib'
    libpth=/usr/local/lib /usr/lib/gcc/x86_64-linux-gnu/4.9/include-fixed /usr/include/x86_64-linux-gnu /usr/lib /lib/x86_64-linux-gnu /lib/../lib /usr/lib/x86_64-linux-gnu /usr/lib/../lib /lib
    libs=-lpthread -lnsl -lgdbm -ldb -ldl -lm -lcrypt -lutil -lc -lgdbm_compat
    perllibs=-lpthread -lnsl -ldl -lm -lcrypt -lutil -lc
    libc=libc-2.19.so, so=so, useshrplib=false, libperl=libperl.a
    gnulibc_version='2.19'
  Dynamic Linking:
    dlsrc=dl_dlopen.xs, dlext=so, d_dlsymun=undef, ccdlflags='-Wl,-E'
    cccdlflags='-fPIC', lddlflags='-shared -O2 -L/usr/local/lib -fstack-protector'


Characteristics of this binary (from libperl): 
  Compile-time options: HAS_TIMES PERLIO_LAYERS PERL_DONT_CREATE_GVSV
                        PERL_HASH_FUNC_ONE_AT_A_TIME_HARD PERL_MALLOC_WRAP
                        PERL_NEW_COPY_ON_WRITE PERL_PRESERVE_IVUV
                        USE_64_BIT_ALL USE_64_BIT_INT USE_LARGE_FILES
                        USE_LOCALE USE_LOCALE_COLLATE USE_LOCALE_CTYPE
                        USE_LOCALE_NUMERIC USE_PERLIO USE_PERL_ATOF
  Built under linux
  Compiled at Jun 20 2017 18:04:57
  %ENV:
    PERL5LIB="/home/cpansand/.cpan/build/2018012603/IO-Epoll-0.03-0/blib/arch:/home/cpansand/.cpan/build/2018012603/IO-Epoll-0.03-0/blib/lib:/home/cpansand/.cpan/build/2018012603/UV-1.000004-0/blib/arch:/home/cpansand/.cpan/build/2018012603/UV-1.000004-0/blib/lib"
    PERL5OPT=""
    PERL5_CPANPLUS_IS_RUNNING="24083"
    PERL5_CPAN_IS_RUNNING="24083"
    PERL5_CPAN_IS_RUNNING_IN_RECURSION="24003,24083"
    PERLDOC="-MPod::Perldoc::ToTextOverstrike"
    PERL_BATCH="yes"
    PERL_CANARY_STABILITY_NOPROMPT="1"
    PERL_CPAN_REPORTER_CONFIG="/var/tmp/cpansmoker-1023/2018012603/cpanreporter_000_config.ini"
    PERL_EXTUTILS_AUTOINSTALL="--defaultdeps"
    PERL_USE_UNSAFE_INC="1"
  @INC:
    /home/cpansand/.cpan/build/2018012603/IO-Epoll-0.03-0/blib/arch
    /home/cpansand/.cpan/build/2018012603/IO-Epoll-0.03-0/blib/lib
    /home/cpansand/.cpan/build/2018012603/UV-1.000004-0/blib/arch
    /home/cpansand/.cpan/build/2018012603/UV-1.000004-0/blib/lib
    /opt/perl-5.20.3/lib/site_perl/5.20.3/x86_64-linux
    /opt/perl-5.20.3/lib/site_perl/5.20.3
    /opt/perl-5.20.3/lib/5.20.3/x86_64-linux
    /opt/perl-5.20.3/lib/5.20.3
    .