Test-Roo-DataDriven vv0.4.2 Perl 5 v5.41.11 x86_64-linux

Status
Pass
From
Carlos Guevara
Dist
Test-Roo-DataDriven vv0.4.2
Platform
Perl 5 v5.41.11 x86_64-linux
Date
2025-04-08 20:12:46
ID
d65e4ad8-14b5-11f0-818c-e69b97768488
This distribution has been tested as part of the CPAN Testers
project, supporting the Perl programming language.  See
http://wiki.cpantesters.org/ for more information or email
questions to cpan-testers-discuss@perl.org


--
Dear Robert Rothenberg,

This is a computer-generated report for Test-Roo-DataDriven-v0.4.2
on perl 5.41.11, created by CPAN-Reporter-1.2020.

Thank you for uploading your work to CPAN.  Congratulations!
All tests were successful.

Sections of this report:

    * Tester comments
    * Program output
    * Prerequisites
    * Environment and other context

------------------------------
TESTER COMMENTS
------------------------------

Additional comments from tester:

this report is from an automated smoke testing program
and was not reviewed by a human for accuracy

------------------------------
PROGRAM OUTPUT
------------------------------

Output from '/usr/bin/make test':

PERL_DL_NONLAZY=1 "/home/cpan/bin/perl/bin/perl5.41.11" "-MExtUtils::Command::MM" "-MTest::Harness" "-e" "undef *Test::Harness::Switches; test_harness(0, 'blib/lib', 'blib/arch')" t/*.t
# 
# Versions for all modules listed in MYMETA.json (including optional ones):
# 
# === Configure Requires ===
# 
#     Module              Want Have
#     ------------------- ---- ----
#     ExtUtils::MakeMaker  any 7.72
# 
# === Build Requires ===
# 
#     Module              Want Have
#     ------------------- ---- ----
#     ExtUtils::MakeMaker  any 7.72
# 
# === Test Requires ===
# 
#     Module            Want     Have
#     ---------------- ----- --------
#     Class::Inspector   any     1.36
#     File::Spec         any     3.94
#     JSON::PP          2.00     4.16
#     Module::Metadata   any 1.000038
#     Path::Tiny       0.004    0.148
#     Test::More         any 1.302210
#     Test::Most         any     0.38
#     Test::Roo          any    1.004
#     Time::Piece       1.16     1.35
#     Time::Seconds      any     1.35
# 
# === Test Recommends ===
# 
#     Module         Want     Have
#     ---------- -------- --------
#     CPAN::Meta 2.120900 2.150010
# 
# === Runtime Requires ===
# 
#     Module                Want     Have
#     -------------------- ----- --------
#     Class::Unload          any     0.11
#     Path::Tiny           0.004    0.148
#     Ref::Util              any    0.204
#     Test::Roo::Role        any    1.004
#     curry                  any 2.000001
#     namespace::autoclean   any     0.31
# 
# === Runtime Recommends ===
# 
#     Module        Want  Have
#     ------------- ---- -----
#     App::Prove     any  3.50
#     Ref::Util::XS  any 0.117
# 
# === Other Modules ===
# 
#     Module         Have
#     ----------- -------
#     IO::Selectq missing
#     IPC::Open3     1.24
# 
t/00-report-prereqs.t ........ ok
t/01-example.t ............... ok
t/02-json.t .................. ok
t/03-parsing-errors.t ........ ok
t/04-skip_all.t .............. ok
t/05-argv-disabled.t ......... ok
t/05-argv-enabled.t .......... ok
t/author-clean-namespaces.t .. skipped: these tests are for testing by the author
t/author-critic.t ............ skipped: these tests are for testing by the author
t/author-eof.t ............... skipped: these tests are for testing by the author
t/author-eol.t ............... skipped: these tests are for testing by the author
t/author-minimum-version.t ... skipped: these tests are for testing by the author
t/author-no-tabs.t ........... skipped: these tests are for testing by the author
t/author-pod-coverage.t ...... skipped: these tests are for testing by the author
t/author-pod-linkcheck.t ..... skipped: these tests are for testing by the author
t/author-pod-syntax.t ........ skipped: these tests are for testing by the author
t/author-portability.t ....... skipped: these tests are for testing by the author
t/release-check-manifest.t ... skipped: these tests are for release candidate testing
t/release-fixme.t ............ skipped: these tests are for release candidate testing
t/release-kwalitee.t ......... skipped: these tests are for release candidate testing
t/release-trailing-space.t ... skipped: these tests are for release candidate testing
All tests successful.
Files=21, Tests=27,  0 wallclock secs ( 0.05 usr  0.01 sys +  0.61 cusr  0.10 csys =  0.77 CPU)
Result: PASS

------------------------------
PREREQUISITES
------------------------------

Prerequisite modules loaded:

requires:

    Module               Need     Have    
    -------------------- -------- --------
    Class::Unload        0        0.11    
    curry                0        2.000001
    namespace::autoclean 0        0.31    
    Path::Tiny           0.004    0.148   
    perl                 5.008000 5.041011
    Ref::Util            0        0.204   
    Test::Roo::Role      0        1.004   

build_requires:

    Module               Need     Have    
    -------------------- -------- --------
    Class::Inspector     0        1.36    
    ExtUtils::MakeMaker  0        7.72    
    File::Spec           0        3.94    
    JSON::PP             2.00     4.16    
    Module::Metadata     0        1.000038
    Path::Tiny           0.004    0.148   
    Test::More           0        1.302210
    Test::Most           0        0.38    
    Test::Roo            0        1.004   
    Time::Piece          1.16     1.35    
    Time::Seconds        0        1.35    

configure_requires:

    Module               Need     Have    
    -------------------- -------- --------
    ExtUtils::MakeMaker  0        7.72    


------------------------------
ENVIRONMENT AND OTHER CONTEXT
------------------------------

Environment variables:

    AUTOMATED_TESTING = 1
    DATE_MANIP_TEST_DM5 = 1
    LANG = en_US.UTF-8
    LC_ALL = C
    NONINTERACTIVE_TESTING = 1
    NO_NETWORK_TESTING = 1
    PATH = /home/cpan/bin/perl/bin:/home/cpan/bin:/usr/share/Modules/bin:/home/cpan/bin:/usr/local/bin:/usr/bin:/usr/local/sbin:/usr/sbin
    PERL5LIB = 
    PERL5OPT = 
    PERL5_CPANPLUS_IS_RUNNING = 276941
    PERL5_CPAN_IS_RUNNING = 276941
    PERL_MM_USE_DEFAULT = 1
    PERL_USE_UNSAFE_INC = 1
    SHELL = /bin/bash
    TERM = screen
    TMPDIR = /home/cpan/tmp

Perl special variables (and OS-specific diagnostics, for MSWin32):

    $^X = /home/cpan/bin/perl/bin/perl5.41.11
    $UID/$EUID = 1001 / 1001
    $GID = 1001 1001
    $EGID = 1001 1001

Perl module toolchain versions installed:

    Module              Have    
    ------------------- --------
    CPAN                2.38    
    CPAN::Meta          2.150010
    Cwd                 3.94    
    ExtUtils::CBuilder  0.280240
    ExtUtils::Command   7.72    
    ExtUtils::Install   2.22    
    ExtUtils::MakeMaker 7.72    
    ExtUtils::Manifest  1.75    
    ExtUtils::ParseXS   3.57    
    File::Spec          3.94    
    JSON                4.10    
    JSON::PP            4.16    
    Module::Build       0.4234  
    Module::Signature   0.89    
    Parse::CPAN::Meta   2.150010
    Test2               1.302210
    Test::Harness       3.50    
    Test::More          1.302210
    YAML                1.31    
    YAML::Syck          n/a     
    version             0.9933  


--

Summary of my perl5 (revision 5 version 41 subversion 11) configuration:
  Commit id: df4834b71303541bb1f605c8f252a15ab198b714
  Platform:
    osname=linux
    osvers=5.14.0-503.35.1.el9_5.x86_64
    archname=x86_64-linux
    uname='linux cjg-rhel9 5.14.0-503.35.1.el9_5.x86_64 #1 smp preempt_dynamic mon mar 24 11:15:27 edt 2025 x86_64 x86_64 x86_64 gnulinux '
    config_args='-des -Dprefix=/home/cpan/bin/perl -Dscriptdir=/home/cpan/bin/perl/bin -Dusedevel -Duse64bitall'
    hint=recommended
    useposix=true
    d_sigaction=define
    useithreads=undef
    usemultiplicity=undef
    use64bitint=define
    use64bitall=define
    uselongdouble=undef
    usemymalloc=n
    default_inc_excludes_dot=define
  Compiler:
    cc='cc'
    ccflags ='-fwrapv -fno-strict-aliasing -pipe -fstack-protector-strong -I/usr/local/include -D_LARGEFILE_SOURCE -D_FILE_OFFSET_BITS=64 -D_FORTIFY_SOURCE=2'
    optimize='-O2'
    cppflags='-fwrapv -fno-strict-aliasing -pipe -fstack-protector-strong -I/usr/local/include'
    ccversion=''
    gccversion='11.5.0 20240719 (Red Hat 11.5.0-5)'
    gccosandvers=''
    intsize=4
    longsize=8
    ptrsize=8
    doublesize=8
    byteorder=12345678
    doublekind=3
    d_longlong=define
    longlongsize=8
    d_longdbl=define
    longdblsize=16
    longdblkind=3
    ivtype='long'
    ivsize=8
    nvtype='double'
    nvsize=8
    Off_t='off_t'
    lseeksize=8
    alignbytes=8
    prototype=define
  Linker and Libraries:
    ld='cc'
    ldflags =' -fstack-protector-strong -L/usr/local/lib'
    libpth=/usr/local/lib /usr/lib /usr/lib64 /usr/local/lib64
    libs=-lpthread -ldb -ldl -lm -lcrypt -lutil -lc
    perllibs=-lpthread -ldl -lm -lcrypt -lutil -lc
    libc=/lib/../lib64/libc.so.6
    so=so
    useshrplib=false
    libperl=libperl.a
    gnulibc_version='2.34'
  Dynamic Linking:
    dlsrc=dl_dlopen.xs
    dlext=so
    d_dlsymun=undef
    ccdlflags='-Wl,-E'
    cccdlflags='-fPIC'
    lddlflags='-shared -O2 -L/usr/local/lib -fstack-protector-strong'


Characteristics of this binary (from libperl): 
  Compile-time options:
    HAS_LONG_DOUBLE
    HAS_STRTOLD
    HAS_TIMES
    PERLIO_LAYERS
    PERL_COPY_ON_WRITE
    PERL_DONT_CREATE_GVSV
    PERL_HASH_FUNC_SIPHASH13
    PERL_HASH_USE_SBOX32
    PERL_MALLOC_WRAP
    PERL_OP_PARENT
    PERL_PRESERVE_IVUV
    PERL_USE_DEVEL
    PERL_USE_SAFE_PUTENV
    USE_64_BIT_ALL
    USE_64_BIT_INT
    USE_LARGE_FILES
    USE_LOCALE
    USE_LOCALE_COLLATE
    USE_LOCALE_CTYPE
    USE_LOCALE_NUMERIC
    USE_LOCALE_TIME
    USE_PERLIO
    USE_PERL_ATOF
  Built under linux
  Compiled at Apr  8 2025 12:58:27
  %ENV:
    PERL5LIB=""
    PERL5OPT=""
    PERL5_CPANPLUS_IS_RUNNING="276941"
    PERL5_CPAN_IS_RUNNING="276941"
    PERL_MM_USE_DEFAULT="1"
    PERL_USE_UNSAFE_INC="1"
  @INC:
    /home/cpan/bin/perl/lib/site_perl/5.41.11/x86_64-linux
    /home/cpan/bin/perl/lib/site_perl/5.41.11
    /home/cpan/bin/perl/lib/5.41.11/x86_64-linux
    /home/cpan/bin/perl/lib/5.41.11
    .