Alien-libuv v1.014 Perl 5 v5.30.1 x86_64-linux

Status
Pass
From
Slaven Rezić (SREZIC)
Dist
Alien-libuv v1.014
Platform
Perl 5 v5.30.1 x86_64-linux
Date
2020-07-16 03:17:10
ID
d66b965c-c712-11ea-9800-5d5d1f24ea8f
This distribution has been tested as part of the CPAN Testers
project, supporting the Perl programming language.  See
http://wiki.cpantesters.org/ for more information or email
questions to cpan-testers-discuss@perl.org


--
Dear Chase Whitener,

This is a computer-generated report for Alien-libuv-1.014
on perl 5.30.1, created by CPAN-Reporter-1.2018.

Thank you for uploading your work to CPAN.  Congratulations!
All tests were successful.

Sections of this report:

    * Tester comments
    * Program output
    * Prerequisites
    * Environment and other context

------------------------------
TESTER COMMENTS
------------------------------

Additional comments from tester:

none provided

------------------------------
PROGRAM OUTPUT
------------------------------

Output from '/usr/bin/make test':

"/opt/perl-5.30.1/bin/perl" -MAlien::Build::MM=cmd -e test
Alien::Build::Plugin::PkgConfig::Negotiate> Using PkgConfig plugin: PkgConfig::CommandLine
PERL_DL_NONLAZY=1 "/opt/perl-5.30.1/bin/perl" "-MExtUtils::Command::MM" "-MTest::Harness" "-e" "undef *Test::Harness::Switches; test_harness(0, 'blib/lib', 'blib/arch')" t/*.t
# 
# Versions for all modules listed in MYMETA.json (including optional ones):
# 
# === Configure Requires ===
# 
#     Module                             Want Have
#     ---------------------------------- ---- ----
#     Alien::Build                       2.15 2.25
#     Alien::Build::MM                   0.32 2.25
#     Alien::Build::Plugin::Build::Make  0.01 2.25
#     Alien::Build::Plugin::Probe::Vcpkg 2.15 2.25
#     ExtUtils::MakeMaker                6.52 7.46
# 
# === Build Requires ===
# 
#     Module                             Want     Have
#     ---------------------------------- ---- --------
#     Alien::Build                       2.15     2.25
#     Alien::Build::MM                   0.32     2.25
#     Alien::Build::Plugin::Build::Make   any     2.25
#     Alien::Build::Plugin::Probe::Vcpkg 2.15     2.25
#     Config                              any 5.030001
#     ExtUtils::MakeMaker                6.52     7.46
#     IPC::Cmd                            any     1.02
# 
# === Test Requires ===
# 
#     Module              Want     Have
#     ------------------- ---- --------
#     ExtUtils::MakeMaker 6.52     7.46
#     File::Spec           any     3.78
#     Test2::Suite         any 0.000130
#     Test2::V0            any 0.000130
#     Test::Alien          any     2.25
#     Test::More          0.88 1.302175
# 
# === Test Recommends ===
# 
#     Module            Want     Have
#     ------------- -------- --------
#     CPAN::Meta    2.120900 2.150010
#     FFI::Platypus      any     1.30
# 
# === Runtime Requires ===
# 
#     Module                                Want Have
#     ------------------------------------- ---- ----
#     Alien::Autotools                      1.00 1.05
#     Alien::Base                           2.15 2.25
#     Alien::Build                          0.25 2.25
#     Alien::Build::Plugin::Build::Autoconf 0.04 2.25
#     base                                   any 2.27
#     strict                                 any 1.11
#     warnings                               any 1.44
# 
t/00-report-prereqs.t .. ok
# 
# 
# 
# HARNESS_ACTIVE=1
# HARNESS_VERSION=3.42
# LANG=en_US.UTF-8
# PERL5LIB=/home/cpansand/.cpan/build/2020071603/Alien-libuv-1.014-2/blib/lib:/home/cpansand/.cpan/build/2020071603/Alien-libuv-1.014-2/blib/arch:/home/cpansand/.local/share/.cpan/build/2020071603/Alien-Autotools-1.05-2/blib/arch:/home/cpansand/.local/share/.cpan/build/2020071603/Alien-Autotools-1.05-2/blib/lib:/home/cpansand/.local/share/.cpan/build/2020071603/Alien-libtool-0.14-2/blib/arch:/home/cpansand/.local/share/.cpan/build/2020071603/Alien-libtool-0.14-2/blib/lib:/home/cpansand/.local/share/.cpan/build/2020071603/Alien-automake-0.15-2/blib/arch:/home/cpansand/.local/share/.cpan/build/2020071603/Alien-automake-0.15-2/blib/lib:/home/cpansand/.local/share/.cpan/build/2020071603/Alien-autoconf-0.16-2/blib/arch:/home/cpansand/.local/share/.cpan/build/2020071603/Alien-autoconf-0.16-2/blib/lib:/home/cpansand/.local/share/.cpan/build/2020071603/Alien-m4-0.19-2/blib/arch:/home/cpansand/.local/share/.cpan/build/2020071603/Alien-m4-0.19-2/blib/lib:/home/cpansand/.local/share/.cpan/build/2020071603/Alien-Autotools-1.05-2/blib/arch:/home/cpansand/.local/share/.cpan/build/2020071603/Alien-Autotools-1.05-2/blib/lib:/home/cpansand/.local/share/.cpan/build/2020071603/Alien-libtool-0.14-2/blib/arch:/home/cpansand/.local/share/.cpan/build/2020071603/Alien-libtool-0.14-2/blib/lib:/home/cpansand/.local/share/.cpan/build/2020071603/Alien-automake-0.15-2/blib/arch:/home/cpansand/.local/share/.cpan/build/2020071603/Alien-automake-0.15-2/blib/lib:/home/cpansand/.local/share/.cpan/build/2020071603/Alien-autoconf-0.16-2/blib/arch:/home/cpansand/.local/share/.cpan/build/2020071603/Alien-autoconf-0.16-2/blib/lib:/home/cpansand/.local/share/.cpan/build/2020071603/Alien-m4-0.19-2/blib/arch:/home/cpansand/.local/share/.cpan/build/2020071603/Alien-m4-0.19-2/blib/lib
# PERL5OPT=
# PERL5_CPANPLUS_IS_RUNNING=3947670
# PERL5_CPAN_IS_RUNNING=3947670
# PERL5_CPAN_IS_RUNNING_IN_RECURSION=3928429,3947670
# PERLDOC=-MPod::Perldoc::ToTextOverstrike
# PERL_BATCH=yes
# PERL_CANARY_STABILITY_NOPROMPT=1
# PERL_CPAN_REPORTER_CONFIG=/var/tmp/cpansmoker-1023/2020071603/cpanreporter_000_config.ini
# PERL_DL_NONLAZY=1
# PERL_EXTUTILS_AUTOINSTALL=--defaultdeps
# PERL_USE_UNSAFE_INC=1
# SHELL=/usr/bin/zsh
# 
# 
# 
# PERL5LIB path
# /home/cpansand/.cpan/build/2020071603/Alien-libuv-1.014-2/blib/lib
# /home/cpansand/.cpan/build/2020071603/Alien-libuv-1.014-2/blib/arch
# /home/cpansand/.local/share/.cpan/build/2020071603/Alien-Autotools-1.05-2/blib/arch
# /home/cpansand/.local/share/.cpan/build/2020071603/Alien-Autotools-1.05-2/blib/lib
# /home/cpansand/.local/share/.cpan/build/2020071603/Alien-libtool-0.14-2/blib/arch
# /home/cpansand/.local/share/.cpan/build/2020071603/Alien-libtool-0.14-2/blib/lib
# /home/cpansand/.local/share/.cpan/build/2020071603/Alien-automake-0.15-2/blib/arch
# /home/cpansand/.local/share/.cpan/build/2020071603/Alien-automake-0.15-2/blib/lib
# /home/cpansand/.local/share/.cpan/build/2020071603/Alien-autoconf-0.16-2/blib/arch
# /home/cpansand/.local/share/.cpan/build/2020071603/Alien-autoconf-0.16-2/blib/lib
# /home/cpansand/.local/share/.cpan/build/2020071603/Alien-m4-0.19-2/blib/arch
# /home/cpansand/.local/share/.cpan/build/2020071603/Alien-m4-0.19-2/blib/lib
# /home/cpansand/.local/share/.cpan/build/2020071603/Alien-Autotools-1.05-2/blib/arch
# /home/cpansand/.local/share/.cpan/build/2020071603/Alien-Autotools-1.05-2/blib/lib
# /home/cpansand/.local/share/.cpan/build/2020071603/Alien-libtool-0.14-2/blib/arch
# /home/cpansand/.local/share/.cpan/build/2020071603/Alien-libtool-0.14-2/blib/lib
# /home/cpansand/.local/share/.cpan/build/2020071603/Alien-automake-0.15-2/blib/arch
# /home/cpansand/.local/share/.cpan/build/2020071603/Alien-automake-0.15-2/blib/lib
# /home/cpansand/.local/share/.cpan/build/2020071603/Alien-autoconf-0.16-2/blib/arch
# /home/cpansand/.local/share/.cpan/build/2020071603/Alien-autoconf-0.16-2/blib/lib
# /home/cpansand/.local/share/.cpan/build/2020071603/Alien-m4-0.19-2/blib/arch
# /home/cpansand/.local/share/.cpan/build/2020071603/Alien-m4-0.19-2/blib/lib
# 
# 
# 
# perl                                  5.030001
# Alien::Base                           2.25
# Alien::Build                          2.25
# Alien::Build::MM                      2.25
# Alien::Build::Plugin::Build::Autoconf 2.25
# Config                                5.030001
# ExtUtils::MakeMaker                   7.46
# IPC::Cmd                              1.02
# Test2::Suite                          0.000130
# Test::Alien                           2.25
# Test::More                            1.302175
# 
# 
# 
# version        = 1.34.2
# cflags         = 
# cflags_static  = 
# libs           = -luv -lrt -lpthread -lnsl -ldl
# libs_static    = -luv -lrt -lpthread -lnsl -ldl
# 
# 
# 
t/00_diag.t ............ ok
# Install type: system
t/01_use.t ............. ok
t/ffi.t ................ ok
t/xs.t ................. ok
All tests successful.
Files=5, Tests=9,  1 wallclock secs ( 0.03 usr  0.00 sys +  0.91 cusr  0.13 csys =  1.07 CPU)
Result: PASS

------------------------------
PREREQUISITES
------------------------------

Prerequisite modules loaded:

requires:

    Module                                Need Have    
    ------------------------------------- ---- --------
    Alien::Autotools                      1.00 1.05    
    Alien::Base                           2.15 2.25    
    Alien::Build                          0.25 2.25    
    Alien::Build::Plugin::Build::Autoconf 0.04 2.25    
    base                                  0    2.27    
    strict                                0    1.11    
    warnings                              0    1.44    

build_requires:

    Module                                Need Have    
    ------------------------------------- ---- --------
    Alien::Build                          2.15 2.25    
    Alien::Build::MM                      0.32 2.25    
    Alien::Build::Plugin::Build::Make     0    2.25    
    Alien::Build::Plugin::Probe::Vcpkg    2.15 2.25    
    Config                                0    5.030001
    ExtUtils::MakeMaker                   6.52 7.46    
    File::Spec                            0    3.78    
    IPC::Cmd                              0    1.02    
    Test2::Suite                          0    0.000130
    Test2::V0                             0    0.000130
    Test::Alien                           0    2.25    
    Test::More                            0.88 1.302175

configure_requires:

    Module                                Need Have    
    ------------------------------------- ---- --------
    Alien::Build                          2.15 2.25    
    Alien::Build::MM                      0.32 2.25    
    Alien::Build::Plugin::Build::Make     0.01 2.25    
    Alien::Build::Plugin::Probe::Vcpkg    2.15 2.25    
    ExtUtils::MakeMaker                   6.52 7.46    


------------------------------
ENVIRONMENT AND OTHER CONTEXT
------------------------------

Environment variables:

    LANG = en_US.UTF-8
    PATH = /usr/local/bin:/usr/bin:/bin:/usr/local/sbin:/usr/sbin:/sbin:/home/cpansand/bin/linux-gnu:/home/cpansand/bin/sh:/home/cpansand/bin:/usr/games:/home/cpansand/devel:/home/eserte/src/srezic-misc/scripts
    PERL5LIB = /home/cpansand/.local/share/.cpan/build/2020071603/Alien-Autotools-1.05-2/blib/arch:/home/cpansand/.local/share/.cpan/build/2020071603/Alien-Autotools-1.05-2/blib/lib:/home/cpansand/.local/share/.cpan/build/2020071603/Alien-libtool-0.14-2/blib/arch:/home/cpansand/.local/share/.cpan/build/2020071603/Alien-libtool-0.14-2/blib/lib:/home/cpansand/.local/share/.cpan/build/2020071603/Alien-automake-0.15-2/blib/arch:/home/cpansand/.local/share/.cpan/build/2020071603/Alien-automake-0.15-2/blib/lib:/home/cpansand/.local/share/.cpan/build/2020071603/Alien-autoconf-0.16-2/blib/arch:/home/cpansand/.local/share/.cpan/build/2020071603/Alien-autoconf-0.16-2/blib/lib:/home/cpansand/.local/share/.cpan/build/2020071603/Alien-m4-0.19-2/blib/arch:/home/cpansand/.local/share/.cpan/build/2020071603/Alien-m4-0.19-2/blib/lib
    PERL5OPT = 
    PERL5_CPANPLUS_IS_RUNNING = 3947670
    PERL5_CPAN_IS_RUNNING = 3947670
    PERL5_CPAN_IS_RUNNING_IN_RECURSION = 3928429,3947670
    PERLDOC = -MPod::Perldoc::ToTextOverstrike
    PERL_BATCH = yes
    PERL_CANARY_STABILITY_NOPROMPT = 1
    PERL_CPAN_REPORTER_CONFIG = /var/tmp/cpansmoker-1023/2020071603/cpanreporter_000_config.ini
    PERL_EXTUTILS_AUTOINSTALL = --defaultdeps
    PERL_USE_UNSAFE_INC = 1
    SHELL = /usr/bin/zsh
    TERM = screen
    TMPDIR = /var/tmp/cpansmoker-1023/2020071603

Perl special variables (and OS-specific diagnostics, for MSWin32):

    $^X = /opt/perl-5.30.1/bin/perl
    $UID/$EUID = 1023 / 1023
    $GID = 1023 1023
    $EGID = 1023 1023

Perl module toolchain versions installed:

    Module              Have    
    ------------------- --------
    CPAN                2.22    
    CPAN::Meta          2.150010
    Cwd                 3.78    
    ExtUtils::CBuilder  0.280231
    ExtUtils::Command   7.46    
    ExtUtils::Install   2.14    
    ExtUtils::MakeMaker 7.46    
    ExtUtils::Manifest  1.72    
    ExtUtils::ParseXS   3.40    
    File::Spec          3.78    
    JSON                4.02    
    JSON::PP            4.02    
    Module::Build       0.4231  
    Module::Signature   0.83    
    Parse::CPAN::Meta   2.150010
    Test::Harness       3.42    
    Test::More          1.302175
    YAML                1.30    
    YAML::Syck          1.32    
    version             0.9924  


--

Summary of my perl5 (revision 5 version 30 subversion 1) configuration:
   
  Platform:
    osname=linux
    osvers=5.4.0-33-generic
    archname=x86_64-linux
    uname='linux cloud8.bbbike.org 5.4.0-33-generic #37-ubuntu smp thu may 21 12:53:59 utc 2020 x86_64 x86_64 x86_64 gnulinux '
    config_args='-ds -e -Dprefix=/opt/perl-5.30.1 -Dcf_email=srezic@cpan.org'
    hint=recommended
    useposix=true
    d_sigaction=define
    useithreads=undef
    usemultiplicity=undef
    use64bitint=define
    use64bitall=define
    uselongdouble=undef
    usemymalloc=n
    default_inc_excludes_dot=define
    bincompat5005=undef
  Compiler:
    cc='cc'
    ccflags ='-fwrapv -fno-strict-aliasing -pipe -fstack-protector-strong -I/usr/local/include -D_LARGEFILE_SOURCE -D_FILE_OFFSET_BITS=64'
    optimize='-O2'
    cppflags='-fwrapv -fno-strict-aliasing -pipe -fstack-protector-strong -I/usr/local/include'
    ccversion=''
    gccversion='9.3.0'
    gccosandvers=''
    intsize=4
    longsize=8
    ptrsize=8
    doublesize=8
    byteorder=12345678
    doublekind=3
    d_longlong=define
    longlongsize=8
    d_longdbl=define
    longdblsize=16
    longdblkind=3
    ivtype='long'
    ivsize=8
    nvtype='double'
    nvsize=8
    Off_t='off_t'
    lseeksize=8
    alignbytes=8
    prototype=define
  Linker and Libraries:
    ld='cc'
    ldflags =' -fstack-protector-strong -L/usr/local/lib'
    libpth=/usr/local/lib /usr/include/x86_64-linux-gnu /usr/lib /lib/x86_64-linux-gnu /lib/../lib /usr/lib/x86_64-linux-gnu /usr/lib/../lib /lib
    libs=-lpthread -lnsl -lgdbm -ldb -ldl -lm -lcrypt -lutil -lc
    perllibs=-lpthread -lnsl -ldl -lm -lcrypt -lutil -lc
    libc=libc-2.31.so
    so=so
    useshrplib=false
    libperl=libperl.a
    gnulibc_version='2.31'
  Dynamic Linking:
    dlsrc=dl_dlopen.xs
    dlext=so
    d_dlsymun=undef
    ccdlflags='-Wl,-E'
    cccdlflags='-fPIC'
    lddlflags='-shared -O2 -L/usr/local/lib -fstack-protector-strong'


Characteristics of this binary (from libperl): 
  Compile-time options:
    HAS_TIMES
    PERLIO_LAYERS
    PERL_COPY_ON_WRITE
    PERL_DONT_CREATE_GVSV
    PERL_MALLOC_WRAP
    PERL_OP_PARENT
    PERL_PRESERVE_IVUV
    USE_64_BIT_ALL
    USE_64_BIT_INT
    USE_LARGE_FILES
    USE_LOCALE
    USE_LOCALE_COLLATE
    USE_LOCALE_CTYPE
    USE_LOCALE_NUMERIC
    USE_LOCALE_TIME
    USE_PERLIO
    USE_PERL_ATOF
  Built under linux
  Compiled at May 31 2020 22:10:20
  %ENV:
    PERL5LIB="/home/cpansand/.local/share/.cpan/build/2020071603/Alien-Autotools-1.05-2/blib/arch:/home/cpansand/.local/share/.cpan/build/2020071603/Alien-Autotools-1.05-2/blib/lib:/home/cpansand/.local/share/.cpan/build/2020071603/Alien-libtool-0.14-2/blib/arch:/home/cpansand/.local/share/.cpan/build/2020071603/Alien-libtool-0.14-2/blib/lib:/home/cpansand/.local/share/.cpan/build/2020071603/Alien-automake-0.15-2/blib/arch:/home/cpansand/.local/share/.cpan/build/2020071603/Alien-automake-0.15-2/blib/lib:/home/cpansand/.local/share/.cpan/build/2020071603/Alien-autoconf-0.16-2/blib/arch:/home/cpansand/.local/share/.cpan/build/2020071603/Alien-autoconf-0.16-2/blib/lib:/home/cpansand/.local/share/.cpan/build/2020071603/Alien-m4-0.19-2/blib/arch:/home/cpansand/.local/share/.cpan/build/2020071603/Alien-m4-0.19-2/blib/lib"
    PERL5OPT=""
    PERL5_CPANPLUS_IS_RUNNING="3947670"
    PERL5_CPAN_IS_RUNNING="3947670"
    PERL5_CPAN_IS_RUNNING_IN_RECURSION="3928429,3947670"
    PERLDOC="-MPod::Perldoc::ToTextOverstrike"
    PERL_BATCH="yes"
    PERL_CANARY_STABILITY_NOPROMPT="1"
    PERL_CPAN_REPORTER_CONFIG="/var/tmp/cpansmoker-1023/2020071603/cpanreporter_000_config.ini"
    PERL_EXTUTILS_AUTOINSTALL="--defaultdeps"
    PERL_USE_UNSAFE_INC="1"
  @INC:
    /home/cpansand/.local/share/.cpan/build/2020071603/Alien-Autotools-1.05-2/blib/arch
    /home/cpansand/.local/share/.cpan/build/2020071603/Alien-Autotools-1.05-2/blib/lib
    /home/cpansand/.local/share/.cpan/build/2020071603/Alien-libtool-0.14-2/blib/arch
    /home/cpansand/.local/share/.cpan/build/2020071603/Alien-libtool-0.14-2/blib/lib
    /home/cpansand/.local/share/.cpan/build/2020071603/Alien-automake-0.15-2/blib/arch
    /home/cpansand/.local/share/.cpan/build/2020071603/Alien-automake-0.15-2/blib/lib
    /home/cpansand/.local/share/.cpan/build/2020071603/Alien-autoconf-0.16-2/blib/arch
    /home/cpansand/.local/share/.cpan/build/2020071603/Alien-autoconf-0.16-2/blib/lib
    /home/cpansand/.local/share/.cpan/build/2020071603/Alien-m4-0.19-2/blib/arch
    /home/cpansand/.local/share/.cpan/build/2020071603/Alien-m4-0.19-2/blib/lib
    /opt/perl-5.30.1/lib/site_perl/5.30.1/x86_64-linux
    /opt/perl-5.30.1/lib/site_perl/5.30.1
    /opt/perl-5.30.1/lib/5.30.1/x86_64-linux
    /opt/perl-5.30.1/lib/5.30.1
    .