PAR-Packer v1.059 Perl 5 v5.28.3 x86_64-linux-thread-multi
- Status
- Pass
- From
- Slaven Rezić
- Dist
-
PAR-Packer v1.059
- Platform
- Perl 5 v5.28.3 x86_64-linux-thread-multi
- Date
- 2023-07-21 21:23:29
- ID
- d6887f98-280c-11ee-bfc3-ccd86d8775ea
This distribution has been tested as part of the CPAN Testers
project, supporting the Perl programming language. See
http://wiki.cpantesters.org/ for more information or email
questions to cpan-testers-discuss@perl.org
--
Dear Roderich Schupp,
This is a computer-generated report for PAR-Packer-1.059
on perl 5.28.3, created by CPAN-Reporter-1.2018.
Thank you for uploading your work to CPAN. Congratulations!
All tests were successful.
Sections of this report:
* Tester comments
* Program output
* Prerequisites
* Environment and other context
------------------------------
TESTER COMMENTS
------------------------------
Additional comments from tester:
none provided
------------------------------
PROGRAM OUTPUT
------------------------------
Output from '/usr/bin/make test':
make[1]: Entering directory '/home/cpansand/.cpan/build/2023072121/PAR-Packer-1.059-0/t/data'
"/bbbike/perl-5.28.3t/bin/perl" -MExtUtils::Command::MM -e 'cp_nonempty' -- XSFoo.bs ../blib/lib/auto/XSFoo/XSFoo.bs 644
make[1]: Leaving directory '/home/cpansand/.cpan/build/2023072121/PAR-Packer-1.059-0/t/data'
make[1]: Entering directory '/home/cpansand/.cpan/build/2023072121/PAR-Packer-1.059-0/myldr'
Makefile:863: warning: overriding recipe for target '.c.o'
Makefile:338: warning: ignoring old recipe for target '.c.o'
make[1]: Leaving directory '/home/cpansand/.cpan/build/2023072121/PAR-Packer-1.059-0/myldr'
make[1]: Entering directory '/home/cpansand/.cpan/build/2023072121/PAR-Packer-1.059-0/t/data'
"/bbbike/perl-5.28.3t/bin/perl" -MExtUtils::Command::MM -e 'cp_nonempty' -- XSFoo.bs ../blib/lib/auto/XSFoo/XSFoo.bs 644
No tests defined for XSFoo extension.
make[1]: Leaving directory '/home/cpansand/.cpan/build/2023072121/PAR-Packer-1.059-0/t/data'
make[1]: Entering directory '/home/cpansand/.cpan/build/2023072121/PAR-Packer-1.059-0/myldr'
Makefile:863: warning: overriding recipe for target '.c.o'
Makefile:338: warning: ignoring old recipe for target '.c.o'
No tests defined for myldr extension.
make[1]: Leaving directory '/home/cpansand/.cpan/build/2023072121/PAR-Packer-1.059-0/myldr'
PERL_DL_NONLAZY=1 "/bbbike/perl-5.28.3t/bin/perl" "-MExtUtils::Command::MM" "-MTest::Harness" "-e" "undef *Test::Harness::Switches; test_harness(0, 'blib/lib', 'blib/arch')" t/*.t
t/00-pod.t ............... skipped: Set environment variable PERL_TEST_POD=1 to test POD
t/10-parl-generation.t ... ok
/var/tmp/cpansmoker-1023/2023072105/_M4lvU680x syntax OK
t/20-pp.t ................ ok
t/30-current_exec.t ...... ok
t/40-packer_cd_option.t .. ok
t/80-doublecolon.t ....... ok
t/85-crt-glob.t .......... ok
t/85-myfile.t ............ ok
# dl_shared_objects = /var/tmp/cpansmoker-1023/2023072105/HyAABi6Lqg/par-6370616e73616e64/cache-7f4fc8019d56c6098811c214b6ac51723af4d112/becf43c5.so /var/tmp/cpansmoker-1023/2023072105/HyAABi6Lqg/par-6370616e73616e64/cache-7f4fc8019d56c6098811c214b6ac51723af4d112/3a7e5bbc.so /var/tmp/cpansmoker-1023/2023072105/HyAABi6Lqg/par-6370616e73616e64/cache-7f4fc8019d56c6098811c214b6ac51723af4d112/761f07bc.so /var/tmp/cpansmoker-1023/2023072105/HyAABi6Lqg/par-6370616e73616e64/cache-7f4fc8019d56c6098811c214b6ac51723af4d112/b27813a1.so /var/tmp/cpansmoker-1023/2023072105/HyAABi6Lqg/par-6370616e73616e64/cache-7f4fc8019d56c6098811c214b6ac51723af4d112/50cad8a2.so /var/tmp/cpansmoker-1023/2023072105/HyAABi6Lqg/par-6370616e73616e64/cache-7f4fc8019d56c6098811c214b6ac51723af4d112/66986263.so /var/tmp/cpansmoker-1023/2023072105/HyAABi6Lqg/par-6370616e73616e64/cache-7f4fc8019d56c6098811c214b6ac51723af4d112/e0de8bd2.so /var/tmp/cpansmoker-1023/2023072105/HyAABi6Lqg/par-6370616e73616e64/cache-7f4fc8019d56c6098811c214b6ac51723af4d112/3f666abe.so /var/tmp/cpansmoker-1023/2023072105/HyAABi6Lqg/par-6370616e73616e64/cache-7f4fc8019d56c6098811c214b6ac51723af4d112/d6ac2975.so /var/tmp/cpansmoker-1023/2023072105/HyAABi6Lqg/par-6370616e73616e64/cache-7f4fc8019d56c6098811c214b6ac51723af4d112/50ba81bd.so /var/tmp/cpansmoker-1023/2023072105/HyAABi6Lqg/par-6370616e73616e64/cache-7f4fc8019d56c6098811c214b6ac51723af4d112/4e05270a.so /var/tmp/cpansmoker-1023/2023072105/HyAABi6Lqg/par-6370616e73616e64/cache-7f4fc8019d56c6098811c214b6ac51723af4d112/9f687916.so /var/tmp/cpansmoker-1023/2023072105/HyAABi6Lqg/par-6370616e73616e64/cache-7f4fc8019d56c6098811c214b6ac51723af4d112/83f0c194.so /var/tmp/cpansmoker-1023/2023072105/HyAABi6Lqg/par-6370616e73616e64/cache-7f4fc8019d56c6098811c214b6ac51723af4d112/416d2dda.so
# dl_modules = IO Fcntl Cwd Compress::Raw::Zlib List::Util Time::HiRes Encode Storable File::Glob Digest::SHA PerlIO::scalar Tie::Hash::NamedCapture attributes XSFoo
# greetings from XSFoo
t/86-xs-exe.t ............ ok
t/86-xs-par.t ............ ok
t/90-exitcode.t .......... ok
t/90-gh41.t .............. skipped: Tests only relevant on Windows
t/90-gh66.t .............. ok
# PAR_TEMP = /var/tmp/cpansmoker-1023/2023072105/KFADgiyJiJ/par-6370616e73616e64/cache-cb3cdc8b955ba158d238a72631792eac5ff48879
# running /var/tmp/cpansmoker-1023/2023072105/KFADgiyJiJ/pp000 a second time
# running /var/tmp/cpansmoker-1023/2023072105/KFADgiyJiJ/pp000 a third time
t/90-rt101800.t .......... ok
t/90-rt103861.t .......... ok
t/90-rt104560.t .......... ok
t/90-rt104635.t .......... ok
t/90-rt122949.t .......... skipped: Tests only relevant on Windows
t/90-rt127064.t .......... skipped: Tests only relevant on Windows
t/90-rt129312.t .......... ok
# found core module Carp in /bbbike/perl-5.28.3t/lib/5.28.3/Carp.pm
# found core module Exporter in /bbbike/perl-5.28.3t/lib/5.28.3/Exporter.pm
# found core module File::Glob in /bbbike/perl-5.28.3t/lib/5.28.3/x86_64-linux-thread-multi/File/Glob.pm
# found core module List::Util in /bbbike/perl-5.28.3t/lib/5.28.3/x86_64-linux-thread-multi/List/Util.pm
t/90-rt130685.t .......... ok
t/90-rt59710.t ........... ok
All tests successful.
Files=22, Tests=158, 55 wallclock secs ( 0.07 usr 0.06 sys + 34.47 cusr 13.81 csys = 48.41 CPU)
Result: PASS
------------------------------
PREREQUISITES
------------------------------
Prerequisite modules loaded:
requires:
Module Need Have
--------------------- -------- --------
Archive::Zip 1.02 1.68
Compress::Zlib 1.30 2.074
Digest::SHA 5.40 6.01
File::Temp 0.05 0.2304
Getopt::ArgvFile 1.07 1.11
IO::Compress::Gzip 0 2.074
Module::ScanDeps 1.21 1.32
PAR 1.016 1.018
PAR::Dist 0.22 0.52
perl 5.008009 5.028003
Text::ParseWords 0 3.30
build_requires:
Module Need Have
--------------------- -------- --------
ExtUtils::MakeMaker 0 7.34
IPC::Run3 0.048 0.048
Test::More 0 1.302133
configure_requires:
Module Need Have
--------------------- -------- --------
DynaLoader 0 1.45
ExtUtils::CBuilder 0 0.280230
ExtUtils::Embed 0 1.35
File::Basename 0 2.85
File::Glob 0 1.31
File::Spec::Functions 0 3.74
------------------------------
ENVIRONMENT AND OTHER CONTEXT
------------------------------
Environment variables:
LANG = C
PATH = /usr/local/bin:/usr/bin:/bin:/usr/local/sbin:/usr/sbin:/sbin:/home/cpansand/bin/linux-gnu:/home/cpansand/bin/sh:/home/cpansand/bin:/usr/games:/home/cpansand/devel:/home/eserte/src/srezic-misc/scripts
PERL5LIB = /home/cpansand/.cpan/build/2023072121/PAR-1.018-0/blib/arch:/home/cpansand/.cpan/build/2023072121/PAR-1.018-0/blib/lib:/home/cpansand/.cpan/build/2023072121/PAR-Dist-0.52-0/blib/arch:/home/cpansand/.cpan/build/2023072121/PAR-Dist-0.52-0/blib/lib:/home/cpansand/.cpan/build/2023072121/Module-ScanDeps-1.32-0/blib/arch:/home/cpansand/.cpan/build/2023072121/Module-ScanDeps-1.32-0/blib/lib:/home/cpansand/.cpan/build/2023072121/Test-Requires-0.11-0/blib/arch:/home/cpansand/.cpan/build/2023072121/Test-Requires-0.11-0/blib/lib:/home/cpansand/.cpan/build/2023072121/IPC-Run3-0.048-0/blib/arch:/home/cpansand/.cpan/build/2023072121/IPC-Run3-0.048-0/blib/lib:/home/cpansand/.cpan/build/2023072121/Getopt-ArgvFile-1.11-0/blib/arch:/home/cpansand/.cpan/build/2023072121/Getopt-ArgvFile-1.11-0/blib/lib:/home/cpansand/.cpan/build/2023072121/Archive-Zip-1.68-0/blib/arch:/home/cpansand/.cpan/build/2023072121/Archive-Zip-1.68-0/blib/lib
PERL5OPT =
PERL5_CPANPLUS_IS_RUNNING = 824463
PERL5_CPAN_IS_RUNNING = 824463
PERL5_CPAN_IS_RUNNING_IN_RECURSION = 1290,824463
PERLDOC = -MPod::Perldoc::ToTextOverstrike
PERL_BATCH = yes
PERL_CANARY_STABILITY_NOPROMPT = 1
PERL_CPAN_REPORTER_CONFIG = /var/tmp/cpansmoker-1023/2023072105/cpanreporter_000_config.ini
PERL_EXTUTILS_AUTOINSTALL = --defaultdeps
PERL_USE_UNSAFE_INC = 1
SHELL = /usr/bin/zsh
TERM = screen
TMPDIR = /var/tmp/cpansmoker-1023/2023072105
Perl special variables (and OS-specific diagnostics, for MSWin32):
$^X = /bbbike/perl-5.28.3t/bin/perl
$UID/$EUID = 1023 / 1023
$GID = 1023 1023
$EGID = 1023 1023
Perl module toolchain versions installed:
Module Have
------------------- --------
CPAN 2.20
CPAN::Meta 2.150010
Cwd 3.74
ExtUtils::CBuilder 0.280230
ExtUtils::Command 7.34
ExtUtils::Install 2.14
ExtUtils::MakeMaker 7.34
ExtUtils::Manifest 1.70
ExtUtils::ParseXS 3.39
File::Spec 3.74
JSON n/a
JSON::PP 2.97001
Module::Build n/a
Module::Signature n/a
Parse::CPAN::Meta 2.150010
Test::Harness 3.42
Test::More 1.302133
YAML 1.30
YAML::Syck 1.34
version 0.9923
--
Summary of my perl5 (revision 5 version 28 subversion 3) configuration:
Platform:
osname=linux
osvers=5.10.0-13-amd64
archname=x86_64-linux-thread-multi
uname='linux eserte 5.10.0-13-amd64 #1 smp debian 5.10.106-1 (2022-03-17) x86_64 gnulinux '
config_args='-ds -e -Dprefix=/opt/perl-5.28.3t -Dusethreads -Dcf_email=srezic@cpan.org'
hint=recommended
useposix=true
d_sigaction=define
useithreads=define
usemultiplicity=define
use64bitint=define
use64bitall=define
uselongdouble=undef
usemymalloc=n
default_inc_excludes_dot=define
bincompat5005=undef
Compiler:
cc='cc'
ccflags ='-D_REENTRANT -D_GNU_SOURCE -fwrapv -fno-strict-aliasing -pipe -fstack-protector-strong -I/usr/local/include -D_LARGEFILE_SOURCE -D_FILE_OFFSET_BITS=64 -D_FORTIFY_SOURCE=2'
optimize='-O2'
cppflags='-D_REENTRANT -D_GNU_SOURCE -fwrapv -fno-strict-aliasing -pipe -fstack-protector-strong -I/usr/local/include'
ccversion=''
gccversion='10.2.1 20210110'
gccosandvers=''
intsize=4
longsize=8
ptrsize=8
doublesize=8
byteorder=12345678
doublekind=3
d_longlong=define
longlongsize=8
d_longdbl=define
longdblsize=16
longdblkind=3
ivtype='long'
ivsize=8
nvtype='double'
nvsize=8
Off_t='off_t'
lseeksize=8
alignbytes=8
prototype=define
Linker and Libraries:
ld='cc'
ldflags =' -fstack-protector-strong -L/usr/local/lib'
libpth=/usr/local/lib /usr/include/x86_64-linux-gnu /usr/lib /lib/x86_64-linux-gnu /lib/../lib /usr/lib/x86_64-linux-gnu /usr/lib/../lib /lib
libs=-lpthread -lnsl -lgdbm -ldb -ldl -lm -lcrypt -lutil -lc
perllibs=-lpthread -lnsl -ldl -lm -lcrypt -lutil -lc
libc=libc-2.31.so
so=so
useshrplib=false
libperl=libperl.a
gnulibc_version='2.31'
Dynamic Linking:
dlsrc=dl_dlopen.xs
dlext=so
d_dlsymun=undef
ccdlflags='-Wl,-E'
cccdlflags='-fPIC'
lddlflags='-shared -O2 -L/usr/local/lib -fstack-protector-strong'
Characteristics of this binary (from libperl):
Compile-time options:
HAS_TIMES
MULTIPLICITY
PERLIO_LAYERS
PERL_COPY_ON_WRITE
PERL_DONT_CREATE_GVSV
PERL_IMPLICIT_CONTEXT
PERL_MALLOC_WRAP
PERL_OP_PARENT
PERL_PRESERVE_IVUV
USE_64_BIT_ALL
USE_64_BIT_INT
USE_ITHREADS
USE_LARGE_FILES
USE_LOCALE
USE_LOCALE_COLLATE
USE_LOCALE_CTYPE
USE_LOCALE_NUMERIC
USE_LOCALE_TIME
USE_PERLIO
USE_PERL_ATOF
USE_REENTRANT_API
Locally applied patches:
Devel::PatchPerl 2.08
Built under linux
Compiled at May 18 2022 17:12:46
%ENV:
PERL5LIB="/home/cpansand/.cpan/build/2023072121/PAR-1.018-0/blib/arch:/home/cpansand/.cpan/build/2023072121/PAR-1.018-0/blib/lib:/home/cpansand/.cpan/build/2023072121/PAR-Dist-0.52-0/blib/arch:/home/cpansand/.cpan/build/2023072121/PAR-Dist-0.52-0/blib/lib:/home/cpansand/.cpan/build/2023072121/Module-ScanDeps-1.32-0/blib/arch:/home/cpansand/.cpan/build/2023072121/Module-ScanDeps-1.32-0/blib/lib:/home/cpansand/.cpan/build/2023072121/Test-Requires-0.11-0/blib/arch:/home/cpansand/.cpan/build/2023072121/Test-Requires-0.11-0/blib/lib:/home/cpansand/.cpan/build/2023072121/IPC-Run3-0.048-0/blib/arch:/home/cpansand/.cpan/build/2023072121/IPC-Run3-0.048-0/blib/lib:/home/cpansand/.cpan/build/2023072121/Getopt-ArgvFile-1.11-0/blib/arch:/home/cpansand/.cpan/build/2023072121/Getopt-ArgvFile-1.11-0/blib/lib:/home/cpansand/.cpan/build/2023072121/Archive-Zip-1.68-0/blib/arch:/home/cpansand/.cpan/build/2023072121/Archive-Zip-1.68-0/blib/lib"
PERL5OPT=""
PERL5_CPANPLUS_IS_RUNNING="824463"
PERL5_CPAN_IS_RUNNING="824463"
PERL5_CPAN_IS_RUNNING_IN_RECURSION="1290,824463"
PERLDOC="-MPod::Perldoc::ToTextOverstrike"
PERL_BATCH="yes"
PERL_CANARY_STABILITY_NOPROMPT="1"
PERL_CPAN_REPORTER_CONFIG="/var/tmp/cpansmoker-1023/2023072105/cpanreporter_000_config.ini"
PERL_EXTUTILS_AUTOINSTALL="--defaultdeps"
PERL_USE_UNSAFE_INC="1"
@INC:
/home/cpansand/.cpan/build/2023072121/PAR-1.018-0/blib/arch
/home/cpansand/.cpan/build/2023072121/PAR-1.018-0/blib/lib
/home/cpansand/.cpan/build/2023072121/PAR-Dist-0.52-0/blib/arch
/home/cpansand/.cpan/build/2023072121/PAR-Dist-0.52-0/blib/lib
/home/cpansand/.cpan/build/2023072121/Module-ScanDeps-1.32-0/blib/arch
/home/cpansand/.cpan/build/2023072121/Module-ScanDeps-1.32-0/blib/lib
/home/cpansand/.cpan/build/2023072121/Test-Requires-0.11-0/blib/arch
/home/cpansand/.cpan/build/2023072121/Test-Requires-0.11-0/blib/lib
/home/cpansand/.cpan/build/2023072121/IPC-Run3-0.048-0/blib/arch
/home/cpansand/.cpan/build/2023072121/IPC-Run3-0.048-0/blib/lib
/home/cpansand/.cpan/build/2023072121/Getopt-ArgvFile-1.11-0/blib/arch
/home/cpansand/.cpan/build/2023072121/Getopt-ArgvFile-1.11-0/blib/lib
/home/cpansand/.cpan/build/2023072121/Archive-Zip-1.68-0/blib/arch
/home/cpansand/.cpan/build/2023072121/Archive-Zip-1.68-0/blib/lib
/opt/perl-5.28.3t/lib/site_perl/5.28.3/x86_64-linux-thread-multi
/opt/perl-5.28.3t/lib/site_perl/5.28.3
/opt/perl-5.28.3t/lib/5.28.3/x86_64-linux-thread-multi
/opt/perl-5.28.3t/lib/5.28.3
.