App-TimeTracker v3.010 Perl 5 v5.24.2 x86_64-linux

Status
Pass
From
Andreas J. König (ANDK)
Dist
App-TimeTracker v3.010
Platform
Perl 5 v5.24.2 x86_64-linux
Date
2022-03-01 14:49:46
ID
d6a1691e-996e-11ec-b808-3d26b2b201a8
This distribution has been tested as part of the CPAN Testers
project, supporting the Perl programming language.  See
http://wiki.cpantesters.org/ for more information or email
questions to cpan-testers-discuss@perl.org


--
Dear Thomas Klausner,

This is a computer-generated report for App-TimeTracker-3.010
on perl 5.24.2, created by CPAN-Reporter-1.2018.

Thank you for uploading your work to CPAN.  Congratulations!
All tests were successful.

Sections of this report:

    * Tester comments
    * Program output
    * Prerequisites
    * Environment and other context

------------------------------
TESTER COMMENTS
------------------------------

Additional comments from tester:

this report is from an automated smoke testing program
and was not reviewed by a human for accuracy

------------------------------
PROGRAM OUTPUT
------------------------------

Output from './Build test':

t/00-compile.t ................... ok
t/00-load.t ...................... ok
t/Command/core.t ................. ok
# Test initial bug report
# Test de facto bug
t/Command/rt_73859_daychange.t ... ok
t/Command/rt_88867_start_help.t .. ok
t/Proto/config.t ................. ok
t/Proto/run.t .................... ok
t/Task/current.t ................. ok
t/Task/helpers.t ................. ok
t/Task/start.t ................... ok
t/Task/storage_location.t ........ ok
t/TimeTracker/datetime_coerce.t .. ok
t/TimeTracker/find_task_files.t .. ok
t/TimeTracker/helpers.t .......... ok
All tests successful.
Files=14, Tests=138, 19 wallclock secs ( 0.04 usr  0.06 sys +  8.30 cusr  1.51 csys =  9.91 CPU)
Result: PASS

------------------------------
PREREQUISITES
------------------------------

Prerequisite modules loaded:

requires:

    Module                          Need  Have    
    ------------------------------- ----- --------
    Carp                            0     1.50    
    constant                        0     1.33    
    Data::Dumper                    0     2.173   
    DateTime                        0     1.51    
    DateTime::Format::Duration      0     1.04    
    DateTime::Format::ISO8601       0     0.08    
    Exporter                        0     5.72    
    File::Copy                      0     2.31    
    File::Find::Rule                0     0.34    
    File::HomeDir                   0     1.004   
    Hash::Merge                     0     0.300   
    JSON::XS                        0     4.03    
    Moose                           0     2.2201  
    Moose::Role                     0     2.2201  
    Moose::Util::TypeConstraints    0     2.2201  
    MooseX::Getopt                  0     0.74    
    MooseX::Storage                 0     0.53    
    MooseX::Storage::Format::JSONpm 0     0.093093
    MooseX::Types::Path::Class      0     0.09    
    namespace::autoclean            0     0.29    
    parent                          0     0.237   
    Path::Class                     0     0.37    
    Path::Class::Iterator           0     0.07    
    perl                            5.010 5.024002
    Scalar::Util                    0     1.56    
    Term::ANSIColor                 0     5.01    
    Text::Table                     0     1.133   
    Try::Tiny                       0     0.30    
    User::pwent                     0     1.00    

build_requires:

    Module                          Need  Have    
    ------------------------------- ----- --------
    File::Copy::Recursive           0     0.45    
    File::Spec                      0     3.75    
    File::Temp                      0     0.2309  
    IO::Capture::Stdout             0     0       
    IO::Handle                      0     1.48    
    IPC::Open3                      0     1.20    
    lib                             0     0.63    
    Module::Build                   0.28  0.4229  
    Module::Pluggable               0     5.2     
    Test::File                      0     1.443   
    Test::MockTime                  0     0.17    
    Test::More                      0     1.302188
    Test::Most                      0     0.35    
    Test::Trap                      0     0.3.4   


------------------------------
ENVIRONMENT AND OTHER CONTEXT
------------------------------

Environment variables:

    AUTOMATED_TESTING = 1
    LANG = en_US.UTF-8
    PATH = /home/sand/bin:/usr/local/bin:/usr/bin:/bin:/usr/games:/usr/local/perl/bin:/usr/X11/bin:/sbin:/usr/sbin
    PERL5LIB = 
    PERL5OPT = 
    PERL5_CPANPLUS_IS_RUNNING = 1051765
    PERL5_CPAN_IS_RUNNING = 1051765
    PERL_CANARY_STABILITY_NOPROMPT = 1
    PERL_MM_USE_DEFAULT = 1
    PERL_USE_UNSAFE_INC = 1
    SHELL = /usr/bin/zsh
    TERM = screen

Perl special variables (and OS-specific diagnostics, for MSWin32):

    $^X = /home/sand/src/perl/repoperls/installed-perls/host/k93msid/v5.24.2/da1c/bin/perl
    $UID/$EUID = 1005 / 1005
    $GID = 1005 1005
    $EGID = 1005 1005

Perl module toolchain versions installed:

    Module              Have    
    ------------------- --------
    CPAN                2.29    
    CPAN::Meta          2.150010
    Cwd                 3.75    
    ExtUtils::CBuilder  0.280231
    ExtUtils::Command   7.43_01 
    ExtUtils::Install   2.06    
    ExtUtils::MakeMaker 7.43_01 
    ExtUtils::Manifest  1.70    
    ExtUtils::ParseXS   3.35    
    File::Spec          3.75    
    JSON                4.05    
    JSON::PP            4.04    
    Module::Build       0.4229  
    Module::Signature   0.88    
    Parse::CPAN::Meta   2.150010
    Test::Harness       3.42    
    Test::More          1.302188
    YAML                1.29    
    YAML::Syck          1.32    
    version             0.9925  


--

Summary of my perl5 (revision 5 version 24 subversion 2) configuration:
  Derived from: eb3b805818a89c08b5564d383beddf70f69af1a3
  Platform:
    osname=linux, osvers=5.3.0-2-amd64, archname=x86_64-linux
    uname='linux k93msid 5.3.0-2-amd64 #1 smp debian 5.3.9-3 (2019-11-19) x86_64 gnulinux '
    config_args='-Dprefix=/home/sand/src/perl/repoperls/installed-perls/host/k93msid/v5.24.2/da1c -Dmyhostname=k93msid -Dinstallusrbinperl=n -Uversiononly -Dusedevel -des -Ui_db -Dlibswanted=cl pthread socket inet nsl gdbm dbm malloc dl ld sun m crypt sec util c cposix posix ucb BSD gdbm_compat -Uuseithreads -Uuselongdouble -DEBUGGING=-g'
    hint=recommended, useposix=true, d_sigaction=define
    useithreads=undef, usemultiplicity=undef
    use64bitint=define, use64bitall=define, uselongdouble=undef
    usemymalloc=n, bincompat5005=undef
  Compiler:
    cc='cc', ccflags ='-fwrapv -fno-strict-aliasing -pipe -fstack-protector-strong -I/usr/local/include -D_LARGEFILE_SOURCE -D_FILE_OFFSET_BITS=64',
    optimize='-O2 -g',
    cppflags='-fwrapv -fno-strict-aliasing -pipe -fstack-protector-strong -I/usr/local/include'
    ccversion='', gccversion='9.2.1 20191109', gccosandvers=''
    intsize=4, longsize=8, ptrsize=8, doublesize=8, byteorder=12345678, doublekind=3
    d_longlong=define, longlongsize=8, d_longdbl=define, longdblsize=16, longdblkind=3
    ivtype='long', ivsize=8, nvtype='double', nvsize=8, Off_t='off_t', lseeksize=8
    alignbytes=8, prototype=define
  Linker and Libraries:
    ld='cc', ldflags =' -fstack-protector-strong -L/usr/local/lib'
    libpth=/usr/local/lib /usr/lib/gcc/x86_64-linux-gnu/9/include-fixed /usr/include/x86_64-linux-gnu /usr/lib /lib/x86_64-linux-gnu /lib/../lib /usr/lib/x86_64-linux-gnu /usr/lib/../lib /lib
    libs=-lpthread -lnsl -ldl -lm -lcrypt -lutil -lc
    perllibs=-lpthread -lnsl -ldl -lm -lcrypt -lutil -lc
    libc=libc-2.29.so, so=so, useshrplib=false, libperl=libperl.a
    gnulibc_version='2.29'
  Dynamic Linking:
    dlsrc=dl_dlopen.xs, dlext=so, d_dlsymun=undef, ccdlflags='-Wl,-E'
    cccdlflags='-fPIC', lddlflags='-shared -O2 -g -L/usr/local/lib -fstack-protector-strong'


Characteristics of this binary (from libperl): 
  Compile-time options: HAS_TIMES PERLIO_LAYERS PERL_COPY_ON_WRITE
                        PERL_DONT_CREATE_GVSV
                        PERL_HASH_FUNC_ONE_AT_A_TIME_HARD PERL_MALLOC_WRAP
                        PERL_PRESERVE_IVUV PERL_USE_DEVEL USE_64_BIT_ALL
                        USE_64_BIT_INT USE_LARGE_FILES USE_LOCALE
                        USE_LOCALE_COLLATE USE_LOCALE_CTYPE
                        USE_LOCALE_NUMERIC USE_LOCALE_TIME USE_PERLIO
                        USE_PERL_ATOF
  Locally applied patches:
	uncommitted-changes
  Built under linux
  Compiled at Nov 26 2019 03:23:58
  %ENV:
    PERL5LIB=""
    PERL5OPT=""
    PERL5_CPANPLUS_IS_RUNNING="1051765"
    PERL5_CPAN_IS_RUNNING="1051765"
    PERL_CANARY_STABILITY_NOPROMPT="1"
    PERL_MM_USE_DEFAULT="1"
    PERL_USE_UNSAFE_INC="1"
  @INC:
    /home/sand/src/perl/repoperls/installed-perls/host/k93msid/v5.24.2/da1c/lib/site_perl/5.24.2/x86_64-linux
    /home/sand/src/perl/repoperls/installed-perls/host/k93msid/v5.24.2/da1c/lib/site_perl/5.24.2
    /home/sand/src/perl/repoperls/installed-perls/host/k93msid/v5.24.2/da1c/lib/5.24.2/x86_64-linux
    /home/sand/src/perl/repoperls/installed-perls/host/k93msid/v5.24.2/da1c/lib/5.24.2
    .