HTML-Rebase v0.05 Perl 5 v5.8.9 x86_64-linux

Status
Pass
From
Nigel Horne
Dist
HTML-Rebase v0.05
Platform
Perl 5 v5.8.9 x86_64-linux
Date
2018-11-30 18:43:33
ID
d6bc5eaa-f4cf-11e8-afbf-aec3b07506ca
This distribution has been tested as part of the CPAN Testers
project, supporting the Perl programming language.  See
http://wiki.cpantesters.org/ for more information or email
questions to cpan-testers-discuss@perl.org


--
Dear Max Maischein,

This is a computer-generated report for HTML-Rebase-0.05
on perl 5.8.9, created by CPAN-Reporter-1.2018.

Thank you for uploading your work to CPAN.  Congratulations!
All tests were successful.

Sections of this report:

    * Tester comments
    * Program output
    * Prerequisites
    * Environment and other context

------------------------------
TESTER COMMENTS
------------------------------

Additional comments from tester:

this report is from an automated smoke testing program
and was not reviewed by a human for accuracy

------------------------------
PROGRAM OUTPUT
------------------------------

Output from '/usr/bin/make test':

PERL_DL_NONLAZY=1 "/home/njh/perl5/perlbrew/perls/perl-5.8.9/bin/perl" "-MExtUtils::Command::MM" "-MTest::Harness" "-e" "undef *Test::Harness::Switches; test_harness(0, 'blib/lib', 'blib/arch')" t/00-load.t t/01-synopsis.t t/02-quotes.t t/03-base.t t/04-case.t t/05-rebase-css.t t/06-relative-url.t
t/01-synopsis.t ...... ok
# Testing HTML::Rebase 0.05, Perl 5.008009
# AutoLoader 5.67
# Carp 1.38
# Config <unknown>
# Cwd 3.74
# DynaLoader 1.09
# Encode 2.98
# Encode::Alias 2.24
# Encode::Config 2.05
# Encode::Encoding 2.08
# Encode::MIME::Name 1.03
# Exporter 5.63
# Exporter::Heavy 5.63
# ExtUtils::Liblist 7.34
# ExtUtils::Liblist::Kid 7.34
# ExtUtils::MM 7.34
# ExtUtils::MM_Any 7.34
# ExtUtils::MM_Unix 7.34
# ExtUtils::MY 7.34
# ExtUtils::MakeMaker 7.34
# ExtUtils::MakeMaker::Config 7.34
# ExtUtils::MakeMaker::Locale 7.34
# ExtUtils::MakeMaker::version 7.34
# Fcntl 1.06
# File::Basename 2.77
# File::Glob 1.06
# File::Path 2.07_02
# File::Spec 3.74
# File::Spec::Unix 3.74
# FileHandle 2.01
# HTML::Rebase 0.05
# I18N::Langinfo 0.02
# IO 1.23
# IO::File 1.14
# IO::Handle 1.27
# IO::Seekable 1.1
# List::Util 1.5
# POSIX 1.15
# PerlIO 1.05
# Scalar::Util 1.5
# SelectSaver 1.01
# Storable 2.19
# Symbol 1.06
# Test::Builder 1.302136
# Test::Builder::Formatter 1.302136
# Test::Builder::Module 1.302136
# Test::Builder::TodoDiag 1.302136
# Test::More 1.302136
# Test2::API 1.302136
# Test2::API::Context 1.302136
# Test2::API::Instance 1.302136
# Test2::API::Stack 1.302136
# Test2::Event 1.302136
# Test2::Event::Bail 1.302136
# Test2::Event::Diag 1.302136
# Test2::Event::Exception 1.302136
# Test2::Event::Fail 1.302136
# Test2::Event::Note 1.302136
# Test2::Event::Ok 1.302136
# Test2::Event::Pass 1.302136
# Test2::Event::Plan 1.302136
# Test2::Event::Skip 1.302136
# Test2::Event::Subtest 1.302136
# Test2::Event::V2 1.302136
# Test2::Event::Waiting 1.302136
# Test2::EventFacet 1.302136
# Test2::EventFacet::About 1.302136
# Test2::EventFacet::Amnesty 1.302136
# Test2::EventFacet::Assert 1.302136
# Test2::EventFacet::Control 1.302136
# Test2::EventFacet::Error 1.302136
# Test2::EventFacet::Hub 1.302136
# Test2::EventFacet::Info 1.302136
# Test2::EventFacet::Meta 1.302136
# Test2::EventFacet::Parent 1.302136
# Test2::EventFacet::Plan 1.302136
# Test2::EventFacet::Trace 1.302136
# Test2::Formatter 1.302136
# Test2::Formatter::TAP 1.302136
# Test2::Hub 1.302136
# Test2::Hub::Interceptor 1.302136
# Test2::Hub::Interceptor::Terminator 1.302136
# Test2::Hub::Subtest 1.302136
# Test2::Util 1.302136
# Test2::Util::ExternalMeta 1.302136
# Test2::Util::Facets2Legacy 1.302136
# Test2::Util::HashBase 1.302136
# Test2::Util::Trace 1.302136
# Tie::Hash 1.03
# URI 1.74
# URI::Escape 3.31
# URI::URL 5.04
# URI::WithBase 2.20
# XSLoader 0.24
# base 2.13
# bytes 1.02
# constant 1.17
# if 0.05
# locale 1.00
# overload 1.06
# parent 0.236
# re 0.0601
# strict 1.03
# vars 1.01
# version 0.9924
# version::regex 0.9924
# version::vpp 0.9924
# warnings 1.05_01
# warnings::register 1.01
t/00-load.t .......... ok
t/02-quotes.t ........ ok
t/03-base.t .......... ok
t/04-case.t .......... ok
t/05-rebase-css.t .... ok
t/06-relative-url.t .. ok
All tests successful.
Files=7, Tests=12,  1 wallclock secs ( 0.04 usr  0.01 sys +  0.52 cusr  0.06 csys =  0.63 CPU)
Result: PASS

------------------------------
PREREQUISITES
------------------------------

Prerequisite modules loaded:

requires:

    Module              Need  Have    
    ------------------- ----- --------
    Carp                0     1.38    
    Exporter            5     5.63    
    perl                5.006 5.008009
    URI::URL            0     5.04    
    URI::WithBase       0     2.20    

build_requires:

    Module              Need  Have    
    ------------------- ----- --------
    ExtUtils::MakeMaker 0     7.34    
    Test::More          0     1.302136

configure_requires:

    Module              Need  Have    
    ------------------- ----- --------
    ExtUtils::MakeMaker 0     7.34    


------------------------------
ENVIRONMENT AND OTHER CONTEXT
------------------------------

Environment variables:

    AUTOMATED_TESTING = 1
    HARNESS_OPTIONS = j2
    LANG = en_US.UTF-8
    PATH = /home/njh/perl5/perlbrew/bin:/home/njh/perl5/perlbrew/perls/perl-5.8.9/bin:/home/njh/src/njh/smoker/bin:/usr/bin:/bin
    PERL5LIB = 
    PERL5OPT = 
    PERL5_CPANPLUS_IS_RUNNING = 18204
    PERL5_CPAN_IS_RUNNING = 18204
    PERLBREW_HOME = /home/njh/.perlbrew
    PERLBREW_MANPATH = /home/njh/perl5/perlbrew/perls/perl-5.8.9/man
    PERLBREW_PATH = /home/njh/perl5/perlbrew/bin:/home/njh/perl5/perlbrew/perls/perl-5.8.9/bin
    PERLBREW_PERL = perl-5.8.9
    PERLBREW_ROOT = /home/njh/perl5/perlbrew
    PERLBREW_SHELLRC_VERSION = 0.83
    PERLBREW_VERSION = 0.83
    SHELL = /bin/sh
    TEMP = /tmp/user/1000
    TMPDIR = /tmp/user/1000/testwrapper.18190

Perl special variables (and OS-specific diagnostics, for MSWin32):

    $^X = /home/njh/perl5/perlbrew/perls/perl-5.8.9/bin/perl
    $UID/$EUID = 1000 / 1000
    $GID = 1000 4 24 25 29 30 44 46 103 108 115 123 996 1000
    $EGID = 1000 4 24 25 29 30 44 46 103 108 115 123 996 1000

Perl module toolchain versions installed:

    Module              Have    
    ------------------- --------
    CPAN                2.16    
    CPAN::Meta          2.143240
    Cwd                 3.74    
    ExtUtils::CBuilder  0.280230
    ExtUtils::Command   7.34    
    ExtUtils::Install   2.06    
    ExtUtils::MakeMaker 7.34    
    ExtUtils::Manifest  1.70    
    ExtUtils::ParseXS   3.35    
    File::Spec          3.74    
    JSON                2.97001 
    JSON::PP            2.97001 
    Module::Build       0.4224  
    Module::Signature   n/a     
    Parse::CPAN::Meta   1.4414  
    Test::Harness       3.42    
    Test::More          1.302136
    YAML                1.26    
    YAML::Syck          n/a     
    version             0.9924  


--

Summary of my perl5 (revision 5 version 8 subversion 9) configuration:
  Platform:
    osname=linux, osvers=4.16.0-1-amd64, archname=x86_64-linux
    uname='linux amelia 4.16.0-1-amd64 #1 smp debian 4.16.5-1 (2018-04-29) x86_64 gnulinux '
    config_args='-de -Dprefix=/home/njh/perl5/perlbrew/perls/perl-5.8.9 -Aeval:scriptdir=/home/njh/perl5/perlbrew/perls/perl-5.8.9/bin'
    hint=recommended, useposix=true, d_sigaction=define
    usethreads=undef use5005threads=undef useithreads=undef usemultiplicity=undef
    useperlio=define d_sfio=undef uselargefiles=define usesocks=undef
    use64bitint=define use64bitall=define uselongdouble=undef
    usemymalloc=n, bincompat5005=undef
  Compiler:
    cc='cc', ccflags ='-fno-strict-aliasing -pipe -I/usr/local/include -D_LARGEFILE_SOURCE -D_FILE_OFFSET_BITS=64',
    optimize='-O2',
    cppflags='-fno-strict-aliasing -pipe -I/usr/local/include'
    ccversion='', gccversion='7.3.0', gccosandvers=''
    intsize=4, longsize=8, ptrsize=8, doublesize=8, byteorder=12345678
    d_longlong=define, longlongsize=8, d_longdbl=define, longdblsize=16
    ivtype='long', ivsize=8, nvtype='double', nvsize=8, Off_t='off_t', lseeksize=8
    alignbytes=8, prototype=define
  Linker and Libraries:
    ld='cc', ldflags =' -L/usr/local/lib'
    libpth=/usr/local/lib /lib/x86_64-linux-gnu /lib/../lib /usr/lib/x86_64-linux-gnu /usr/lib/../lib /lib /usr/lib /lib64 /usr/lib64
    libs=-lnsl -lgdbm -ldb -ldl -lm -lcrypt -lutil -lc
    perllibs=-lnsl -ldl -lm -lcrypt -lutil -lc
    libc=libc-2.27.so, so=so, useshrplib=false, libperl=libperl.a
    gnulibc_version='2.27'
  Dynamic Linking:
    dlsrc=dl_dlopen.xs, dlext=so, d_dlsymun=undef, ccdlflags='-Wl,-E'
    cccdlflags='-fPIC', lddlflags='-shared -O2 -L/usr/local/lib'


Characteristics of this binary (from libperl): 
  Compile-time options: PERL_MALLOC_WRAP USE_64_BIT_ALL USE_64_BIT_INT
                        USE_FAST_STDIO USE_LARGE_FILES USE_PERLIO
  Locally applied patches:
	Devel::PatchPerl 1.48
  Built under linux
  Compiled at Jun 16 2018 07:39:02
  %ENV:
    PERL5LIB=""
    PERL5OPT=""
    PERL5_CPANPLUS_IS_RUNNING="18204"
    PERL5_CPAN_IS_RUNNING="18204"
    PERLBREW_HOME="/home/njh/.perlbrew"
    PERLBREW_MANPATH="/home/njh/perl5/perlbrew/perls/perl-5.8.9/man"
    PERLBREW_PATH="/home/njh/perl5/perlbrew/bin:/home/njh/perl5/perlbrew/perls/perl-5.8.9/bin"
    PERLBREW_PERL="perl-5.8.9"
    PERLBREW_ROOT="/home/njh/perl5/perlbrew"
    PERLBREW_SHELLRC_VERSION="0.83"
    PERLBREW_VERSION="0.83"
  @INC:
    /home/njh/perl5/perlbrew/perls/perl-5.8.9/lib/5.8.9/x86_64-linux
    /home/njh/perl5/perlbrew/perls/perl-5.8.9/lib/5.8.9
    /home/njh/perl5/perlbrew/perls/perl-5.8.9/lib/site_perl/5.8.9/x86_64-linux
    /home/njh/perl5/perlbrew/perls/perl-5.8.9/lib/site_perl/5.8.9
    .