Report for Catalyst-View-Email-0.33

Back
From: metabase:user:314402c4-2aae-11df-837a-5e0a49663a4f
Subject: PASS Catalyst-View-Email-0.33 v5.19.11 FreeBSD
Date: 2014-05-03T22:25:32Z

This distribution has been tested as part of the CPAN Testers
project, supporting the Perl programming language.  See
http://wiki.cpantesters.org/ for more information or email
questions to cpan-testers-discuss@perl.org


--
Dear Devin Austin,

This is a computer-generated report for Catalyst-View-Email-0.33
on perl 5.19.11, created by CPAN-Reporter-1.2011.

Thank you for uploading your work to CPAN.  Congratulations!
All tests were successful.

Sections of this report:

    * Tester comments
    * Program output
    * Prerequisites
    * Environment and other context

------------------------------
TESTER COMMENTS
------------------------------

Additional comments from tester:

none provided

------------------------------
PROGRAM OUTPUT
------------------------------

Output from '/usr/bin/make test':

PERL_DL_NONLAZY=1 /usr/home/eserte/var/ctps/51911/install/perl-5.19.11/bin/perl5.19.11 "-MExtUtils::Command::MM" "-MTest::Harness" "-e" "undef *Test::Harness::Switches; test_harness(0, 'inc', 'blib/lib', 'blib/arch')" t/01use.t t/02pod.t t/04basic.t t/05template.t t/06config.t t/07mason.t
t/01use.t ....... ok
t/02pod.t ....... skipped: set TEST_POD to enable this test
require TestApp::View::Mason was successful but the package is not defined. at /home/eserte/var/ctps/51911/install/perl-5.19.11/lib/site_perl/5.19.11/Catalyst/Utils.pm line 314.
Class::MOP::load_class is deprecated at /home/eserte/var/ctps/51911/install/perl-5.19.11/lib/site_perl/5.19.11/amd64-freebsd/Class/MOP.pm line 73.
	Class::MOP::load_class("Email::Sender::Transport::Test") called at /usr/home/eserte/.cpan/build/Catalyst-View-Email-0.33-qjAKB0/blib/lib/Catalyst/View/Email.pm line 226
	Catalyst::View::Email::_build_mailer_obj(TestApp::View::Email=HASH(0x277c6fa8)) called at accessor Catalyst::View::Email::_mailer_obj (defined at /usr/home/eserte/.cpan/build/Catalyst-View-Email-0.33-qjAKB0/blib/lib/Catalyst/View/Email.pm line 21) line 11
	Catalyst::View::Email::_mailer_obj(TestApp::View::Email=HASH(0x277c6fa8)) called at /usr/home/eserte/.cpan/build/Catalyst-View-Email-0.33-qjAKB0/blib/lib/Catalyst/View/Email.pm line 299
	Catalyst::View::Email::process(TestApp::View::Email=HASH(0x277c6fa8), TestApp=HASH(0x278b32d0)) called at /home/eserte/var/ctps/51911/install/perl-5.19.11/lib/site_perl/5.19.11/Catalyst/Action.pm line 65
	Catalyst::Action::execute(Catalyst::Action=HASH(0x278ba5e8), TestApp::View::Email=HASH(0x277c6fa8), TestApp=HASH(0x278b32d0)) called at /home/eserte/var/ctps/51911/install/perl-5.19.11/lib/site_perl/5.19.11/Catalyst.pm line 1734
	eval {...} called at /home/eserte/var/ctps/51911/install/perl-5.19.11/lib/site_perl/5.19.11/Catalyst.pm line 1734
	Catalyst::execute(TestApp=HASH(0x278b32d0), "TestApp::View::Email", Catalyst::Action=HASH(0x278ba5e8)) called at /home/eserte/var/ctps/51911/install/perl-5.19.11/lib/site_perl/5.19.11/Catalyst/Action.pm line 60
	Catalyst::Action::dispatch(Catalyst::Action=HASH(0x278ba5e8), TestApp=HASH(0x278b32d0)) called at /home/eserte/var/ctps/51911/install/perl-5.19.11/lib/site_perl/5.19.11/Catalyst/Dispatcher.pm line 258
	Catalyst::Dispatcher::_do_forward(Catalyst::Dispatcher=HASH(0x266ca9f0), "forward", TestApp=HASH(0x278b32d0), "TestApp::View::Email") called at /home/eserte/var/ctps/51911/install/perl-5.19.11/lib/site_perl/5.19.11/Catalyst/Dispatcher.pm line 238
	Catalyst::Dispatcher::forward(Catalyst::Dispatcher=HASH(0x266ca9f0), TestApp=HASH(0x278b32d0), "TestApp::View::Email") called at /home/eserte/var/ctps/51911/install/perl-5.19.11/lib/site_perl/5.19.11/Catalyst.pm line 397
	Catalyst::forward(TestApp=HASH(0x278b32d0), "TestApp::View::Email") called at /usr/home/eserte/.cpan/build/Catalyst-View-Email-0.33-qjAKB0/t/lib/TestApp/Controller/Root.pm line 26
	TestApp::Controller::Root::email(TestApp::Controller::Root=HASH(0x277ca9f0), TestApp=HASH(0x278b32d0)) called at /home/eserte/var/ctps/51911/install/perl-5.19.11/lib/site_perl/5.19.11/Catalyst/Action.pm line 65
	Catalyst::Action::execute(Catalyst::Action=HASH(0x277e92b8), TestApp::Controller::Root=HASH(0x277ca9f0), TestApp=HASH(0x278b32d0)) called at /home/eserte/var/ctps/51911/install/perl-5.19.11/lib/site_perl/5.19.11/Catalyst.pm line 1734
	eval {...} called at /home/eserte/var/ctps/51911/install/perl-5.19.11/lib/site_perl/5.19.11/Catalyst.pm line 1734
	Catalyst::execute(TestApp=HASH(0x278b32d0), "TestApp::Controller::Root", Catalyst::Action=HASH(0x277e92b8)) called at /home/eserte/var/ctps/51911/install/perl-5.19.11/lib/site_perl/5.19.11/Catalyst/Action.pm line 60
	Catalyst::Action::dispatch(Catalyst::Action=HASH(0x277e92b8), TestApp=HASH(0x278b32d0)) called at /home/eserte/var/ctps/51911/install/perl-5.19.11/lib/site_perl/5.19.11/Catalyst/Controller.pm line 161
	Catalyst::Controller::_ACTION(TestApp::Controller::Root=HASH(0x277ca9f0), TestApp=HASH(0x278b32d0)) called at /home/eserte/var/ctps/51911/install/perl-5.19.11/lib/site_perl/5.19.11/Catalyst/Action.pm line 65
	Catalyst::Action::execute(Catalyst::Action=HASH(0x277e5ae0), TestApp::Controller::Root=HASH(0x277ca9f0), TestApp=HASH(0x278b32d0)) called at /home/eserte/var/ctps/51911/install/perl-5.19.11/lib/site_perl/5.19.11/Catalyst.pm line 1734
	eval {...} called at /home/eserte/var/ctps/51911/install/perl-5.19.11/lib/site_perl/5.19.11/Catalyst.pm line 1734
	Catalyst::execute(TestApp=HASH(0x278b32d0), "TestApp::Controller::Root", Catalyst::Action=HASH(0x277e5ae0)) called at /home/eserte/var/ctps/51911/install/perl-5.19.11/lib/site_perl/5.19.11/Catalyst/Action.pm line 60
	Catalyst::Action::dispatch(Catalyst::Action=HASH(0x277e5ae0), TestApp=HASH(0x278b32d0)) called at /home/eserte/var/ctps/51911/install/perl-5.19.11/lib/site_perl/5.19.11/Catalyst/Dispatcher.pm line 258
	Catalyst::Dispatcher::_do_forward(Catalyst::Dispatcher=HASH(0x266ca9f0), "forward", TestApp=HASH(0x278b32d0), "_ACTION") called at /home/eserte/var/ctps/51911/install/perl-5.19.11/lib/site_perl/5.19.11/Catalyst/Dispatcher.pm line 238
	Catalyst::Dispatcher::forward(Catalyst::Dispatcher=HASH(0x266ca9f0), TestApp=HASH(0x278b32d0), "_ACTION") called at /home/eserte/var/ctps/51911/install/perl-5.19.11/lib/site_perl/5.19.11/Catalyst.pm line 397
	Catalyst::forward(TestApp=HASH(0x278b32d0), "_ACTION") called at /home/eserte/var/ctps/51911/install/perl-5.19.11/lib/site_perl/5.19.11/Catalyst/Controller.pm line 135
	Catalyst::Controller::_DISPATCH(TestApp::Controller::Root=HASH(0x277ca9f0), TestApp=HASH(0x278b32d0)) called at /home/eserte/var/ctps/51911/install/perl-5.19.11/lib/site_perl/5.19.11/Catalyst/Action.pm line 65
	Catalyst::Action::execute(Catalyst::Action=HASH(0x277e29a8), TestApp::Controller::Root=HASH(0x277ca9f0), TestApp=HASH(0x278b32d0)) called at /home/eserte/var/ctps/51911/install/perl-5.19.11/lib/site_perl/5.19.11/Catalyst.pm line 1734
	eval {...} called at /home/eserte/var/ctps/51911/install/perl-5.19.11/lib/site_perl/5.19.11/Catalyst.pm line 1734
	Catalyst::execute(TestApp=HASH(0x278b32d0), "TestApp::Controller::Root", Catalyst::Action=HASH(0x277e29a8)) called at /home/eserte/var/ctps/51911/install/perl-5.19.11/lib/site_perl/5.19.11/Catalyst/Action.pm line 60
	Catalyst::Action::dispatch(Catalyst::Action=HASH(0x277e29a8), TestApp=HASH(0x278b32d0)) called at /home/eserte/var/ctps/51911/install/perl-5.19.11/lib/site_perl/5.19.11/Catalyst/Dispatcher.pm line 258
	Catalyst::Dispatcher::_do_forward(Catalyst::Dispatcher=HASH(0x266ca9f0), "forward", TestApp=HASH(0x278b32d0), "/root/_DISPATCH") called at /home/eserte/var/ctps/51911/install/perl-5.19.11/lib/site_perl/5.19.11/Catalyst/Dispatcher.pm line 238
	Catalyst::Dispatcher::forward(Catalyst::Dispatcher=HASH(0x266ca9f0), TestApp=HASH(0x278b32d0), "/root/_DISPATCH") called at /home/eserte/var/ctps/51911/install/perl-5.19.11/lib/site_perl/5.19.11/Catalyst.pm line 397
	Catalyst::forward(TestApp=HASH(0x278b32d0), "/root/_DISPATCH") called at /home/eserte/var/ctps/51911/install/perl-5.19.11/lib/site_perl/5.19.11/Catalyst/Dispatcher.pm line 107
	Catalyst::Dispatcher::dispatch(Catalyst::Dispatcher=HASH(0x266ca9f0), TestApp=HASH(0x278b32d0)) called at /home/eserte/var/ctps/51911/install/perl-5.19.11/lib/site_perl/5.19.11/Catalyst.pm line 1680
	Catalyst::dispatch(TestApp=HASH(0x278b32d0)) called at /home/eserte/var/ctps/51911/install/perl-5.19.11/lib/site_perl/5.19.11/Catalyst.pm line 2015
	Catalyst::try {...} () called at /home/eserte/var/ctps/51911/install/perl-5.19.11/lib/site_perl/5.19.11/Try/Tiny.pm line 81
	eval {...} called at /home/eserte/var/ctps/51911/install/perl-5.19.11/lib/site_perl/5.19.11/Try/Tiny.pm line 72
	Try::Tiny::try(CODE(0x278b2bb8), Try::Tiny::Catch=REF(0x278b2a50)) called at /home/eserte/var/ctps/51911/install/perl-5.19.11/lib/site_perl/5.19.11/Catalyst.pm line 2024
	Catalyst::handle_request("TestApp", "env", HASH(0x27358708), "response_cb", CODE(0x278b2a80)) called at /home/eserte/var/ctps/51911/install/perl-5.19.11/lib/site_perl/5.19.11/Catalyst/Engine.pm line 797
	Catalyst::Engine::__ANON__(CODE(0x278b2a80)) called at /home/eserte/var/ctps/51911/install/perl-5.19.11/lib/site_perl/5.19.11/Plack/Middleware/HTTPExceptions.pm line 32
	Plack::Middleware::HTTPExceptions::try {...} () called at /home/eserte/var/ctps/51911/install/perl-5.19.11/lib/site_perl/5.19.11/Try/Tiny.pm line 81
	eval {...} called at /home/eserte/var/ctps/51911/install/perl-5.19.11/lib/site_perl/5.19.11/Try/Tiny.pm line 72
	Try::Tiny::try(CODE(0x278b28e8), Try::Tiny::Catch=REF(0x278adee8)) called at /home/eserte/var/ctps/51911/install/perl-5.19.11/lib/site_perl/5.19.11/Plack/Middleware/HTTPExceptions.pm line 41
	Plack::Middleware::HTTPExceptions::__ANON__(CODE(0x278b27e0)) called at /home/eserte/var/ctps/51911/install/perl-5.19.11/lib/site_perl/5.19.11/Plack/Util.pm line 301
	Plack::Util::__ANON__(CODE(0x278b26d8)) called at /home/eserte/var/ctps/51911/install/perl-5.19.11/lib/site_perl/5.19.11/Plack/Util.pm line 301
	Plack::Util::__ANON__(CODE(0x278b25d0)) called at /home/eserte/var/ctps/51911/install/perl-5.19.11/lib/site_perl/5.19.11/Plack/Util.pm line 301
	Plack::Util::__ANON__(CODE(0x278b2558)) called at /home/eserte/var/ctps/51911/install/perl-5.19.11/lib/site_perl/5.19.11/HTTP/Message/PSGI.pm line 100
	HTTP::Message::PSGI::res_from_psgi(CODE(0x278addb0)) called at /home/eserte/var/ctps/51911/install/perl-5.19.11/lib/site_perl/5.19.11/HTTP/Message/PSGI.pm line 155
	HTTP::Response::from_psgi("HTTP::Response", CODE(0x278addb0)) called at /home/eserte/var/ctps/51911/install/perl-5.19.11/lib/site_perl/5.19.11/Plack/Test/MockHTTP.pm line 24
	Plack::Test::MockHTTP::try {...} () called at /home/eserte/var/ctps/51911/install/perl-5.19.11/lib/site_perl/5.19.11/Try/Tiny.pm line 79
	eval {...} called at /home/eserte/var/ctps/51911/install/perl-5.19.11/lib/site_perl/5.19.11/Try/Tiny.pm line 72
	Try::Tiny::try(CODE(0x27500cd8), Try::Tiny::Catch=REF(0x277d6d08)) called at /home/eserte/var/ctps/51911/install/perl-5.19.11/lib/site_perl/5.19.11/Plack/Test/MockHTTP.pm line 27
	Plack::Test::MockHTTP::request(Plack::Test::MockHTTP=HASH(0x277f7840), HTTP::Request=HASH(0x277ef3c0)) called at /home/eserte/var/ctps/51911/install/perl-5.19.11/lib/site_perl/5.19.11/Plack/Test.pm line 38
	Plack::Test::__ANON__(HTTP::Request=HASH(0x277ef3c0)) called at /home/eserte/var/ctps/51911/install/perl-5.19.11/lib/site_perl/5.19.11/Catalyst/Test.pm line 281
	Catalyst::Test::__ANON__(CODE(0x277f7690)) called at /home/eserte/var/ctps/51911/install/perl-5.19.11/lib/site_perl/5.19.11/Plack/Test.pm line 38
	Plack::Test::test_psgi("app", CODE(0x277edf48), "mangle_response", CODE(0x259ebe10), "app", CODE(0x277ef8a0), "client", CODE(0x277f72a0)) called at /home/eserte/var/ctps/51911/install/perl-5.19.11/lib/site_perl/5.19.11/Catalyst/Test.pm line 284
	Catalyst::Test::_request(HASH(0x20813780), "/email?time=1399155853") called at /home/eserte/var/ctps/51911/install/perl-5.19.11/lib/site_perl/5.19.11/Catalyst/Test.pm line 327
	Catalyst::Test::_local_request("TestApp", "/email?time=1399155853") called at /home/eserte/var/ctps/51911/install/perl-5.19.11/lib/site_perl/5.19.11/Catalyst/Test.pm line 32
	Catalyst::Test::__ANON__("/email?time=1399155853") called at t/04basic.t line 14
t/04basic.t ..... ok
require TestApp::View::Mason was successful but the package is not defined. at /home/eserte/var/ctps/51911/install/perl-5.19.11/lib/site_perl/5.19.11/Catalyst/Utils.pm line 314.
Class::MOP::load_class is deprecated at /home/eserte/var/ctps/51911/install/perl-5.19.11/lib/site_perl/5.19.11/amd64-freebsd/Class/MOP.pm line 73.
	Class::MOP::load_class("Email::Sender::Transport::Test") called at /usr/home/eserte/.cpan/build/Catalyst-View-Email-0.33-qjAKB0/blib/lib/Catalyst/View/Email.pm line 226
	Catalyst::View::Email::_build_mailer_obj(TestApp::View::Email::Template=HASH(0x27c1e948)) called at accessor Catalyst::View::Email::_mailer_obj (defined at /usr/home/eserte/.cpan/build/Catalyst-View-Email-0.33-qjAKB0/blib/lib/Catalyst/View/Email.pm line 21) line 11
	Catalyst::View::Email::_mailer_obj(TestApp::View::Email::Template=HASH(0x27c1e948)) called at /usr/home/eserte/.cpan/build/Catalyst-View-Email-0.33-qjAKB0/blib/lib/Catalyst/View/Email.pm line 299
	Catalyst::View::Email::process(TestApp::View::Email::Template=HASH(0x27c1e948), TestApp=HASH(0x27cb0750)) called at /usr/home/eserte/.cpan/build/Catalyst-View-Email-0.33-qjAKB0/blib/lib/Catalyst/View/Email/Template.pm line 306
	Class::MOP::Class:::around(CODE(0x27a1c930), TestApp::View::Email::Template=HASH(0x27c1e948), TestApp=HASH(0x27cb0750)) called at /home/eserte/var/ctps/51911/install/perl-5.19.11/lib/site_perl/5.19.11/amd64-freebsd/Class/MOP/Method/Wrapped.pm line 163
	Class::MOP::Method::Wrapped::__ANON__(TestApp::View::Email::Template=HASH(0x27c1e948), TestApp=HASH(0x27cb0750)) called at /home/eserte/var/ctps/51911/install/perl-5.19.11/lib/site_perl/5.19.11/amd64-freebsd/Class/MOP/Method/Wrapped.pm line 92
	Catalyst::View::Email::Template::process(TestApp::View::Email::Template=HASH(0x27c1e948), TestApp=HASH(0x27cb0750)) called at /home/eserte/var/ctps/51911/install/perl-5.19.11/lib/site_perl/5.19.11/Catalyst/Action.pm line 65
	Catalyst::Action::execute(Catalyst::Action=HASH(0x27cb5ba0), TestApp::View::Email::Template=HASH(0x27c1e948), TestApp=HASH(0x27cb0750)) called at /home/eserte/var/ctps/51911/install/perl-5.19.11/lib/site_perl/5.19.11/Catalyst.pm line 1734
	eval {...} called at /home/eserte/var/ctps/51911/install/perl-5.19.11/lib/site_perl/5.19.11/Catalyst.pm line 1734
	Catalyst::execute(TestApp=HASH(0x27cb0750), "TestApp::View::Email::Template", Catalyst::Action=HASH(0x27cb5ba0)) called at /home/eserte/var/ctps/51911/install/perl-5.19.11/lib/site_perl/5.19.11/Catalyst/Action.pm line 60
	Catalyst::Action::dispatch(Catalyst::Action=HASH(0x27cb5ba0), TestApp=HASH(0x27cb0750)) called at /home/eserte/var/ctps/51911/install/perl-5.19.11/lib/site_perl/5.19.11/Catalyst/Dispatcher.pm line 258
	Catalyst::Dispatcher::_do_forward(Catalyst::Dispatcher=HASH(0x27654e88), "forward", TestApp=HASH(0x27cb0750), "TestApp::View::Email::Template") called at /home/eserte/var/ctps/51911/install/perl-5.19.11/lib/site_perl/5.19.11/Catalyst/Dispatcher.pm line 238
	Catalyst::Dispatcher::forward(Catalyst::Dispatcher=HASH(0x27654e88), TestApp=HASH(0x27cb0750), "TestApp::View::Email::Template") called at /home/eserte/var/ctps/51911/install/perl-5.19.11/lib/site_perl/5.19.11/Catalyst.pm line 397
	Catalyst::forward(TestApp=HASH(0x27cb0750), "TestApp::View::Email::Template") called at /usr/home/eserte/.cpan/build/Catalyst-View-Email-0.33-qjAKB0/t/lib/TestApp/Controller/Root.pm line 81
	TestApp::Controller::Root::template_email(TestApp::Controller::Root=HASH(0x27c1cdc8), TestApp=HASH(0x27cb0750)) called at /home/eserte/var/ctps/51911/install/perl-5.19.11/lib/site_perl/5.19.11/Catalyst/Action.pm line 65
	Catalyst::Action::execute(Catalyst::Action=HASH(0x27c3d918), TestApp::Controller::Root=HASH(0x27c1cdc8), TestApp=HASH(0x27cb0750)) called at /home/eserte/var/ctps/51911/install/perl-5.19.11/lib/site_perl/5.19.11/Catalyst.pm line 1734
	eval {...} called at /home/eserte/var/ctps/51911/install/perl-5.19.11/lib/site_perl/5.19.11/Catalyst.pm line 1734
	Catalyst::execute(TestApp=HASH(0x27cb0750), "TestApp::Controller::Root", Catalyst::Action=HASH(0x27c3d918)) called at /home/eserte/var/ctps/51911/install/perl-5.19.11/lib/site_perl/5.19.11/Catalyst/Action.pm line 60
	Catalyst::Action::dispatch(Catalyst::Action=HASH(0x27c3d918), TestApp=HASH(0x27cb0750)) called at /home/eserte/var/ctps/51911/install/perl-5.19.11/lib/site_perl/5.19.11/Catalyst/Controller.pm line 161
	Catalyst::Controller::_ACTION(TestApp::Controller::Root=HASH(0x27c1cdc8), TestApp=HASH(0x27cb0750)) called at /home/eserte/var/ctps/51911/install/perl-5.19.11/lib/site_perl/5.19.11/Catalyst/Action.pm line 65
	Catalyst::Action::execute(Catalyst::Action=HASH(0x27c39f18), TestApp::Controller::Root=HASH(0x27c1cdc8), TestApp=HASH(0x27cb0750)) called at /home/eserte/var/ctps/51911/install/perl-5.19.11/lib/site_perl/5.19.11/Catalyst.pm line 1734
	eval {...} called at /home/eserte/var/ctps/51911/install/perl-5.19.11/lib/site_perl/5.19.11/Catalyst.pm line 1734
	Catalyst::execute(TestApp=HASH(0x27cb0750), "TestApp::Controller::Root", Catalyst::Action=HASH(0x27c39f18)) called at /home/eserte/var/ctps/51911/install/perl-5.19.11/lib/site_perl/5.19.11/Catalyst/Action.pm line 60
	Catalyst::Action::dispatch(Catalyst::Action=HASH(0x27c39f18), TestApp=HASH(0x27cb0750)) called at /home/eserte/var/ctps/51911/install/perl-5.19.11/lib/site_perl/5.19.11/Catalyst/Dispatcher.pm line 258
	Catalyst::Dispatcher::_do_forward(Catalyst::Dispatcher=HASH(0x27654e88), "forward", TestApp=HASH(0x27cb0750), "_ACTION") called at /home/eserte/var/ctps/51911/install/perl-5.19.11/lib/site_perl/5.19.11/Catalyst/Dispatcher.pm line 238
	Catalyst::Dispatcher::forward(Catalyst::Dispatcher=HASH(0x27654e88), TestApp=HASH(0x27cb0750), "_ACTION") called at /home/eserte/var/ctps/51911/install/perl-5.19.11/lib/site_perl/5.19.11/Catalyst.pm line 397
	Catalyst::forward(TestApp=HASH(0x27cb0750), "_ACTION") called at /home/eserte/var/ctps/51911/install/perl-5.19.11/lib/site_perl/5.19.11/Catalyst/Controller.pm line 135
	Catalyst::Controller::_DISPATCH(TestApp::Controller::Root=HASH(0x27c1cdc8), TestApp=HASH(0x27cb0750)) called at /home/eserte/var/ctps/51911/install/perl-5.19.11/lib/site_perl/5.19.11/Catalyst/Action.pm line 65
	Catalyst::Action::execute(Catalyst::Action=HASH(0x27c36dc8), TestApp::Controller::Root=HASH(0x27c1cdc8), TestApp=HASH(0x27cb0750)) called at /home/eserte/var/ctps/51911/install/perl-5.19.11/lib/site_perl/5.19.11/Catalyst.pm line 1734
	eval {...} called at /home/eserte/var/ctps/51911/install/perl-5.19.11/lib/site_perl/5.19.11/Catalyst.pm line 1734
	Catalyst::execute(TestApp=HASH(0x27cb0750), "TestApp::Controller::Root", Catalyst::Action=HASH(0x27c36dc8)) called at /home/eserte/var/ctps/51911/install/perl-5.19.11/lib/site_perl/5.19.11/Catalyst/Action.pm line 60
	Catalyst::Action::dispatch(Catalyst::Action=HASH(0x27c36dc8), TestApp=HASH(0x27cb0750)) called at /home/eserte/var/ctps/51911/install/perl-5.19.11/lib/site_perl/5.19.11/Catalyst/Dispatcher.pm line 258
	Catalyst::Dispatcher::_do_forward(Catalyst::Dispatcher=HASH(0x27654e88), "forward", TestApp=HASH(0x27cb0750), "/root/_DISPATCH") called at /home/eserte/var/ctps/51911/install/perl-5.19.11/lib/site_perl/5.19.11/Catalyst/Dispatcher.pm line 238
	Catalyst::Dispatcher::forward(Catalyst::Dispatcher=HASH(0x27654e88), TestApp=HASH(0x27cb0750), "/root/_DISPATCH") called at /home/eserte/var/ctps/51911/install/perl-5.19.11/lib/site_perl/5.19.11/Catalyst.pm line 397
	Catalyst::forward(TestApp=HASH(0x27cb0750), "/root/_DISPATCH") called at /home/eserte/var/ctps/51911/install/perl-5.19.11/lib/site_perl/5.19.11/Catalyst/Dispatcher.pm line 107
	Catalyst::Dispatcher::dispatch(Catalyst::Dispatcher=HASH(0x27654e88), TestApp=HASH(0x27cb0750)) called at /home/eserte/var/ctps/51911/install/perl-5.19.11/lib/site_perl/5.19.11/Catalyst.pm line 1680
	Catalyst::dispatch(TestApp=HASH(0x27cb0750)) called at /home/eserte/var/ctps/51911/install/perl-5.19.11/lib/site_perl/5.19.11/Catalyst.pm line 2015
	Catalyst::try {...} () called at /home/eserte/var/ctps/51911/install/perl-5.19.11/lib/site_perl/5.19.11/Try/Tiny.pm line 81
	eval {...} called at /home/eserte/var/ctps/51911/install/perl-5.19.11/lib/site_perl/5.19.11/Try/Tiny.pm line 72
	Try::Tiny::try(CODE(0x27cb0060), Try::Tiny::Catch=REF(0x27caeed0)) called at /home/eserte/var/ctps/51911/install/perl-5.19.11/lib/site_perl/5.19.11/Catalyst.pm line 2024
	Catalyst::handle_request("TestApp", "env", HASH(0x27a3b738), "response_cb", CODE(0x27caef00)) called at /home/eserte/var/ctps/51911/install/perl-5.19.11/lib/site_perl/5.19.11/Catalyst/Engine.pm line 797
	Catalyst::Engine::__ANON__(CODE(0x27caef00)) called at /home/eserte/var/ctps/51911/install/perl-5.19.11/lib/site_perl/5.19.11/Plack/Middleware/HTTPExceptions.pm line 32
	Plack::Middleware::HTTPExceptions::try {...} () called at /home/eserte/var/ctps/51911/install/perl-5.19.11/lib/site_perl/5.19.11/Try/Tiny.pm line 81
	eval {...} called at /home/eserte/var/ctps/51911/install/perl-5.19.11/lib/site_perl/5.19.11/Try/Tiny.pm line 72
	Try::Tiny::try(CODE(0x27caed68), Try::Tiny::Catch=REF(0x27cae390)) called at /home/eserte/var/ctps/51911/install/perl-5.19.11/lib/site_perl/5.19.11/Plack/Middleware/HTTPExceptions.pm line 41
	Plack::Middleware::HTTPExceptions::__ANON__(CODE(0x27caec60)) called at /home/eserte/var/ctps/51911/install/perl-5.19.11/lib/site_perl/5.19.11/Plack/Util.pm line 301
	Plack::Util::__ANON__(CODE(0x27caeb58)) called at /home/eserte/var/ctps/51911/install/perl-5.19.11/lib/site_perl/5.19.11/Plack/Util.pm line 301
	Plack::Util::__ANON__(CODE(0x27caea50)) called at /home/eserte/var/ctps/51911/install/perl-5.19.11/lib/site_perl/5.19.11/Plack/Util.pm line 301
	Plack::Util::__ANON__(CODE(0x27cae9d8)) called at /home/eserte/var/ctps/51911/install/perl-5.19.11/lib/site_perl/5.19.11/HTTP/Message/PSGI.pm line 100
	HTTP::Message::PSGI::res_from_psgi(CODE(0x27cae258)) called at /home/eserte/var/ctps/51911/install/perl-5.19.11/lib/site_perl/5.19.11/HTTP/Message/PSGI.pm line 155
	HTTP::Response::from_psgi("HTTP::Response", CODE(0x27cae258)) called at /home/eserte/var/ctps/51911/install/perl-5.19.11/lib/site_perl/5.19.11/Plack/Test/MockHTTP.pm line 24
	Plack::Test::MockHTTP::try {...} () called at /home/eserte/var/ctps/51911/install/perl-5.19.11/lib/site_perl/5.19.11/Try/Tiny.pm line 79
	eval {...} called at /home/eserte/var/ctps/51911/install/perl-5.19.11/lib/site_perl/5.19.11/Try/Tiny.pm line 72
	Try::Tiny::try(CODE(0x27a2f1f8), Try::Tiny::Catch=REF(0x27c300c0)) called at /home/eserte/var/ctps/51911/install/perl-5.19.11/lib/site_perl/5.19.11/Plack/Test/MockHTTP.pm line 27
	Plack::Test::MockHTTP::request(Plack::Test::MockHTTP=HASH(0x27c8cc30), HTTP::Request=HASH(0x27c41798)) called at /home/eserte/var/ctps/51911/install/perl-5.19.11/lib/site_perl/5.19.11/Plack/Test.pm line 38
	Plack::Test::__ANON__(HTTP::Request=HASH(0x27c41798)) called at /home/eserte/var/ctps/51911/install/perl-5.19.11/lib/site_perl/5.19.11/Catalyst/Test.pm line 281
	Catalyst::Test::__ANON__(CODE(0x27c8ca80)) called at /home/eserte/var/ctps/51911/install/perl-5.19.11/lib/site_perl/5.19.11/Plack/Test.pm line 38
	Plack::Test::test_psgi("app", CODE(0x27c41348), "mangle_response", CODE(0x2612cb40), "app", CODE(0x27c41c78), "client", CODE(0x27c8c690)) called at /home/eserte/var/ctps/51911/install/perl-5.19.11/lib/site_perl/5.19.11/Catalyst/Test.pm line 284
	Catalyst::Test::_request(HASH(0x20813780), "/template_email?time=1399155858") called at /home/eserte/var/ctps/51911/install/perl-5.19.11/lib/site_perl/5.19.11/Catalyst/Test.pm line 327
	Catalyst::Test::_local_request("TestApp", "/template_email?time=1399155858") called at /home/eserte/var/ctps/51911/install/perl-5.19.11/lib/site_perl/5.19.11/Catalyst/Test.pm line 32
	Catalyst::Test::__ANON__("/template_email?time=1399155858") called at t/05template.t line 18
t/05template.t .. ok
require TestApp::View::Mason was successful but the package is not defined. at /home/eserte/var/ctps/51911/install/perl-5.19.11/lib/site_perl/5.19.11/Catalyst/Utils.pm line 314.
Class::MOP::load_class is deprecated at /home/eserte/var/ctps/51911/install/perl-5.19.11/lib/site_perl/5.19.11/amd64-freebsd/Class/MOP.pm line 73.
	Class::MOP::load_class("Email::Sender::Transport::Test") called at /usr/home/eserte/.cpan/build/Catalyst-View-Email-0.33-qjAKB0/blib/lib/Catalyst/View/Email.pm line 226
	Catalyst::View::Email::_build_mailer_obj(TestApp::View::Email::AppConfig=HASH(0x2801f708)) called at accessor Catalyst::View::Email::_mailer_obj (defined at /usr/home/eserte/.cpan/build/Catalyst-View-Email-0.33-qjAKB0/blib/lib/Catalyst/View/Email.pm line 21) line 11
	Catalyst::View::Email::_mailer_obj(TestApp::View::Email::AppConfig=HASH(0x2801f708)) called at /usr/home/eserte/.cpan/build/Catalyst-View-Email-0.33-qjAKB0/blib/lib/Catalyst/View/Email.pm line 299
	Catalyst::View::Email::process(TestApp::View::Email::AppConfig=HASH(0x2801f708), TestApp=HASH(0x280af4b0)) called at /home/eserte/var/ctps/51911/install/perl-5.19.11/lib/site_perl/5.19.11/Catalyst/Action.pm line 65
	Catalyst::Action::execute(Catalyst::Action=HASH(0x280b67e0), TestApp::View::Email::AppConfig=HASH(0x2801f708), TestApp=HASH(0x280af4b0)) called at /home/eserte/var/ctps/51911/install/perl-5.19.11/lib/site_perl/5.19.11/Catalyst.pm line 1734
	eval {...} called at /home/eserte/var/ctps/51911/install/perl-5.19.11/lib/site_perl/5.19.11/Catalyst.pm line 1734
	Catalyst::execute(TestApp=HASH(0x280af4b0), "TestApp::View::Email::AppConfig", Catalyst::Action=HASH(0x280b67e0)) called at /home/eserte/var/ctps/51911/install/perl-5.19.11/lib/site_perl/5.19.11/Catalyst/Action.pm line 60
	Catalyst::Action::dispatch(Catalyst::Action=HASH(0x280b67e0), TestApp=HASH(0x280af4b0)) called at /home/eserte/var/ctps/51911/install/perl-5.19.11/lib/site_perl/5.19.11/Catalyst/Dispatcher.pm line 258
	Catalyst::Dispatcher::_do_forward(Catalyst::Dispatcher=HASH(0x27a630d8), "forward", TestApp=HASH(0x280af4b0), "TestApp::View::Email::AppConfig") called at /home/eserte/var/ctps/51911/install/perl-5.19.11/lib/site_perl/5.19.11/Catalyst/Dispatcher.pm line 238
	Catalyst::Dispatcher::forward(Catalyst::Dispatcher=HASH(0x27a630d8), TestApp=HASH(0x280af4b0), "TestApp::View::Email::AppConfig") called at /home/eserte/var/ctps/51911/install/perl-5.19.11/lib/site_perl/5.19.11/Catalyst.pm line 397
	Catalyst::forward(TestApp=HASH(0x280af4b0), "TestApp::View::Email::AppConfig") called at /usr/home/eserte/.cpan/build/Catalyst-View-Email-0.33-qjAKB0/t/lib/TestApp/Controller/Root.pm line 48
	TestApp::Controller::Root::email_app_config(TestApp::Controller::Root=HASH(0x2801e810), TestApp=HASH(0x280af4b0)) called at /home/eserte/var/ctps/51911/install/perl-5.19.11/lib/site_perl/5.19.11/Catalyst/Action.pm line 65
	Catalyst::Action::execute(Catalyst::Action=HASH(0x2803abb8), TestApp::Controller::Root=HASH(0x2801e810), TestApp=HASH(0x280af4b0)) called at /home/eserte/var/ctps/51911/install/perl-5.19.11/lib/site_perl/5.19.11/Catalyst.pm line 1734
	eval {...} called at /home/eserte/var/ctps/51911/install/perl-5.19.11/lib/site_perl/5.19.11/Catalyst.pm line 1734
	Catalyst::execute(TestApp=HASH(0x280af4b0), "TestApp::Controller::Root", Catalyst::Action=HASH(0x2803abb8)) called at /home/eserte/var/ctps/51911/install/perl-5.19.11/lib/site_perl/5.19.11/Catalyst/Action.pm line 60
	Catalyst::Action::dispatch(Catalyst::Action=HASH(0x2803abb8), TestApp=HASH(0x280af4b0)) called at /home/eserte/var/ctps/51911/install/perl-5.19.11/lib/site_perl/5.19.11/Catalyst/Controller.pm line 161
	Catalyst::Controller::_ACTION(TestApp::Controller::Root=HASH(0x2801e810), TestApp=HASH(0x280af4b0)) called at /home/eserte/var/ctps/51911/install/perl-5.19.11/lib/site_perl/5.19.11/Catalyst/Action.pm line 65
	Catalyst::Action::execute(Catalyst::Action=HASH(0x2803a420), TestApp::Controller::Root=HASH(0x2801e810), TestApp=HASH(0x280af4b0)) called at /home/eserte/var/ctps/51911/install/perl-5.19.11/lib/site_perl/5.19.11/Catalyst.pm line 1734
	eval {...} called at /home/eserte/var/ctps/51911/install/perl-5.19.11/lib/site_perl/5.19.11/Catalyst.pm line 1734
	Catalyst::execute(TestApp=HASH(0x280af4b0), "TestApp::Controller::Root", Catalyst::Action=HASH(0x2803a420)) called at /home/eserte/var/ctps/51911/install/perl-5.19.11/lib/site_perl/5.19.11/Catalyst/Action.pm line 60
	Catalyst::Action::dispatch(Catalyst::Action=HASH(0x2803a420), TestApp=HASH(0x280af4b0)) called at /home/eserte/var/ctps/51911/install/perl-5.19.11/lib/site_perl/5.19.11/Catalyst/Dispatcher.pm line 258
	Catalyst::Dispatcher::_do_forward(Catalyst::Dispatcher=HASH(0x27a630d8), "forward", TestApp=HASH(0x280af4b0), "_ACTION") called at /home/eserte/var/ctps/51911/install/perl-5.19.11/lib/site_perl/5.19.11/Catalyst/Dispatcher.pm line 238
	Catalyst::Dispatcher::forward(Catalyst::Dispatcher=HASH(0x27a630d8), TestApp=HASH(0x280af4b0), "_ACTION") called at /home/eserte/var/ctps/51911/install/perl-5.19.11/lib/site_perl/5.19.11/Catalyst.pm line 397
	Catalyst::forward(TestApp=HASH(0x280af4b0), "_ACTION") called at /home/eserte/var/ctps/51911/install/perl-5.19.11/lib/site_perl/5.19.11/Catalyst/Controller.pm line 135
	Catalyst::Controller::_DISPATCH(TestApp::Controller::Root=HASH(0x2801e810), TestApp=HASH(0x280af4b0)) called at /home/eserte/var/ctps/51911/install/perl-5.19.11/lib/site_perl/5.19.11/Catalyst/Action.pm line 65
	Catalyst::Action::execute(Catalyst::Action=HASH(0x280376d8), TestApp::Controller::Root=HASH(0x2801e810), TestApp=HASH(0x280af4b0)) called at /home/eserte/var/ctps/51911/install/perl-5.19.11/lib/site_perl/5.19.11/Catalyst.pm line 1734
	eval {...} called at /home/eserte/var/ctps/51911/install/perl-5.19.11/lib/site_perl/5.19.11/Catalyst.pm line 1734
	Catalyst::execute(TestApp=HASH(0x280af4b0), "TestApp::Controller::Root", Catalyst::Action=HASH(0x280376d8)) called at /home/eserte/var/ctps/51911/install/perl-5.19.11/lib/site_perl/5.19.11/Catalyst/Action.pm line 60
	Catalyst::Action::dispatch(Catalyst::Action=HASH(0x280376d8), TestApp=HASH(0x280af4b0)) called at /home/eserte/var/ctps/51911/install/perl-5.19.11/lib/site_perl/5.19.11/Catalyst/Dispatcher.pm line 258
	Catalyst::Dispatcher::_do_forward(Catalyst::Dispatcher=HASH(0x27a630d8), "forward", TestApp=HASH(0x280af4b0), "/root/_DISPATCH") called at /home/eserte/var/ctps/51911/install/perl-5.19.11/lib/site_perl/5.19.11/Catalyst/Dispatcher.pm line 238
	Catalyst::Dispatcher::forward(Catalyst::Dispatcher=HASH(0x27a630d8), TestApp=HASH(0x280af4b0), "/root/_DISPATCH") called at /home/eserte/var/ctps/51911/install/perl-5.19.11/lib/site_perl/5.19.11/Catalyst.pm line 397
	Catalyst::forward(TestApp=HASH(0x280af4b0), "/root/_DISPATCH") called at /home/eserte/var/ctps/51911/install/perl-5.19.11/lib/site_perl/5.19.11/Catalyst/Dispatcher.pm line 107
	Catalyst::Dispatcher::dispatch(Catalyst::Dispatcher=HASH(0x27a630d8), TestApp=HASH(0x280af4b0)) called at /home/eserte/var/ctps/51911/install/perl-5.19.11/lib/site_perl/5.19.11/Catalyst.pm line 1680
	Catalyst::dispatch(TestApp=HASH(0x280af4b0)) called at /home/eserte/var/ctps/51911/install/perl-5.19.11/lib/site_perl/5.19.11/Catalyst.pm line 2015
	Catalyst::try {...} () called at /home/eserte/var/ctps/51911/install/perl-5.19.11/lib/site_perl/5.19.11/Try/Tiny.pm line 81
	eval {...} called at /home/eserte/var/ctps/51911/install/perl-5.19.11/lib/site_perl/5.19.11/Try/Tiny.pm line 72
	Try::Tiny::try(CODE(0x280aed98), Try::Tiny::Catch=REF(0x280aec30)) called at /home/eserte/var/ctps/51911/install/perl-5.19.11/lib/site_perl/5.19.11/Catalyst.pm line 2024
	Catalyst::handle_request("TestApp", "env", HASH(0x27e94c18), "response_cb", CODE(0x280aec60)) called at /home/eserte/var/ctps/51911/install/perl-5.19.11/lib/site_perl/5.19.11/Catalyst/Engine.pm line 797
	Catalyst::Engine::__ANON__(CODE(0x280aec60)) called at /home/eserte/var/ctps/51911/install/perl-5.19.11/lib/site_perl/5.19.11/Plack/Middleware/HTTPExceptions.pm line 32
	Plack::Middleware::HTTPExceptions::try {...} () called at /home/eserte/var/ctps/51911/install/perl-5.19.11/lib/site_perl/5.19.11/Try/Tiny.pm line 81
	eval {...} called at /home/eserte/var/ctps/51911/install/perl-5.19.11/lib/site_perl/5.19.11/Try/Tiny.pm line 72
	Try::Tiny::try(CODE(0x280aeac8), Try::Tiny::Catch=REF(0x280ae0f0)) called at /home/eserte/var/ctps/51911/install/perl-5.19.11/lib/site_perl/5.19.11/Plack/Middleware/HTTPExceptions.pm line 41
	Plack::Middleware::HTTPExceptions::__ANON__(CODE(0x280ae9c0)) called at /home/eserte/var/ctps/51911/install/perl-5.19.11/lib/site_perl/5.19.11/Plack/Util.pm line 301
	Plack::Util::__ANON__(CODE(0x280ae8b8)) called at /home/eserte/var/ctps/51911/install/perl-5.19.11/lib/site_perl/5.19.11/Plack/Util.pm line 301
	Plack::Util::__ANON__(CODE(0x280ae7b0)) called at /home/eserte/var/ctps/51911/install/perl-5.19.11/lib/site_perl/5.19.11/Plack/Util.pm line 301
	Plack::Util::__ANON__(CODE(0x280ae738)) called at /home/eserte/var/ctps/51911/install/perl-5.19.11/lib/site_perl/5.19.11/HTTP/Message/PSGI.pm line 100
	HTTP::Message::PSGI::res_from_psgi(CODE(0x280a9f90)) called at /home/eserte/var/ctps/51911/install/perl-5.19.11/lib/site_perl/5.19.11/HTTP/Message/PSGI.pm line 155
	HTTP::Response::from_psgi("HTTP::Response", CODE(0x280a9f90)) called at /home/eserte/var/ctps/51911/install/perl-5.19.11/lib/site_perl/5.19.11/Plack/Test/MockHTTP.pm line 24
	Plack::Test::MockHTTP::try {...} () called at /home/eserte/var/ctps/51911/install/perl-5.19.11/lib/site_perl/5.19.11/Try/Tiny.pm line 79
	eval {...} called at /home/eserte/var/ctps/51911/install/perl-5.19.11/lib/site_perl/5.19.11/Try/Tiny.pm line 72
	Try::Tiny::try(CODE(0x27e9a4e0), Try::Tiny::Catch=REF(0x2802be10)) called at /home/eserte/var/ctps/51911/install/perl-5.19.11/lib/site_perl/5.19.11/Plack/Test/MockHTTP.pm line 27
	Plack::Test::MockHTTP::request(Plack::Test::MockHTTP=HASH(0x2808e990), HTTP::Request=HASH(0x280424f8)) called at /home/eserte/var/ctps/51911/install/perl-5.19.11/lib/site_perl/5.19.11/Plack/Test.pm line 38
	Plack::Test::__ANON__(HTTP::Request=HASH(0x280424f8)) called at /home/eserte/var/ctps/51911/install/perl-5.19.11/lib/site_perl/5.19.11/Catalyst/Test.pm line 281
	Catalyst::Test::__ANON__(CODE(0x2808e7f8)) called at /home/eserte/var/ctps/51911/install/perl-5.19.11/lib/site_perl/5.19.11/Plack/Test.pm line 38
	Plack::Test::test_psgi("mangle_response", CODE(0x2652e888), "app", CODE(0x280420a8), "app", CODE(0x280429d8), "client", CODE(0x2808e3f0)) called at /home/eserte/var/ctps/51911/install/perl-5.19.11/lib/site_perl/5.19.11/Catalyst/Test.pm line 284
	Catalyst::Test::_request(HASH(0x20813780), "/email_app_config?time=1399155862") called at /home/eserte/var/ctps/51911/install/perl-5.19.11/lib/site_perl/5.19.11/Catalyst/Test.pm line 327
	Catalyst::Test::_local_request("TestApp", "/email_app_config?time=1399155862") called at /home/eserte/var/ctps/51911/install/perl-5.19.11/lib/site_perl/5.19.11/Catalyst/Test.pm line 32
	Catalyst::Test::__ANON__("/email_app_config?time=1399155862") called at t/06config.t line 21
t/06config.t .... ok
t/07mason.t ..... skipped: Test requires module 'Catalyst::View::Mason' but it's not found
All tests successful.
Files=6, Tests=34, 21 wallclock secs ( 0.03 usr  0.05 sys +  7.14 cusr  0.88 csys =  8.11 CPU)
Result: PASS

------------------------------
PREREQUISITES
------------------------------

Prerequisite modules loaded:

requires:

    Module                Need     Have    
    --------------------- -------- --------
    Authen::SASL          2.13     2.16    
    Catalyst              5.7      5.90062 
    Email::MIME           1.859    1.926   
    Email::MIME::Creator  1.455    1.926   
    Email::Sender::Simple 0.100110 1.300011
    MIME::Base64          3.08     3.14    
    Moose                 0.93     2.1205  
    parent                0.223    0.228   
    Test::More            0.88     1.001003
    Test::Requires        0        0.07    

build_requires:

    Module                Need     Have    
    --------------------- -------- --------
    ExtUtils::MakeMaker   6.36     6.96    
    Test::More            0        1.001003
    Test::Requires        0        0.07    

configure_requires:

    Module                Need     Have    
    --------------------- -------- --------
    ExtUtils::MakeMaker   6.36     6.96    


------------------------------
ENVIRONMENT AND OTHER CONTEXT
------------------------------

Environment variables:

    DBIC_NO_WARN_BAD_PERL = 1
    PATH = /usr/local/bin:/usr/bin:/bin:/usr/local/sbin:/usr/sbin:/sbin:/home/eserte/bin/freebsd9.1:/home/eserte/bin/sh:/home/eserte/bin:/usr/games:/home/eserte/devel:/usr/home/eserte/src/cpan-testers-parallelsmoker/utils
    PERL5LIB = 
    PERL5OPT = 
    PERL5_CPANPLUS_IS_RUNNING = 65162
    PERL5_CPAN_IS_RUNNING = 65162
    PERL5_CPAN_IS_RUNNING_IN_RECURSION = 55420,65162
    PERLDOC = -MPod::Perldoc::ToTextOverstrike
    PERL_BATCH = yes
    PERL_CPAN_REPORTER_DIR = /home/eserte/var/ctps/51911/config/perl-5.19.11/cpanreporter
    PERL_EXTUTILS_AUTOINSTALL = --defaultdeps
    PERL_HTML_DISPLAY_CLASS = HTML::Display::Mozilla
    PERL_PARALLEL_SMOKER = yes
    PERL_TEST_UNPATCHED = 1
    PERL_TEST_UNPATCHED = 1
    SHELL = /usr/local/bin/zsh
    TERM = xterm
    TMPDIR = /var/tmp/cpansmoker-1000

Perl special variables (and OS-specific diagnostics, for MSWin32):

    $^X = /usr/home/eserte/var/ctps/51911/install/perl-5.19.11/bin/perl5.19.11
    $UID/$EUID = 1000 / 1000
    $GID = 1000 1000 0 5
    $EGID = 1000 1000 0 5

Perl module toolchain versions installed:

    Module              Have    
    ------------------- --------
    CPAN                2.05    
    CPAN::Meta          2.141170
    Cwd                 3.47    
    ExtUtils::CBuilder  0.280216
    ExtUtils::Command   1.18    
    ExtUtils::Install   1.67    
    ExtUtils::MakeMaker 6.96    
    ExtUtils::Manifest  1.63    
    ExtUtils::ParseXS   3.24    
    File::Spec          3.47    
    JSON                2.90    
    JSON::PP            2.27203 
    Module::Build       0.4205  
    Module::Signature   0.73    
    Parse::CPAN::Meta   1.4414  
    Test::Harness       3.30    
    Test::More          1.001003
    YAML                0.90    
    YAML::Syck          1.27    
    version             0.9908  


--

Summary of my perl5 (revision 5 version 19 subversion 11) configuration:
   
  Platform:
    osname=freebsd, osvers=9.2-release, archname=amd64-freebsd
    uname='freebsd cvrsnica-freebsd-92-ctps-51911.herceg.de 9.2-release freebsd 9.2-release #0 r255898: thu sep 26 22:50:31 utc 2013 root@bake.isc.freebsd.org:usrobjusrsrcsysgeneric amd64 '
    config_args='-ds -e -Uversiononly -Dinstallusrbinperl=n -Dusedevel -Dprefix=/home/eserte/var/ctps/51911/install/perl-5.19.11'
    hint=recommended, useposix=true, d_sigaction=define
    useithreads=undef, usemultiplicity=undef
    use64bitint=define, use64bitall=define, uselongdouble=undef
    usemymalloc=n, bincompat5005=undef
  Compiler:
    cc='cc', ccflags ='-DHAS_FPSETMASK -DHAS_FLOATINGPOINT_H -fno-strict-aliasing -pipe -fstack-protector -I/usr/local/include',
    optimize='-O',
    cppflags='-DHAS_FPSETMASK -DHAS_FLOATINGPOINT_H -fno-strict-aliasing -pipe -fstack-protector -I/usr/local/include'
    ccversion='', gccversion='4.2.1 20070831 patched [FreeBSD]', gccosandvers=''
    intsize=4, longsize=8, ptrsize=8, doublesize=8, byteorder=12345678
    d_longlong=define, longlongsize=8, d_longdbl=define, longdblsize=16
    ivtype='long', ivsize=8, nvtype='double', nvsize=8, Off_t='off_t', lseeksize=8
    alignbytes=8, prototype=define
  Linker and Libraries:
    ld='cc', ldflags ='-Wl,-E  -fstack-protector -L/usr/local/lib'
    libpth=/usr/lib /usr/local/lib /usr/include/gcc/4.2 /usr/lib
    libs=-lgdbm -lm -lcrypt -lutil -lc
    perllibs=-lm -lcrypt -lutil -lc
    libc=, so=so, useshrplib=false, libperl=libperl.a
    gnulibc_version=''
  Dynamic Linking:
    dlsrc=dl_dlopen.xs, dlext=so, d_dlsymun=undef, ccdlflags=' '
    cccdlflags='-DPIC -fPIC', lddlflags='-shared  -L/usr/local/lib -fstack-protector'


Characteristics of this binary (from libperl): 
  Compile-time options: HAS_TIMES PERLIO_LAYERS PERL_DONT_CREATE_GVSV
                        PERL_HASH_FUNC_ONE_AT_A_TIME_HARD PERL_MALLOC_WRAP
                        PERL_NEW_COPY_ON_WRITE PERL_PRESERVE_IVUV
                        PERL_USE_DEVEL USE_64_BIT_ALL USE_64_BIT_INT
                        USE_LARGE_FILES USE_LOCALE USE_LOCALE_COLLATE
                        USE_LOCALE_CTYPE USE_LOCALE_NUMERIC USE_PERLIO
                        USE_PERL_ATOF
  Built under freebsd
  Compiled at Apr 25 2014 08:05:33
  %ENV:
    PERL5LIB=""
    PERL5OPT=""
    PERL5_CPANPLUS_IS_RUNNING="65162"
    PERL5_CPAN_IS_RUNNING="65162"
    PERL5_CPAN_IS_RUNNING_IN_RECURSION="55420,65162"
    PERLDOC="-MPod::Perldoc::ToTextOverstrike"
    PERL_BATCH="yes"
    PERL_CPAN_REPORTER_DIR="/home/eserte/var/ctps/51911/config/perl-5.19.11/cpanreporter"
    PERL_EXTUTILS_AUTOINSTALL="--defaultdeps"
    PERL_HTML_DISPLAY_CLASS="HTML::Display::Mozilla"
    PERL_PARALLEL_SMOKER="yes"
    PERL_TEST_UNPATCHED="1"
  @INC:
    /home/eserte/var/ctps/51911/install/perl-5.19.11/lib/site_perl/5.19.11/amd64-freebsd
    /home/eserte/var/ctps/51911/install/perl-5.19.11/lib/site_perl/5.19.11
    /home/eserte/var/ctps/51911/install/perl-5.19.11/lib/5.19.11/amd64-freebsd
    /home/eserte/var/ctps/51911/install/perl-5.19.11/lib/5.19.11
    .