Report for LWP-Protocol-Coro-http-v1.8.0

Back
From: metabase:user:838e5b0a-2bb6-1016-a696-43a2537fa0c6
Subject: PASS LWP-Protocol-Coro-http-v1.8.0 v5.16.2 
Date: 2013-08-06T16:26:07Z

This distribution has been tested as part of the CPAN Testers
project, supporting the Perl programming language.  See
http://wiki.cpantesters.org/ for more information or email
questions to cpan-testers-discuss@perl.org


--
Dear ikegami,

This is a computer-generated report for LWP-Protocol-Coro-http-v1.8.0
on perl 5.16.2, created by CPAN-Reporter-1.2007.

Thank you for uploading your work to CPAN.  Congratulations!
All tests were successful.

Sections of this report:

    * Tester comments
    * Program output
    * Prerequisites
    * Environment and other context

------------------------------
TESTER COMMENTS
------------------------------

Additional comments from tester:

this report is from an automated smoke testing program
and was not reviewed by a human for accuracy

------------------------------
PROGRAM OUTPUT
------------------------------

Output from 'C:\Users\solimanod\Desktop\strawberry-perl-5.16.2.1-64bit-portable\perl\bin\perl.exe ./Build test':

# Testing LWP::Protocol::Coro::http v1.8.0, Perl 5.016002
# AnyEvent 7.04
# AnyEvent::HTTP 2.15
# AnyEvent::Handle 7.04
# AnyEvent::Util 7.04
# CPAN::Meta::YAML 0.008
# Carp 1.26
# Config <unknown>
# Coro 6.31
# Coro::Channel 6.31
# Coro::Semaphore 6.31
# Coro::State 6.31
# DynaLoader 1.14
# Errno 1.15
# Exporter 5.67
# Exporter::Heavy 5.67
# Fcntl 1.11
# File::HomeDir::Driver 1.00
# File::Spec 3.39_02
# File::Spec::Unix 3.39_02
# File::Spec::Win32 3.39_02
# Guard 1.022
# HTTP::Headers 6.05
# HTTP::Message 6.06
# HTTP::Response 6.04
# HTTP::Status 6.03
# IO 1.25_06
# IO::Handle 1.33
# IO::Socket 1.34
# IO::Socket::INET 1.33
# IO::Socket::UNIX 1.24
# LWP::MemberMixin <unknown>
# LWP::Protocol 6.00
# LWP::Protocol::Coro::http v1.8.0
# LWP::Protocol::http <unknown>
# List::Util 1.25
# Net::HTTP 6.05
# Net::HTTP::Methods 6.05
# Parse::CPAN::Meta 1.4404
# PerlIO 1.07
# Portable 1.17
# Portable::CPAN 1.17
# Portable::Config 1.17
# Portable::HomeDir 1.17
# Portable::minicpan 1.17
# Scalar::Util 1.25
# SelectSaver 1.02
# Socket 2.006
# Storable 2.39
# Symbol 1.07
# Test::Builder 0.98
# Test::Builder::Module 0.98
# Test::More 0.98
# Time::HiRes 1.9725
# URI 1.60
# URI::Escape 3.31
# XSLoader 0.16
# base 2.18
# common::sense 3.6
# overload 1.18
# overloading 0.02
# strict 1.07
# utf8 1.09
# vars 1.02
# version 0.9901
# version::vxs 0.9901
# warnings 1.13
# warnings::register 1.02
t\00_load.t .................. ok
# Retrieving URL: http://localhost:51979/
# Waiting for reply
# Waiting for reply
# Waiting for reply
# Waiting for reply
# Waiting for reply
# Shutting down server
# Done
t\01_timer.t ................. ok
# Retrieving URL: http://localhost:52048/chunks
# Waiting for reply
# Got chunk
# Waiting for reply
# Got chunk
# Waiting for reply
# Got chunk
# Waiting for reply
# Got chunk
# Waiting for reply
# Got chunk
# Waiting for reply
# Shutting down server
# Done
t\02_large.t ................. ok
# Retrieving URL: http://localhost:52127/error/after_headers
# Waiting for reply
# Got chunk
# Waiting for reply
# Got chunk
# Waiting for reply
# Shutting down server
# Done
t\03_error_after_headers.t ... ok
# Retrieving URL: http://localhost:52188/error/notfound/foo
# Waiting for reply
# Waiting for reply
# Shutting down server
# Done
t\04_error_404.t ............. ok
# Retrieving URL: http://doesnotexist.example
t\05_error_500_bogus_host.t .. ok
# Retrieving URL: http://localhost:52241/referer
# Waiting for reply
# Waiting for reply
# Shutting down server
# Done
t\06_referer.t ............... ok
# Retrieving URL: http://localhost:52281/
# Waiting for reply
# Shutting down server
# Done
t\07_proxy.t ................. ok
# Retrieving URL: http://localhost:52340/multiline_header
# Waiting for reply
# Shutting down server
# Done
t\08_multiline_header.t ...... ok
All tests successful.
Files=9, Tests=28, 50 wallclock secs ( 0.16 usr +  0.09 sys =  0.25 CPU)
Result: PASS

------------------------------
PREREQUISITES
------------------------------

Prerequisite modules loaded:

requires:

    Module                     Need   Have    
    -------------------------- ------ --------
    AnyEvent::HTTP             2      2.15    
    Coro::Channel              0      6.31    
    HTTP::Response             0      6.04    
    LWP::Protocol              0      6.00    
    LWP::Protocol::http        0      0       
    LWP::Simple                5.827  6.00    
    version                    0      0.9901  

build_requires:

    Module                     Need   Have    
    -------------------------- ------ --------
    AnyEvent                   0      7.04    
    Carp                       0      1.26    
    CGI                        0      3.60    
    File::Spec                 0      3.39_02 
    File::Temp                 0      0.22    
    FindBin                    0      1.51    
    Getopt::Long               0      2.38    
    HTTP::Daemon               0      6.01    
    LWP::Simple                0      6.00    
    Test::More                 0      0.98    
    URI                        0      1.60    
    URI::URL                   0      5.04    

configure_requires:

    Module                     Need   Have    
    -------------------------- ------ --------
    Module::Build              0.3614 0.4003  
    Software::License::CC0_1_0 0      0.103005


------------------------------
ENVIRONMENT AND OTHER CONTEXT
------------------------------

Environment variables:

    AUTOMATED_TESTING = 1
    COMSPEC = C:\Windows\system32\cmd.exe
    LD_LIBRARY_PATH = /usr/lib/x86:/usr/X11R6/lib
    NUMBER_OF_PROCESSORS = 8
    PATH = C:\Users\solimanod\Desktop\strawberry-perl-5.16.2.1-64bit-portable\perl\site\bin;C:\Users\solimanod\Desktop\strawberry-perl-5.16.2.1-64bit-portable\perl\bin;C:\Users\solimanod\Desktop\strawberry-perl-5.16.2.1-64bit-portable\c\bin;C:\Windows\system32;C:\Windows;C:\Windows\System32\Wbem;C:\Windows\System32\WindowsPowerShell\v1.0\;C:\Program Files (x86)\Dell\SysMgt\RAC5;C:\Program Files (x86)\Dell\SysMgt\oma\bin;C:\RV\BIN;C:\strawberry\c\bin;C:\strawberry\perl\site\bin;C:\strawberry\perl\bin;C:\Program Files (x86)\GnuWin32\bin;C:\Windows\System32\Windows System Resource Manager\bin;C:\Windows\SUA\common\;C:\Windows\SUA\usr\lib\
    PERL5LIB = C:\Users\solimanod\Desktop\strawberry-perl-5.16.2.1-64bit-portable\cpan\build\AnyEvent-HTTP-2.15-x6tDOj/blib/arch;C:\Users\solimanod\Desktop\strawberry-perl-5.16.2.1-64bit-portable\cpan\build\AnyEvent-HTTP-2.15-x6tDOj/blib/lib;C:\Users\solimanod\Desktop\strawberry-perl-5.16.2.1-64bit-portable\cpan\build\Coro-6.31-1pb6LJ/blib/arch;C:\Users\solimanod\Desktop\strawberry-perl-5.16.2.1-64bit-portable\cpan\build\Coro-6.31-1pb6LJ/blib/lib;C:\Users\solimanod\Desktop\strawberry-perl-5.16.2.1-64bit-portable\cpan\build\Guard-1.022-229XXQ/blib/arch;C:\Users\solimanod\Desktop\strawberry-perl-5.16.2.1-64bit-portable\cpan\build\Guard-1.022-229XXQ/blib/lib;C:\Users\solimanod\Desktop\strawberry-perl-5.16.2.1-64bit-portable\cpan\build\AnyEvent-7.04-VJXB1a/blib/arch;C:\Users\solimanod\Desktop\strawberry-perl-5.16.2.1-64bit-portable\cpan\build\AnyEvent-7.04-VJXB1a/blib/lib;C:\Users\solimanod\Desktop\strawberry-perl-5.16.2.1-64bit-portable\cpan\build\Software-License-0.103005-ZAzGv3/blib/arch;C:\Users\solimanod\Desktop\strawberry-perl-5.16.2.1-64bit-portable\cpan\build\Software-License-0.103005-ZAzGv3/blib/lib;C:\Users\solimanod\Desktop\strawberry-perl-5.16.2.1-64bit-portable\cpan\build\Text-Template-1.46-jdKNGa/blib/arch;C:\Users\solimanod\Desktop\strawberry-perl-5.16.2.1-64bit-portable\cpan\build\Text-Template-1.46-jdKNGa/blib/lib;C:\Users\solimanod\Desktop\strawberry-perl-5.16.2.1-64bit-portable\cpan\build\Data-Section-0.101622-BGjdX6/blib/arch;C:\Users\solimanod\Desktop\strawberry-perl-5.16.2.1-64bit-portable\cpan\build\Data-Section-0.101622-BGjdX6/blib/lib
    PERL5OPT = 
    PERL5_CPANPLUS_IS_RUNNING = 13220
    PERL5_CPAN_IS_RUNNING = 13220
    PERL5_CPAN_IS_RUNNING_IN_RECURSION = 5252,13220
    PERL_CR_SMOKER_CURRENT = LWP-Protocol-Coro-http-v1.8.0
    PERL_EXTUTILS_AUTOINSTALL = --defaultdeps
    PERL_MM_USE_DEFAULT = 1
    PROCESSOR_IDENTIFIER = Intel64 Family 6 Model 23 Stepping 10, GenuineIntel
    TEMP = C:\Users\SOLIMA~1\AppData\Local\Temp\2
    TERM = dumb

Perl special variables (and OS-specific diagnostics, for MSWin32):

    $^X = C:\Users\solimanod\Desktop\strawberry-perl-5.16.2.1-64bit-portable\perl\bin\perl.exe
    $UID/$EUID = 0 / 0
    $GID = 0
    $EGID = 0
    Win32::GetOSName = Win2008
    Win32::GetOSVersion = , 6, 1, 7600, 2, 0, 0, 272, 3
    Win32::FsType = NTFS
    Win32::IsAdminUser = 0

Perl module toolchain versions installed:

    Module              Have    
    ------------------- --------
    CPAN                2.00    
    CPAN::Meta          2.120921
    Cwd                 3.39_02 
    ExtUtils::CBuilder  0.280206
    ExtUtils::Command   1.17    
    ExtUtils::Install   1.58    
    ExtUtils::MakeMaker 6.63_02 
    ExtUtils::Manifest  1.61    
    ExtUtils::ParseXS   3.18    
    File::Spec          3.39_02 
    JSON                2.53    
    JSON::PP            2.27200 
    Module::Build       0.4003  
    Module::Signature   n/a     
    Parse::CPAN::Meta   1.4404  
    Test::Harness       3.25    
    Test::More          0.98    
    YAML                0.84    
    YAML::Syck          1.21    
    version             0.9901  


--

Summary of my perl5 (revision 5 version 16 subversion 2) configuration:
   
  Platform:
    osname=MSWin32, osvers=4.0, archname=MSWin32-x64-multi-thread
    uname='Win32 strawberry-perl 5.16.2.1 #1 Fri Nov  2 03:03:35 2012 x64'
    config_args='undef'
    hint=recommended, useposix=true, d_sigaction=undef
    useithreads=define, usemultiplicity=define
    useperlio=define, d_sfio=undef, uselargefiles=define, usesocks=undef
    use64bitint=define, use64bitall=undef, uselongdouble=undef
    usemymalloc=n, bincompat5005=undef
  Compiler:
    cc='gcc', ccflags =' -s -O2 -DWIN32 -DWIN64 -DCONSERVATIVE  -DPERL_TEXTMODE_SCRIPTS -DPERL_IMPLICIT_CONTEXT -DPERL_IMPLICIT_SYS -fno-strict-aliasing -mms-bitfields',
    optimize='-s -O2',
    cppflags='-DWIN32'
    ccversion='', gccversion='4.6.3', gccosandvers=''
    intsize=4, longsize=4, ptrsize=8, doublesize=8, byteorder=12345678
    d_longlong=define, longlongsize=8, d_longdbl=define, longdblsize=12
    ivtype='long long', ivsize=8, nvtype='double', nvsize=8, Off_t='long long', lseeksize=8
    alignbytes=8, prototype=define
  Linker and Libraries:
    ld='g++.exe', ldflags ='-s -L"C:\Users\solimanod\Desktop\strawberry-perl-5.16.2.1-64bit-portable\perl\lib\CORE" -L"C:\Users\solimanod\Desktop\strawberry-perl-5.16.2.1-64bit-portable\c\lib"'
    libpth=C:\Users\solimanod\Desktop\strawberry-perl-5.16.2.1-64bit-portable\c\lib C:\Users\solimanod\Desktop\strawberry-perl-5.16.2.1-64bit-portable\c\x86_64-w64-mingw32\lib
    libs=-lmoldname -lkernel32 -luser32 -lgdi32 -lwinspool -lcomdlg32 -ladvapi32 -lshell32 -lole32 -loleaut32 -lnetapi32 -luuid -lws2_32 -lmpr -lwinmm -lversion -lodbc32 -lodbccp32 -lcomctl32
    perllibs=-lmoldname -lkernel32 -luser32 -lgdi32 -lwinspool -lcomdlg32 -ladvapi32 -lshell32 -lole32 -loleaut32 -lnetapi32 -luuid -lws2_32 -lmpr -lwinmm -lversion -lodbc32 -lodbccp32 -lcomctl32
    libc=, so=dll, useshrplib=true, libperl=libperl516.a
    gnulibc_version=''
  Dynamic Linking:
    dlsrc=dl_win32.xs, dlext=dll, d_dlsymun=undef, ccdlflags=' '
    cccdlflags=' ', lddlflags='-mdll -s -L"C:\Users\solimanod\Desktop\strawberry-perl-5.16.2.1-64bit-portable\perl\lib\CORE" -L"C:\Users\solimanod\Desktop\strawberry-perl-5.16.2.1-64bit-portable\c\lib"'


Characteristics of this binary (from libperl): 
  Compile-time options: HAS_TIMES HAVE_INTERP_INTERN MULTIPLICITY
                        PERLIO_LAYERS PERL_DONT_CREATE_GVSV
                        PERL_IMPLICIT_CONTEXT PERL_IMPLICIT_SYS
                        PERL_MALLOC_WRAP PERL_PRESERVE_IVUV PL_OP_SLAB_ALLOC
                        USE_64_BIT_INT USE_ITHREADS USE_LARGE_FILES
                        USE_LOCALE USE_LOCALE_COLLATE USE_LOCALE_CTYPE
                        USE_LOCALE_NUMERIC USE_PERLIO USE_PERL_ATOF
  Built under MSWin32
  Compiled at Nov  2 2012 03:12:17
  %ENV:
    PERL5LIB="C:\Users\solimanod\Desktop\strawberry-perl-5.16.2.1-64bit-portable\cpan\build\AnyEvent-HTTP-2.15-x6tDOj/blib/arch;C:\Users\solimanod\Desktop\strawberry-perl-5.16.2.1-64bit-portable\cpan\build\AnyEvent-HTTP-2.15-x6tDOj/blib/lib;C:\Users\solimanod\Desktop\strawberry-perl-5.16.2.1-64bit-portable\cpan\build\Coro-6.31-1pb6LJ/blib/arch;C:\Users\solimanod\Desktop\strawberry-perl-5.16.2.1-64bit-portable\cpan\build\Coro-6.31-1pb6LJ/blib/lib;C:\Users\solimanod\Desktop\strawberry-perl-5.16.2.1-64bit-portable\cpan\build\Guard-1.022-229XXQ/blib/arch;C:\Users\solimanod\Desktop\strawberry-perl-5.16.2.1-64bit-portable\cpan\build\Guard-1.022-229XXQ/blib/lib;C:\Users\solimanod\Desktop\strawberry-perl-5.16.2.1-64bit-portable\cpan\build\AnyEvent-7.04-VJXB1a/blib/arch;C:\Users\solimanod\Desktop\strawberry-perl-5.16.2.1-64bit-portable\cpan\build\AnyEvent-7.04-VJXB1a/blib/lib;C:\Users\solimanod\Desktop\strawberry-perl-5.16.2.1-64bit-portable\cpan\build\Software-License-0.103005-ZAzGv3/blib/arch;C:\Users\solimanod\Desktop\strawberry-perl-5.16.2.1-64bit-portable\cpan\build\Software-License-0.103005-ZAzGv3/blib/lib;C:\Users\solimanod\Desktop\strawberry-perl-5.16.2.1-64bit-portable\cpan\build\Text-Template-1.46-jdKNGa/blib/arch;C:\Users\solimanod\Desktop\strawberry-perl-5.16.2.1-64bit-portable\cpan\build\Text-Template-1.46-jdKNGa/blib/lib;C:\Users\solimanod\Desktop\strawberry-perl-5.16.2.1-64bit-portable\cpan\build\Data-Section-0.101622-BGjdX6/blib/arch;C:\Users\solimanod\Desktop\strawberry-perl-5.16.2.1-64bit-portable\cpan\build\Data-Section-0.101622-BGjdX6/blib/lib"
    PERL5_CPANPLUS_IS_RUNNING="13220"
    PERL5_CPAN_IS_RUNNING="13220"
    PERL5_CPAN_IS_RUNNING_IN_RECURSION="5252,13220"
    PERL_CR_SMOKER_CURRENT="LWP-Protocol-Coro-http-v1.8.0"
    PERL_EXTUTILS_AUTOINSTALL="--defaultdeps"
    PERL_MM_USE_DEFAULT="1"
  @INC:
    C:\Users\solimanod\Desktop\strawberry-perl-5.16.2.1-64bit-portable\cpan\build\AnyEvent-HTTP-2.15-x6tDOj/blib/arch
    C:\Users\solimanod\Desktop\strawberry-perl-5.16.2.1-64bit-portable\cpan\build\AnyEvent-HTTP-2.15-x6tDOj/blib/lib
    C:\Users\solimanod\Desktop\strawberry-perl-5.16.2.1-64bit-portable\cpan\build\Coro-6.31-1pb6LJ/blib/arch
    C:\Users\solimanod\Desktop\strawberry-perl-5.16.2.1-64bit-portable\cpan\build\Coro-6.31-1pb6LJ/blib/lib
    C:\Users\solimanod\Desktop\strawberry-perl-5.16.2.1-64bit-portable\cpan\build\Guard-1.022-229XXQ/blib/arch
    C:\Users\solimanod\Desktop\strawberry-perl-5.16.2.1-64bit-portable\cpan\build\Guard-1.022-229XXQ/blib/lib
    C:\Users\solimanod\Desktop\strawberry-perl-5.16.2.1-64bit-portable\cpan\build\AnyEvent-7.04-VJXB1a/blib/arch
    C:\Users\solimanod\Desktop\strawberry-perl-5.16.2.1-64bit-portable\cpan\build\AnyEvent-7.04-VJXB1a/blib/lib
    C:\Users\solimanod\Desktop\strawberry-perl-5.16.2.1-64bit-portable\cpan\build\Software-License-0.103005-ZAzGv3/blib/arch
    C:\Users\solimanod\Desktop\strawberry-perl-5.16.2.1-64bit-portable\cpan\build\Software-License-0.103005-ZAzGv3/blib/lib
    C:\Users\solimanod\Desktop\strawberry-perl-5.16.2.1-64bit-portable\cpan\build\Text-Template-1.46-jdKNGa/blib/arch
    C:\Users\solimanod\Desktop\strawberry-perl-5.16.2.1-64bit-portable\cpan\build\Text-Template-1.46-jdKNGa/blib/lib
    C:\Users\solimanod\Desktop\strawberry-perl-5.16.2.1-64bit-portable\cpan\build\Data-Section-0.101622-BGjdX6/blib/arch
    C:\Users\solimanod\Desktop\strawberry-perl-5.16.2.1-64bit-portable\cpan\build\Data-Section-0.101622-BGjdX6/blib/lib
    C:/Users/solimanod/Desktop/strawberry-perl-5.16.2.1-64bit-portable/perl/site/lib
    C:/Users/solimanod/Desktop/strawberry-perl-5.16.2.1-64bit-portable/perl/vendor/lib
    C:/Users/solimanod/Desktop/strawberry-perl-5.16.2.1-64bit-portable/perl/lib
    .