Back
From: metabase:user:322078bc-2aae-11df-837a-5e0a49663a4f
Subject: PASS FlatFile-DataStore-1.03 v5.8.9 OpenBSD
Date: 2011-11-19T00:38:46Z
This distribution has been tested as part of the CPAN Testers
project, supporting the Perl programming language. See
http://wiki.cpantesters.org/ for more information or email
questions to cpan-testers-discuss@perl.org
--
Dear BBAXTER,
This is a computer-generated error report created automatically by
CPANPLUS, version 0.9111. Testers personal comments may appear
at the end of this report.
MAKE TEST passed: PERL_DL_NONLAZY=1 /home/cpan/pit/rel/perl-5.8.9/bin/perl "-MExtUtils::Command::MM" "-e" "test_harness(0, 'blib/lib', 'blib/arch')" t/*.t
t/001-datastore.t ................. ok
t/002-datastore-newpod.t .......... ok
t/003-datastore-xsmall.t .......... ok
t/004-datastore-xsmall_nohist.t ... ok
t/005-datastore-small.t ........... ok
t/006-datastore-small_nohist.t .... ok
t/007-datastore-medium.t .......... ok
t/008-datastore-medium_nohist.t ... ok
t/009-datastore-large.t ........... ok
t/010-datastore-large_nohist.t .... ok
t/011-datastore-xlarge.t .......... ok
t/012-datastore-xlarge_nohist.t ... ok
t/013-datastore-uripod.t .......... ok
t/014-datastore-tiehash.t ......... ok
t/015-datastore-dbm.t ............. ok
t/201-datastore-errors.t .......... ok
t/202-datastore-tiehash-errors.t .. ok
t/203-datastore-dbm-errors.t ...... ok
t/206-preamble-errors.t ........... ok
t/207-toc-errors.t ................ ok
t/601-preamble.t .................. ok
t/701-toc.t ....................... ok
t/801-record.t .................... ok
All tests successful.
Files=23, Tests=379, 4 wallclock secs ( 0.11 usr 0.27 sys + 1.95 cusr 1.43 csys = 3.76 CPU)
Result: PASS
[MSG] [Sat Nov 19 00:38:45 2011] Sending test report for 'FlatFile-DataStore-1.03'
This report was machine-generated by CPANPLUS::Dist::YACSmoke 0.64.
Powered by minismokebox version 0.54
------------------------------
ENVIRONMENT AND OTHER CONTEXT
------------------------------
Environment variables:
AUTOMATED_TESTING = 1
PATH = /home/cpan/bin:/bin:/sbin:/usr/bin:/usr/sbin:/usr/X11R6/bin:/usr/local/bin:/usr/local/sbin:/usr/games:.
PERL5LIB = :/home/cpan/pit/rel/conf/perl-5.8.9/.cpanplus/5.8.9/build/Data-Omap-0.06/blib/lib:/home/cpan/pit/rel/conf/perl-5.8.9/.cpanplus/5.8.9/build/Data-Omap-0.06/blib/arch:/home/cpan/pit/rel/conf/perl-5.8.9/.cpanplus/5.8.9/build/Math-Int2Base-1.00/blib/lib:/home/cpan/pit/rel/conf/perl-5.8.9/.cpanplus/5.8.9/build/Math-Int2Base-1.00/blib/arch:/home/cpan/pit/rel/conf/perl-5.8.9/.cpanplus/5.8.9/build/URI-1.59/blib/lib:/home/cpan/pit/rel/conf/perl-5.8.9/.cpanplus/5.8.9/build/URI-1.59/blib/arch:/home/cpan/pit/rel/conf/perl-5.8.9/.cpanplus/5.8.9/build/FlatFile-DataStore-1.03/blib/lib:/home/cpan/pit/rel/conf/perl-5.8.9/.cpanplus/5.8.9/build/FlatFile-DataStore-1.03/blib/arch
PERL5_CPANPLUS_IS_RUNNING = 20502
PERL5_CPANPLUS_IS_VERSION = 0.9111
PERL5_MINISMOKEBOX = 0.54
PERL5_YACSMOKE_BASE = /home/cpan/pit/rel/conf/perl-5.8.9
PERL_EXTUTILS_AUTOINSTALL = --defaultdeps
PERL_MM_USE_DEFAULT = 1
SHELL = /usr/local/bin/bash
TERM = screen
Perl special variables (and OS-specific diagnostics, for MSWin32):
Perl: $^X = /home/cpan/pit/rel/perl-5.8.9/bin/perl
UID: $< = 1001
EUID: $> = 1001
GID: $( = 1001 1001
EGID: $) = 1001 1001
-------------------------------
--
Summary of my perl5 (revision 5 version 8 subversion 9) configuration:
Platform:
osname=openbsd, osvers=4.9, archname=OpenBSD.i386-openbsd-thread-multi-64int
uname='openbsd obadiah.bingosnet.co.uk 4.9 generic#671 i386 '
config_args='-des -Dprefix=/home/cpan/pit/rel/perl-5.8.9 -Dusethreads -Duse64bitint'
hint=recommended, useposix=true, d_sigaction=define
usethreads=define use5005threads=undef useithreads=define usemultiplicity=define
useperlio=define d_sfio=undef uselargefiles=define usesocks=undef
use64bitint=define use64bitall=undef uselongdouble=undef
usemymalloc=y, bincompat5005=undef
Compiler:
cc='cc', ccflags ='-pthread -fno-strict-aliasing -pipe -I/usr/local/include',
optimize='-O2',
cppflags='-pthread -fno-strict-aliasing -pipe -I/usr/local/include'
ccversion='', gccversion='4.2.1 20070719 ', gccosandvers='openbsd4.9'
intsize=4, longsize=4, ptrsize=4, doublesize=8, byteorder=12345678
d_longlong=define, longlongsize=8, d_longdbl=define, longdblsize=12
ivtype='long long', ivsize=8, nvtype='double', nvsize=8, Off_t='off_t', lseeksize=8
alignbytes=4, prototype=define
Linker and Libraries:
ld='cc', ldflags ='-pthread -Wl,-E -L/usr/local/lib'
libpth=/usr/local/lib /usr/lib
libs=-lgdbm -lm -lutil -lc
perllibs=-lm -lutil -lc
libc=/usr/lib/libc.so.58.0, so=so, useshrplib=false, libperl=libperl.a
gnulibc_version=''
Dynamic Linking:
dlsrc=dl_dlopen.xs, dlext=so, d_dlsymun=undef, ccdlflags=' '
cccdlflags='-DPIC -fPIC ', lddlflags='-shared -fPIC -L/usr/local/lib'
Characteristics of this binary (from libperl):
Compile-time options: MULTIPLICITY MYMALLOC PERL_IMPLICIT_CONTEXT
PERL_MALLOC_WRAP USE_64_BIT_INT USE_FAST_STDIO
USE_ITHREADS USE_LARGE_FILES USE_PERLIO
USE_REENTRANT_API
Built under openbsd
Compiled at Jul 28 2011 07:36:45
%ENV:
PERL5LIB=":/home/cpan/pit/rel/conf/perl-5.8.9/.cpanplus/5.8.9/build/Data-Omap-0.06/blib/lib:/home/cpan/pit/rel/conf/perl-5.8.9/.cpanplus/5.8.9/build/Data-Omap-0.06/blib/arch:/home/cpan/pit/rel/conf/perl-5.8.9/.cpanplus/5.8.9/build/Math-Int2Base-1.00/blib/lib:/home/cpan/pit/rel/conf/perl-5.8.9/.cpanplus/5.8.9/build/Math-Int2Base-1.00/blib/arch:/home/cpan/pit/rel/conf/perl-5.8.9/.cpanplus/5.8.9/build/URI-1.59/blib/lib:/home/cpan/pit/rel/conf/perl-5.8.9/.cpanplus/5.8.9/build/URI-1.59/blib/arch:/home/cpan/pit/rel/conf/perl-5.8.9/.cpanplus/5.8.9/build/FlatFile-DataStore-1.03/blib/lib:/home/cpan/pit/rel/conf/perl-5.8.9/.cpanplus/5.8.9/build/FlatFile-DataStore-1.03/blib/arch"
PERL5_CPANPLUS_IS_RUNNING="20502"
PERL5_CPANPLUS_IS_VERSION="0.9111"
PERL5_MINISMOKEBOX="0.54"
PERL5_YACSMOKE_BASE="/home/cpan/pit/rel/conf/perl-5.8.9"
PERL_EXTUTILS_AUTOINSTALL="--defaultdeps"
PERL_MM_USE_DEFAULT="1"
@INC:
/home/cpan/pit/rel/conf/perl-5.8.9/.cpanplus/5.8.9/build/Data-Omap-0.06/blib/lib
/home/cpan/pit/rel/conf/perl-5.8.9/.cpanplus/5.8.9/build/Data-Omap-0.06/blib/arch
/home/cpan/pit/rel/conf/perl-5.8.9/.cpanplus/5.8.9/build/Math-Int2Base-1.00/blib/lib
/home/cpan/pit/rel/conf/perl-5.8.9/.cpanplus/5.8.9/build/Math-Int2Base-1.00/blib/arch
/home/cpan/pit/rel/conf/perl-5.8.9/.cpanplus/5.8.9/build/URI-1.59/blib/lib
/home/cpan/pit/rel/conf/perl-5.8.9/.cpanplus/5.8.9/build/URI-1.59/blib/arch
/home/cpan/pit/rel/conf/perl-5.8.9/.cpanplus/5.8.9/build/FlatFile-DataStore-1.03/blib/lib
/home/cpan/pit/rel/conf/perl-5.8.9/.cpanplus/5.8.9/build/FlatFile-DataStore-1.03/blib/arch
/home/cpan/pit/rel/perl-5.8.9/lib/5.8.9/OpenBSD.i386-openbsd-thread-multi-64int
/home/cpan/pit/rel/perl-5.8.9/lib/5.8.9
/home/cpan/pit/rel/perl-5.8.9/lib/site_perl/5.8.9/OpenBSD.i386-openbsd-thread-multi-64int
/home/cpan/pit/rel/perl-5.8.9/lib/site_perl/5.8.9
.