Back
From: metabase:user:314402c4-2aae-11df-837a-5e0a49663a4f
Subject: PASS Dist-Zilla-Plugin-if-ENV-0.001001 v5.22.0 GNU/Linux
Date: 2017-03-09T08:03:11Z
This distribution has been tested as part of the CPAN Testers
project, supporting the Perl programming language. See
http://wiki.cpantesters.org/ for more information or email
questions to cpan-testers-discuss@perl.org
--
Dear Kent Fredric,
This is a computer-generated report for Dist-Zilla-Plugin-if-ENV-0.001001
on perl 5.22.0, created by CPAN-Reporter-1.2018.
Thank you for uploading your work to CPAN. Congratulations!
All tests were successful.
Sections of this report:
* Tester comments
* Program output
* Prerequisites
* Environment and other context
------------------------------
TESTER COMMENTS
------------------------------
Additional comments from tester:
none provided
------------------------------
PROGRAM OUTPUT
------------------------------
Output from '/usr/bin/make test':
PERL_DL_NONLAZY=1 "/bbbike/perl-5.22.0/bin/perl5.22.0" "-MExtUtils::Command::MM" "-MTest::Harness" "-e" "undef *Test::Harness::Switches; test_harness(0, 'blib/lib', 'blib/arch')" t/*.t t/00-compile/*.t
t/00-compile/lib_Dist_Zilla_Plugin_if_ENV_pm.t ...... ok
t/00-compile/lib_Dist_Zilla_Plugin_if_not_ENV_pm.t .. ok
#
# Versions for all modules listed in MYMETA.json (including optional ones):
#
# === Configure Requires ===
#
# Module Want Have
# ------------------- ---- ----
# ExtUtils::MakeMaker any 7.24
#
# === Configure Recommends ===
#
# Module Want Have
# ------------------- ---- ----
# ExtUtils::MakeMaker 7.00 7.24
#
# === Build Requires ===
#
# Module Want Have
# ------------------- ---- ----
# ExtUtils::MakeMaker any 7.24
#
# === Test Requires ===
#
# Module Want Have
# ------------------- ---- --------
# ExtUtils::MakeMaker any 7.24
# File::Spec any 3.62
# Test::DZil any 6.007
# Test::More any 1.302075
#
# === Test Recommends ===
#
# Module Want Have
# ------------------- -------- --------
# CPAN::Meta 2.120900 2.150010
# ExtUtils::MakeMaker 7.00 7.24
# Test::More 0.99 1.302075
#
# === Runtime Requires ===
#
# Module Want Have
# --------------------------------------------- ---- --------
# Dist::Zilla::Role::PluginLoader::Configurable any 0.001003
# Dist::Zilla::Util any 6.007
# Moose any 2.1806
# strict any 1.09
# warnings any 1.32
#
# === Runtime Recommends ===
#
# Module Want Have
# ------ ----- ------
# Moose 2.000 2.1806
#
t/00-report-prereqs.t ............................... ok
t/basic_not_off.t ................................... ok
t/basic_not_on.t .................................... ok
t/basic_off.t ....................................... ok
t/basic_on.t ........................................ ok
All tests successful.
Files=7, Tests=7, 4 wallclock secs ( 0.05 usr 0.03 sys + 3.76 cusr 0.43 csys = 4.27 CPU)
Result: PASS
------------------------------
PREREQUISITES
------------------------------
Prerequisite modules loaded:
requires:
Module Need Have
--------------------------------------------- ----- --------
Dist::Zilla::Role::PluginLoader::Configurable 0 0.001003
Dist::Zilla::Util 0 6.007
Moose 0 2.1806
perl 5.006 5.022000
strict 0 1.09
warnings 0 1.32
build_requires:
Module Need Have
--------------------------------------------- ----- --------
ExtUtils::MakeMaker 0 7.24
File::Spec 0 3.62
Test::DZil 0 6.007
Test::More 0 1.302075
configure_requires:
Module Need Have
--------------------------------------------- ----- --------
ExtUtils::MakeMaker 0 7.24
perl 5.006 5.022000
------------------------------
ENVIRONMENT AND OTHER CONTEXT
------------------------------
Environment variables:
LANG = C
LC_ALL = de_DE.UTF-8
PATH = /usr/local/bin:/usr/bin:/bin:/usr/local/sbin:/usr/sbin:/sbin:/home/cpansand/bin/linux-gnu:/home/cpansand/bin/sh:/home/cpansand/bin:/usr/games:/home/cpansand/devel:/home/eserte/src/srezic-misc/scripts
PERL5LIB = /home/cpansand/.cpan/build/2017030906/Dist-Zilla-Role-PluginLoader-0.001003-19/blib/arch:/home/cpansand/.cpan/build/2017030906/Dist-Zilla-Role-PluginLoader-0.001003-19/blib/lib:/home/cpansand/.cpan/build/2017030906/Data-Processor-0.4.3-14/blib/arch:/home/cpansand/.cpan/build/2017030906/Data-Processor-0.4.3-14/blib/lib
PERL5OPT =
PERL5_CPANPLUS_IS_RUNNING = 6831
PERL5_CPAN_IS_RUNNING = 6831
PERL5_CPAN_IS_RUNNING_IN_RECURSION = 6676,6831
PERLDOC = -MPod::Perldoc::ToTextOverstrike
PERL_BATCH = yes
PERL_CANARY_STABILITY_NOPROMPT = 1
PERL_CPAN_REPORTER_CONFIG = /var/tmp/cpansmoker-1023/2017030906/cpanreporter_000_config.ini
PERL_EXTUTILS_AUTOINSTALL = --defaultdeps
PERL_PARALLEL_SMOKER = yes
PERL_USE_UNSAFE_INC = 1
SHELL = /bin/zsh
TERM = screen
TMPDIR = /var/tmp/cpansmoker-1023/2017030906
Perl special variables (and OS-specific diagnostics, for MSWin32):
$^X = /bbbike/perl-5.22.0/bin/perl5.22.0
$UID/$EUID = 1023 / 1023
$GID = 1023 1023
$EGID = 1023 1023
Perl module toolchain versions installed:
Module Have
------------------- --------
CPAN 2.16
CPAN::Meta 2.150010
Cwd 3.62
ExtUtils::CBuilder 0.280221
ExtUtils::Command 7.24
ExtUtils::Install 2.04
ExtUtils::MakeMaker 7.24
ExtUtils::Manifest 1.70
ExtUtils::ParseXS 3.28
File::Spec 3.62
JSON 2.90
JSON::PP 2.27400
Module::Build 0.4220
Module::Signature 0.79
Parse::CPAN::Meta 2.150010
Test::Harness 3.35
Test::More 1.302075
YAML 1.20
YAML::Syck 1.29
version 0.9917
--
Summary of my perl5 (revision 5 version 22 subversion 0) configuration:
Platform:
osname=linux, osvers=3.16.0-4-amd64, archname=x86_64-linux
uname='linux eserte 3.16.0-4-amd64 #1 smp debian 3.16.7-ckt25-2 (2016-04-08) x86_64 gnulinux '
config_args='-ds -e -Dprefix=/opt/perl-5.22.0 -Dcf_email=srezic@cpan.org'
hint=recommended, useposix=true, d_sigaction=define
useithreads=undef, usemultiplicity=undef
use64bitint=define, use64bitall=define, uselongdouble=undef
usemymalloc=n, bincompat5005=undef
Compiler:
cc='cc', ccflags ='-fwrapv -fno-strict-aliasing -pipe -fstack-protector-strong -I/usr/local/include -D_LARGEFILE_SOURCE -D_FILE_OFFSET_BITS=64 -D_FORTIFY_SOURCE=2',
optimize='-O2',
cppflags='-fwrapv -fno-strict-aliasing -pipe -fstack-protector-strong -I/usr/local/include'
ccversion='', gccversion='4.9.2', gccosandvers=''
intsize=4, longsize=8, ptrsize=8, doublesize=8, byteorder=12345678, doublekind=3
d_longlong=define, longlongsize=8, d_longdbl=define, longdblsize=16, longdblkind=3
ivtype='long', ivsize=8, nvtype='double', nvsize=8, Off_t='off_t', lseeksize=8
alignbytes=8, prototype=define
Linker and Libraries:
ld='cc', ldflags =' -fstack-protector-strong -L/usr/local/lib'
libpth=/usr/local/lib /usr/lib/gcc/x86_64-linux-gnu/4.9/include-fixed /usr/include/x86_64-linux-gnu /usr/lib /lib/x86_64-linux-gnu /lib/../lib /usr/lib/x86_64-linux-gnu /usr/lib/../lib /lib
libs=-lpthread -lnsl -lgdbm -ldb -ldl -lm -lcrypt -lutil -lc -lgdbm_compat
perllibs=-lpthread -lnsl -ldl -lm -lcrypt -lutil -lc
libc=libc-2.19.so, so=so, useshrplib=false, libperl=libperl.a
gnulibc_version='2.19'
Dynamic Linking:
dlsrc=dl_dlopen.xs, dlext=so, d_dlsymun=undef, ccdlflags='-Wl,-E'
cccdlflags='-fPIC', lddlflags='-shared -O2 -L/usr/local/lib -fstack-protector-strong'
Characteristics of this binary (from libperl):
Compile-time options: HAS_TIMES PERLIO_LAYERS PERL_DONT_CREATE_GVSV
PERL_HASH_FUNC_ONE_AT_A_TIME_HARD PERL_MALLOC_WRAP
PERL_NEW_COPY_ON_WRITE PERL_PRESERVE_IVUV
USE_64_BIT_ALL USE_64_BIT_INT USE_LARGE_FILES
USE_LOCALE USE_LOCALE_COLLATE USE_LOCALE_CTYPE
USE_LOCALE_NUMERIC USE_LOCALE_TIME USE_PERLIO
USE_PERL_ATOF
Built under linux
Compiled at May 7 2016 16:48:33
%ENV:
PERL5LIB="/home/cpansand/.cpan/build/2017030906/Dist-Zilla-Role-PluginLoader-0.001003-19/blib/arch:/home/cpansand/.cpan/build/2017030906/Dist-Zilla-Role-PluginLoader-0.001003-19/blib/lib:/home/cpansand/.cpan/build/2017030906/Data-Processor-0.4.3-14/blib/arch:/home/cpansand/.cpan/build/2017030906/Data-Processor-0.4.3-14/blib/lib"
PERL5OPT=""
PERL5_CPANPLUS_IS_RUNNING="6831"
PERL5_CPAN_IS_RUNNING="6831"
PERL5_CPAN_IS_RUNNING_IN_RECURSION="6676,6831"
PERLDOC="-MPod::Perldoc::ToTextOverstrike"
PERL_BATCH="yes"
PERL_CANARY_STABILITY_NOPROMPT="1"
PERL_CPAN_REPORTER_CONFIG="/var/tmp/cpansmoker-1023/2017030906/cpanreporter_000_config.ini"
PERL_EXTUTILS_AUTOINSTALL="--defaultdeps"
PERL_PARALLEL_SMOKER="yes"
PERL_USE_UNSAFE_INC="1"
@INC:
/home/cpansand/.cpan/build/2017030906/Dist-Zilla-Role-PluginLoader-0.001003-19/blib/arch
/home/cpansand/.cpan/build/2017030906/Dist-Zilla-Role-PluginLoader-0.001003-19/blib/lib
/home/cpansand/.cpan/build/2017030906/Data-Processor-0.4.3-14/blib/arch
/home/cpansand/.cpan/build/2017030906/Data-Processor-0.4.3-14/blib/lib
/opt/perl-5.22.0/lib/site_perl/5.22.0/x86_64-linux
/opt/perl-5.22.0/lib/site_perl/5.22.0
/opt/perl-5.22.0/lib/5.22.0/x86_64-linux
/opt/perl-5.22.0/lib/5.22.0
.