Crypt-OpenSSL-PKCS10 v0.33-TRIAL Perl 5 v5.32.0 x86_64-linux-ld

Status
Pass
From
Chris Williams (BINGOS)
Dist
Crypt-OpenSSL-PKCS10 v0.33-TRIAL
Platform
Perl 5 v5.32.0 x86_64-linux-ld
Date
2025-01-26 05:03:10
ID
d6ed939c-dba2-11ef-98b0-b3c3213a625c
This distribution has been tested as part of the CPAN Testers
project, supporting the Perl programming language.  See
http://wiki.cpantesters.org/ for more information or email
questions to cpan-testers-discuss@perl.org


--

Dear TIMLEGGE,

This is a computer-generated error report created automatically by
CPANPLUS, version 0.9914. Testers personal comments may appear
at the end of this report.


Thank you for uploading your work to CPAN.  Congratulations!
All tests were successful.

TEST RESULTS:

Below is the error stack from stage 'make test':

"/home/cpan/pit/bare-ld/perl-5.32.0/bin/perl" -MExtUtils::Command::MM -e 'cp_nonempty' -- PKCS10.bs blib/arch/auto/Crypt/OpenSSL/PKCS10/PKCS10.bs 644
PERL_DL_NONLAZY=1 "/home/cpan/pit/bare-ld/perl-5.32.0/bin/perl" "-MExtUtils::Command::MM" "-MTest::Harness" "-e" "undef *Test::Harness::Switches; test_harness(0, 'blib/lib', 'blib/arch')" t/*.t
# OpenSSL 3.0.2 15 Mar 2022 (Library: OpenSSL 3.0.2 15 Mar 2022)
t/00-openssl-version.t .. ok
t/10-rsa-keys.t ......... ok
t/20-ec.t ............... ok
t/30-ec-keys.t .......... ok
t/author-pod-spell.t .... skipped: these tests are for testing by the author
t/author-pod-syntax.t ... skipped: these tests are for testing by the author
-----BEGIN CERTIFICATE REQUEST-----
MIIBPzCBqQIBADAAMIGfMA0GCSqGSIb3DQEBAQUAA4GNADCBiQKBgQDE0X2LSBsw
qwwCCIxmCWu47w1ss8szffSNQFr9X6rlOHNGSnYZ/4jHAQljPY8xhQfea8ulDdqf
n365lMjsBOaM2PrW065I0Jkq7m3c5kM/JTn07mYR0Uqn98S2S2Kvvk3b4OGKeGVV
yZS76yj3YnKWiArEgQs2Fl9v2pUWtMEKqQIDAQABoAAwDQYJKoZIhvcNAQELBQAD
gYEArmTpcJFp6kiPNlvGrCu4H8izOltvmaRelf3L0bIGrhE5fUMxE4wfQTLWAcm0
9AI8+jS+vdbL2NdYD4xRYDIXYFXV4CbfRTGeNyZdTfQvc9DQa1v+/E14M8geuCjz
DJuBYj4mwDTbzMdzuSGqjIgKVtxU3ji8AK0ikQA2qow2ud8=
-----END CERTIFICATE REQUEST-----
-----BEGIN PRIVATE KEY-----
MIICdgIBADANBgkqhkiG9w0BAQEFAASCAmAwggJcAgEAAoGBAMTRfYtIGzCrDAII
jGYJa7jvDWyzyzN99I1AWv1fquU4c0ZKdhn/iMcBCWM9jzGFB95ry6UN2p+ffrmU
yOwE5ozY+tbTrkjQmSrubdzmQz8lOfTuZhHRSqf3xLZLYq++Tdvg4Yp4ZVXJlLvr
KPdicpaICsSBCzYWX2/alRa0wQqpAgMBAAECgYEAlJl6yVNKvCcYrNxZbJzGSV2r
7BufWyRJJPCnAlBdzi0d079aheyKD3534QbUe1Xuh/8pRVg9bXFVk7aDMLfOfMsK
xoRmLi9gKdEg0WBPaWhbeTOjYz3ccEU6+ioZZbyXgh3ysjllqsTxQ/1cfPdf7fGR
hKgCi0b5TRNz6eGakRECQQD0sPWXkQxtVOcmem3R73kOIRdTDfynYwqKTPbl1xqR
KIfvWJAqfWKePGasahqoLOOTRMgLl22BQ2BsGBfGNYWNAkEAzeogkLIJ9kPpdlPJ
TY3+s7tKid6S3ix57BUf3XlUq7F9fbuokINLbKMSmXF6Oeh2TA0mN9u6FpbBH6q9
b2tsjQJAb7AeSbKBc54fbCbR3dNq9BISrWxi+JxygTIkOED49W0ErzFDjMFytDtp
uiUsSbtDnUL19KSH7Uqtxmkw4N4pOQJAL3wDQHreEz079D6EGG9bQgU5vitmgPeO
siN48rDNFr7aaolA6PpuBUJhwqLJhdsWlJkfrBfuhNEE/hF4l94U7QJAe5nEA1EN
iAg9WAAdv2I5hLCOth5JPvZLiX2zWhtl3GHqVq5U8/pVPwrrSj/e5KxsbQ1CP152
Hggxjb0Egc8PAA==
-----END PRIVATE KEY-----


Public-Key: (1024 bit)
Modulus:
    00:c4:d1:7d:8b:48:1b:30:ab:0c:02:08:8c:66:09:
    6b:b8:ef:0d:6c:b3:cb:33:7d:f4:8d:40:5a:fd:5f:
    aa:e5:38:73:46:4a:76:19:ff:88:c7:01:09:63:3d:
    8f:31:85:07:de:6b:cb:a5:0d:da:9f:9f:7e:b9:94:
    c8:ec:04:e6:8c:d8:fa:d6:d3:ae:48:d0:99:2a:ee:
    6d:dc:e6:43:3f:25:39:f4:ee:66:11:d1:4a:a7:f7:
    c4:b6:4b:62:af:be:4d:db:e0:e1:8a:78:65:55:c9:
    94:bb:eb:28:f7:62:72:96:88:0a:c4:81:0b:36:16:
    5f:6f:da:95:16:b4:c1:0a:a9
Exponent: 65537 (0x10001)

-----BEGIN CERTIFICATE REQUEST-----
MIIBPzCBqQIBADAAMIGfMA0GCSqGSIb3DQEBAQUAA4GNADCBiQKBgQDTQ9Hmb0PY
SSIKXGRCSudIgvhlXZejxvHU8ojFW1aUNUZIXUNKYy85OCOSxSnK83tWoKhYByYe
dec/PJfhQB9eJ/2uAFEpAITrHw6a5QeKynrkzi6+sAIVkwGYR6vXO4q1O32+skps
r4sYOVeJhhgSAs4mDtdsaZaHNvOK3RJtAwIDAQABoAAwDQYJKoZIhvcNAQELBQAD
gYEAAJeNGzS+ngSscEfXPopZMnjnir9xA3MKLBlPgYhJ+2d88ACPRRwUgkod+fFl
TqaPHAzluVlHFZgn0WFxyzdA81lii2P8Ui27+Jf0D6zwTgo1elWm8Zxmg2XSagBs
++rpPmfwT67jZfj020DD5EFP0JrIMA2kI1L/Hi4dXHEzSTI=
-----END CERTIFICATE REQUEST-----

Public-Key: (1024 bit)
Modulus:
    00:d3:43:d1:e6:6f:43:d8:49:22:0a:5c:64:42:4a:
    e7:48:82:f8:65:5d:97:a3:c6:f1:d4:f2:88:c5:5b:
    56:94:35:46:48:5d:43:4a:63:2f:39:38:23:92:c5:
    29:ca:f3:7b:56:a0:a8:58:07:26:1e:75:e7:3f:3c:
    97:e1:40:1f:5e:27:fd:ae:00:51:29:00:84:eb:1f:
    0e:9a:e5:07:8a:ca:7a:e4:ce:2e:be:b0:02:15:93:
    01:98:47:ab:d7:3b:8a:b5:3b:7d:be:b2:4a:6c:af:
    8b:18:39:57:89:86:18:12:02:ce:26:0e:d7:6c:69:
    96:87:36:f3:8a:dd:12:6d:03
Exponent: 65537 (0x10001)

rsa
-----BEGIN PUBLIC KEY-----
MIGfMA0GCSqGSIb3DQEBAQUAA4GNADCBiQKBgQDTQ9Hmb0PYSSIKXGRCSudIgvhl
XZejxvHU8ojFW1aUNUZIXUNKYy85OCOSxSnK83tWoKhYByYedec/PJfhQB9eJ/2u
AFEpAITrHw6a5QeKynrkzi6+sAIVkwGYR6vXO4q1O32+skpsr4sYOVeJhhgSAs4m
DtdsaZaHNvOK3RJtAwIDAQAB
-----END PUBLIC KEY-----

-----BEGIN CERTIFICATE REQUEST-----
MIIBPzCBqQIBADAAMIGfMA0GCSqGSIb3DQEBAQUAA4GNADCBiQKBgQDuHlBIdUDA
gdTrVb+yUr24yYF/2XhE9sAoxKaQf7rE9d5TzCZTelh10RIxz+hkoAc+9f7sXZx6
DzeFCpUR9sBmzW9uVWTOevvOYYMfJK/c7buQmLp4t4USznbhvSC3SmiQ9dL31G7I
btGxBRcHZE2E0YsMRAp+5g/WFSeTb0vKNwIDAQABoAAwDQYJKoZIhvcNAQEMBQAD
gYEAYtiPm0IycJ90JC0Ku0Q1IMQX8Tg/KhnY5aUkLTdyfXJ33OWhNYJCowmtEnwk
f5Z6Lkkk8PCM6Kkcv2u2l39jfgD8CDjnGR0iwUWvINd+19RzUx6SW36r82WDBqIN
WLBhZvceVRZ5HMdBxLzEbklLDmWdc3mX2Zx/0DHAjUbreLg=
-----END CERTIFICATE REQUEST-----

Public-Key: (1024 bit)
Modulus:
    00:ee:1e:50:48:75:40:c0:81:d4:eb:55:bf:b2:52:
    bd:b8:c9:81:7f:d9:78:44:f6:c0:28:c4:a6:90:7f:
    ba:c4:f5:de:53:cc:26:53:7a:58:75:d1:12:31:cf:
    e8:64:a0:07:3e:f5:fe:ec:5d:9c:7a:0f:37:85:0a:
    95:11:f6:c0:66:cd:6f:6e:55:64:ce:7a:fb:ce:61:
    83:1f:24:af:dc:ed:bb:90:98:ba:78:b7:85:12:ce:
    76:e1:bd:20:b7:4a:68:90:f5:d2:f7:d4:6e:c8:6e:
    d1:b1:05:17:07:64:4d:84:d1:8b:0c:44:0a:7e:e6:
    0f:d6:15:27:93:6f:4b:ca:37
Exponent: 65537 (0x10001)

rsa
-----BEGIN PUBLIC KEY-----
MIGfMA0GCSqGSIb3DQEBAQUAA4GNADCBiQKBgQDuHlBIdUDAgdTrVb+yUr24yYF/
2XhE9sAoxKaQf7rE9d5TzCZTelh10RIxz+hkoAc+9f7sXZx6DzeFCpUR9sBmzW9u
VWTOevvOYYMfJK/c7buQmLp4t4USznbhvSC3SmiQ9dL31G7IbtGxBRcHZE2E0YsM
RAp+5g/WFSeTb0vKNwIDAQAB
-----END PUBLIC KEY-----

-----BEGIN CERTIFICATE REQUEST-----
MIICJzCCAZACAQAwKTELMAkGA1UEBhMCUk8xDDAKBgNVBAoMA1VUSTEMMAoGA1UE
CwwDc3NpMIGfMA0GCSqGSIb3DQEBAQUAA4GNADCBiQKBgQC8JXDNpzNVUGKL8BK2
QvZUlkau3gmMJpNoDJU3he3kG0NIlgEgRb3IcclkyjE/RvsFOBJdaPCngBDa/HEh
+cjlWgrcIqLiB3h3JepPcz2VZBD4qz13zH7LuUwBMDAaqGb5T6yF2KuD4kFDqhas
Ngjjm46MYfaL9gnU8zrF5as19wIDAQABoIG9MIG6BgkqhkiG9w0BCQ4xgawwgakw
DgYDVR0PAQH/BAQDAgWgMC4GA1UdJQQnMCUGCCsGAQUFBwMBBglghkgBhvhCBAEG
CisGAQQBgjcKAwMGAisEMBwGA1UdEQQVMBOBEXN0ZXZlQG9wZW5zc2wub3JnMB0G
A1UdDgQWBBRpwqLITI9fVHbqYAA6AZgVuTqd4DAZBgMqAwMEEhYQTXkgbmV3IGV4
dGVuc2lvbjAPBgMqAwQECB4GAGEAYgBjMA0GCSqGSIb3DQEBCwUAA4GBAKfQGfL7
E8FgMmRWtS6Hj4i3MhX/ecXkGOJpOGGzm/SzD6u0dPfMzxemIilz1V7W2HMPFULO
bubNLhMLb6h9LwDvJPuiSmtYUYnVYF2TNG04Z+d2p/K/HP36vomfXglENcqqptx9
vGXbMcEwOohkIFehT/AeWqyH5eB7N9V/gXzw
-----END CERTIFICATE REQUEST-----
Public-Key: (1024 bit)
Modulus:
    00:bc:25:70:cd:a7:33:55:50:62:8b:f0:12:b6:42:
    f6:54:96:46:ae:de:09:8c:26:93:68:0c:95:37:85:
    ed:e4:1b:43:48:96:01:20:45:bd:c8:71:c9:64:ca:
    31:3f:46:fb:05:38:12:5d:68:f0:a7:80:10:da:fc:
    71:21:f9:c8:e5:5a:0a:dc:22:a2:e2:07:78:77:25:
    ea:4f:73:3d:95:64:10:f8:ab:3d:77:cc:7e:cb:b9:
    4c:01:30:30:1a:a8:66:f9:4f:ac:85:d8:ab:83:e2:
    41:43:aa:16:ac:36:08:e3:9b:8e:8c:61:f6:8b:f6:
    09:d4:f3:3a:c5:e5:ab:35:f7
Exponent: 65537 (0x10001)

-----BEGIN PUBLIC KEY-----
MIGfMA0GCSqGSIb3DQEBAQUAA4GNADCBiQKBgQC8JXDNpzNVUGKL8BK2QvZUlkau
3gmMJpNoDJU3he3kG0NIlgEgRb3IcclkyjE/RvsFOBJdaPCngBDa/HEh+cjlWgrc
IqLiB3h3JepPcz2VZBD4qz13zH7LuUwBMDAaqGb5T6yF2KuD4kFDqhasNgjjm46M
YfaL9gnU8zrF5as19wIDAQAB
-----END PUBLIC KEY-----

t/Mytest.t .............. ok
t/release-kwalitee.t .... skipped: these tests are for release candidate testing
t/release-meta-json.t ... skipped: these tests are for release candidate testing
All tests successful.
Files=9, Tests=150,  6 wallclock secs ( 0.04 usr  0.01 sys +  5.95 cusr  0.20 csys =  6.20 CPU)
Result: PASS


PREREQUISITES:

Here is a list of prerequisites you specified and versions we
managed to load:

	  Module Name                        Have     Want
	  Crypt::OpenSSL::Guess              0.15     0.11
	  Crypt::OpenSSL::RSA                0.33        0
	  Exporter                           5.74        0
	  File::Slurper                     0.014        0
	  File::Spec::Functions              3.78        0
	  File::Temp                       0.2311        0
	  Import::Into                   1.002005        0
	  Test::Lib                         0.003        0
	  Test::More                     1.302199        0
	  XSLoader                           0.30        0

Perl module toolchain versions installed:
	Module Name                        Have
	CPANPLUS                         0.9914
	CPANPLUS::Dist::Build              0.90
	Cwd                                3.78
	ExtUtils::CBuilder             0.280236
	ExtUtils::Command                  7.70
	ExtUtils::Install                  2.22
	ExtUtils::MakeMaker                7.70
	ExtUtils::Manifest                 1.75
	ExtUtils::ParseXS                  3.51
	File::Spec                         3.78
	Module::Build                    0.4234
	Pod::Parser                           0
	Pod::Simple                        3.40
	Test2                          1.302199
	Test::Harness                      3.48
	Test::More                     1.302199
	version                          0.9932

******************************** NOTE ********************************
The comments above are created mechanically, possibly without manual
checking by the sender.  As there are many people performing automatic
tests on each upload to CPAN, it is likely that you will receive
identical messages about the same problem.

If you believe that the message is mistaken, please reply to the first
one with correction and/or additional informations, and do not take
it personally.  We appreciate your patience. :)
**********************************************************************

Additional comments:


This report was machine-generated by CPANPLUS::Dist::YACSmoke 1.08.
Powered by minismokebox version 0.68

CPANPLUS is prefering Build.PL

------------------------------
ENVIRONMENT AND OTHER CONTEXT
------------------------------

Environment variables:

    AUTOMATED_TESTING = 1
    LANG = en_GB.UTF-8
    LANGUAGE = en_GB:en
    NONINTERACTIVE_TESTING = 1
    PATH = /usr/local/sbin:/usr/local/bin:/usr/sbin:/usr/bin:/sbin:/bin:/usr/games:/usr/local/games:/snap/bin
    PERL5LIB = /home/cpan/pit/jail/xAESoFRwG1/lib/perl5:/home/cpan/pit/bare-ld/conf/perl-5.32.0/.cpanplus/5.32.0/build/z6fmvso1P9/Crypt-OpenSSL-PKCS10-0.33/blib/lib:/home/cpan/pit/bare-ld/conf/perl-5.32.0/.cpanplus/5.32.0/build/z6fmvso1P9/Crypt-OpenSSL-PKCS10-0.33/blib/arch
    PERL5_CPANPLUS_IS_RUNNING = 118437
    PERL5_CPANPLUS_IS_VERSION = 0.9914
    PERL5_MINISMOKEBOX = 0.68
    PERL5_YACSMOKE_BASE = /home/cpan/pit/bare-ld/conf/perl-5.32.0
    PERL_EXTUTILS_AUTOINSTALL = --defaultdeps
    PERL_LOCAL_LIB_ROOT = /home/cpan/pit/jail/xAESoFRwG1
    PERL_MB_OPT = --install_base "/home/cpan/pit/jail/xAESoFRwG1"
    PERL_MM_OPT = INSTALL_BASE=/home/cpan/pit/jail/xAESoFRwG1
    PERL_MM_USE_DEFAULT = 1
    SHELL = /bin/bash
    TERM = screen.xterm-256color

Perl special variables (and OS-specific diagnostics, for MSWin32):

    Perl: $^X = /home/cpan/pit/bare-ld/perl-5.32.0/bin/perl
    UID:  $<  = 1001
    EUID: $>  = 1001
    GID:  $(  = 1001 1001
    EGID: $)  = 1001 1001


-------------------------------


--

Summary of my perl5 (revision 5 version 32 subversion 0) configuration:
   
  Platform:
    osname=linux
    osvers=5.4.0-26-generic
    archname=x86_64-linux-ld
    uname='linux uchder 5.4.0-26-generic #30-ubuntu smp mon apr 20 16:58:30 utc 2020 x86_64 x86_64 x86_64 gnulinux '
    config_args='-des -Dprefix=/home/cpan/pit/bare-ld/perl-5.32.0 -Duselongdouble'
    hint=recommended
    useposix=true
    d_sigaction=define
    useithreads=undef
    usemultiplicity=undef
    use64bitint=define
    use64bitall=define
    uselongdouble=define
    usemymalloc=n
    default_inc_excludes_dot=define
    bincompat5005=undef
  Compiler:
    cc='cc'
    ccflags ='-fwrapv -fno-strict-aliasing -pipe -fstack-protector-strong -I/usr/local/include -D_LARGEFILE_SOURCE -D_FILE_OFFSET_BITS=64'
    optimize='-O2'
    cppflags='-fwrapv -fno-strict-aliasing -pipe -fstack-protector-strong -I/usr/local/include'
    ccversion=''
    gccversion='9.3.0'
    gccosandvers=''
    intsize=4
    longsize=8
    ptrsize=8
    doublesize=8
    byteorder=12345678
    doublekind=3
    d_longlong=define
    longlongsize=8
    d_longdbl=define
    longdblsize=16
    longdblkind=3
    ivtype='long'
    ivsize=8
    nvtype='long double'
    nvsize=16
    Off_t='off_t'
    lseeksize=8
    alignbytes=16
    prototype=define
  Linker and Libraries:
    ld='cc'
    ldflags =' -fstack-protector-strong -L/usr/local/lib'
    libpth=/usr/local/lib /usr/include/x86_64-linux-gnu /usr/lib /lib/x86_64-linux-gnu /lib/../lib /usr/lib/x86_64-linux-gnu /usr/lib/../lib /lib
    libs=-lpthread -lnsl -lgdbm -ldl -lm -lcrypt -lutil -lc
    perllibs=-lpthread -lnsl -ldl -lm -lcrypt -lutil -lc
    libc=libc-2.31.so
    so=so
    useshrplib=false
    libperl=libperl.a
    gnulibc_version='2.31'
  Dynamic Linking:
    dlsrc=dl_dlopen.xs
    dlext=so
    d_dlsymun=undef
    ccdlflags='-Wl,-E'
    cccdlflags='-fPIC'
    lddlflags='-shared -O2 -L/usr/local/lib -fstack-protector-strong'


Characteristics of this binary (from libperl): 
  Compile-time options:
    HAS_TIMES
    PERLIO_LAYERS
    PERL_COPY_ON_WRITE
    PERL_DONT_CREATE_GVSV
    PERL_MALLOC_WRAP
    PERL_OP_PARENT
    PERL_PRESERVE_IVUV
    USE_64_BIT_ALL
    USE_64_BIT_INT
    USE_LARGE_FILES
    USE_LOCALE
    USE_LOCALE_COLLATE
    USE_LOCALE_CTYPE
    USE_LOCALE_NUMERIC
    USE_LOCALE_TIME
    USE_LONG_DOUBLE
    USE_PERLIO
    USE_PERL_ATOF
  Built under linux
  Compiled at Jun 21 2020 10:39:53
  %ENV:
    PERL5LIB="/home/cpan/pit/jail/xAESoFRwG1/lib/perl5:/home/cpan/pit/bare-ld/conf/perl-5.32.0/.cpanplus/5.32.0/build/z6fmvso1P9/Crypt-OpenSSL-PKCS10-0.33/blib/lib:/home/cpan/pit/bare-ld/conf/perl-5.32.0/.cpanplus/5.32.0/build/z6fmvso1P9/Crypt-OpenSSL-PKCS10-0.33/blib/arch"
    PERL5_CPANPLUS_IS_RUNNING="118437"
    PERL5_CPANPLUS_IS_VERSION="0.9914"
    PERL5_MINISMOKEBOX="0.68"
    PERL5_YACSMOKE_BASE="/home/cpan/pit/bare-ld/conf/perl-5.32.0"
    PERL_EXTUTILS_AUTOINSTALL="--defaultdeps"
    PERL_LOCAL_LIB_ROOT="/home/cpan/pit/jail/xAESoFRwG1"
    PERL_MB_OPT="--install_base "/home/cpan/pit/jail/xAESoFRwG1""
    PERL_MM_OPT="INSTALL_BASE=/home/cpan/pit/jail/xAESoFRwG1"
    PERL_MM_USE_DEFAULT="1"
  @INC:
    /home/cpan/pit/jail/xAESoFRwG1/lib/perl5/5.32.0/x86_64-linux-ld
    /home/cpan/pit/jail/xAESoFRwG1/lib/perl5/5.32.0
    /home/cpan/pit/jail/xAESoFRwG1/lib/perl5/x86_64-linux-ld
    /home/cpan/pit/jail/xAESoFRwG1/lib/perl5
    /home/cpan/pit/bare-ld/conf/perl-5.32.0/.cpanplus/5.32.0/build/z6fmvso1P9/Crypt-OpenSSL-PKCS10-0.33/blib/lib
    /home/cpan/pit/bare-ld/conf/perl-5.32.0/.cpanplus/5.32.0/build/z6fmvso1P9/Crypt-OpenSSL-PKCS10-0.33/blib/arch
    /home/cpan/pit/bare-ld/perl-5.32.0/lib/site_perl/5.32.0/x86_64-linux-ld
    /home/cpan/pit/bare-ld/perl-5.32.0/lib/site_perl/5.32.0
    /home/cpan/pit/bare-ld/perl-5.32.0/lib/5.32.0/x86_64-linux-ld
    /home/cpan/pit/bare-ld/perl-5.32.0/lib/5.32.0