ExtUtils-Depends v0.8000 Perl 5 v5.8.4 i86pc-solaris-thread-multi

Status
Pass
From
Nigel Horne
Dist
ExtUtils-Depends v0.8000
Platform
Perl 5 v5.8.4 i86pc-solaris-thread-multi
Date
2019-09-22 12:52:31
ID
d6f11f18-dd37-11e9-9b5c-06cd63bdcad3
This distribution has been tested as part of the CPAN Testers
project, supporting the Perl programming language.  See
http://wiki.cpantesters.org/ for more information or email
questions to cpan-testers-discuss@perl.org


--
Dear Brian Manning,

This is a computer-generated report for ExtUtils-Depends-0.8000
on perl 5.8.4, created by CPAN-Reporter-1.2018.

Thank you for uploading your work to CPAN.  Congratulations!
All tests were successful.

Sections of this report:

    * Tester comments
    * Program output
    * Prerequisites
    * Environment and other context

------------------------------
TESTER COMMENTS
------------------------------

Additional comments from tester:

this report is from an automated smoke testing program
and was not reviewed by a human for accuracy

------------------------------
PROGRAM OUTPUT
------------------------------

Output from '/usr/bin/make test':

PERL_DL_NONLAZY=1 "/export/home/njh/perl5/perlbrew/perls/perl-5.8.4-thread/bin/perl5.8.4" "-MExtUtils::Command::MM" "-MTest::Harness" "-e" "undef *Test::Harness::Switches; test_harness(0, 'blib/lib', 'blib/arch')" t/*.t
t/01_load.t ........ ok
t/02_save_load.t ... ok
t/03_deps.t ........ ok
t/04_extra_libs.t .. skipped: test only for 'MSWin32', 'cygwin', and 'android'
All tests successful.
Files=4, Tests=43,  1 wallclock secs ( 0.04 usr  0.02 sys +  0.35 cusr  0.12 csys =  0.53 CPU)
Result: PASS

------------------------------
PREREQUISITES
------------------------------

Prerequisite modules loaded:

requires:

    Module              Need  Have    
    ------------------- ----- --------
    Data::Dumper        0     2.173   
    File::Spec          0     3.75    
    IO::File            0     1.10    
    perl                5.006 5.008004

build_requires:

    Module              Need  Have    
    ------------------- ----- --------
    ExtUtils::MakeMaker 0     7.34    

configure_requires:

    Module              Need  Have    
    ------------------- ----- --------
    Data::Dumper        0     2.173   
    ExtUtils::MakeMaker 0     7.34    
    File::Spec          0     3.75    
    IO::File            0     1.10    


------------------------------
ENVIRONMENT AND OTHER CONTEXT
------------------------------

Environment variables:

    AUTOMATED_TESTING = 1
    NONINTERACTIVE_TESTING = 1
    PATH = /export/home/njh/perl5/perlbrew/bin:/export/home/njh/perl5/perlbrew/perls/perl-5.8.4-thread/bin:/export/home/njh/src/njh/smoker/bin:/usr/bin
    PERL5LIB = /export/home/njh/.cpan/build/Moo-2.003004-32/blib/arch:/export/home/njh/.cpan/build/Moo-2.003004-32/blib/lib:/export/home/njh/.cpan/build/Sub-Quote-2.006003-2/blib/arch:/export/home/njh/.cpan/build/Sub-Quote-2.006003-2/blib/lib:/export/home/njh/.cpan/build/Devel-GlobalDestruction-0.14-15/blib/arch:/export/home/njh/.cpan/build/Devel-GlobalDestruction-0.14-15/blib/lib:/export/home/njh/.cpan/build/Sub-Exporter-Progressive-0.001013-0/blib/arch:/export/home/njh/.cpan/build/Sub-Exporter-Progressive-0.001013-0/blib/lib:/export/home/njh/.cpan/build/Devel-GlobalDestruction-XS-0.03-0/blib/arch:/export/home/njh/.cpan/build/Devel-GlobalDestruction-XS-0.03-0/blib/lib:/export/home/njh/.cpan/build/Class-Method-Modifiers-2.13-31/blib/arch:/export/home/njh/.cpan/build/Class-Method-Modifiers-2.13-31/blib/lib
    PERL5OPT = 
    PERL5_CPANPLUS_IS_RUNNING = 1292
    PERL5_CPAN_IS_RUNNING = 1292
    PERL5_CPAN_IS_RUNNING_IN_RECURSION = 1272,1292
    PERLBREW_HOME = /export/home/njh/.perlbrew
    PERLBREW_MANPATH = /export/home/njh/perl5/perlbrew/perls/perl-5.8.4-thread/man
    PERLBREW_PATH = /export/home/njh/perl5/perlbrew/bin:/export/home/njh/perl5/perlbrew/perls/perl-5.8.4-thread/bin
    PERLBREW_PERL = perl-5.8.4-thread
    PERLBREW_ROOT = /export/home/njh/perl5/perlbrew
    PERLBREW_SHELLRC_VERSION = 0.84
    PERLBREW_VERSION = 0.84
    PERL_MM_USE_DEFAULT = 1
    PERL_USE_UNSAFE_INC = 1
    SHELL = /usr/bin/bash
    TERM = dumb
    TMPDIR = /tmp/testwrapper.1278

Perl special variables (and OS-specific diagnostics, for MSWin32):

    $^X = /export/home/njh/perl5/perlbrew/perls/perl-5.8.4-thread/bin/perl5.8.4
    $UID/$EUID = 101 / 101
    $GID = 10 10
    $EGID = 10 10

Perl module toolchain versions installed:

    Module              Have    
    ------------------- --------
    CPAN                2.26    
    CPAN::Meta          2.143240
    Cwd                 3.75    
    ExtUtils::CBuilder  0.280230
    ExtUtils::Command   7.34    
    ExtUtils::Install   2.06    
    ExtUtils::MakeMaker 7.34    
    ExtUtils::Manifest  1.70    
    ExtUtils::ParseXS   3.35    
    File::Spec          3.75    
    JSON                4.02    
    JSON::PP            2.97001 
    Module::Build       0.4224  
    Module::Signature   n/a     
    Parse::CPAN::Meta   1.4414  
    Test::Harness       3.42    
    Test::More          1.302140
    YAML                n/a     
    YAML::Syck          1.31    
    version             0.9924  


--

Summary of my perl5 (revision 5 version 8 subversion 4) configuration:
  Platform:
    osname=solaris, osvers=2.11, archname=i86pc-solaris-thread-multi
    uname='sunos vultr1.bandsman.co.uk 5.11 illumos-b075503f22 i86pc i386 i86pc '
    config_args='-de -Dprefix=/export/home/njh/perl5/perlbrew/perls/perl-5.8.4-thread -Dusedevel -Dusethreads -Accflags= -Aeval:scriptdir=/export/home/njh/perl5/perlbrew/perls/perl-5.8.4-thread/bin'
    hint=recommended, useposix=true, d_sigaction=define
    usethreads=define use5005threads=undef useithreads=define usemultiplicity=define
    useperlio=define d_sfio=undef uselargefiles=define usesocks=undef
    use64bitint=undef use64bitall=undef uselongdouble=undef
    usemymalloc=n, bincompat5005=undef
  Compiler:
    cc='/opt/SUNWspro/bin/cc', ccflags ='-D_REENTRANT -I/usr/gnu/include -D_LARGEFILE_SOURCE -D_FILE_OFFSET_BITS=64',
    optimize='-O',
    cppflags='-D_REENTRANT -I/usr/gnu/include'
    ccversion='Sun C 5.10 SunOS_i386 2009/06/03', gccversion='', gccosandvers=''
    intsize=4, longsize=4, ptrsize=4, doublesize=8, byteorder=1234
    d_longlong=define, longlongsize=8, d_longdbl=define, longdblsize=12
    ivtype='long', ivsize=4, nvtype='double', nvsize=8, Off_t='off_t', lseeksize=8
    alignbytes=4, prototype=define
  Linker and Libraries:
    ld='/opt/SUNWspro/bin/cc', ldflags =' -L/usr/lib -L/usr/ccs/lib -L/opt/sunstudio12.1/prod/lib -L/lib -L/usr/gnu/lib '
    libpth=/usr/lib /usr/ccs/lib /opt/sunstudio12.1/prod/lib /lib /usr/gnu/lib
    libs=-lsocket -lnsl -lgdbm -ldb -ldl -lm -lpthread -lc
    perllibs=-lsocket -lnsl -ldl -lm -lpthread -lc
    libc=/lib/libc.so, so=so, useshrplib=true, libperl=libperl.so
    gnulibc_version=''
  Dynamic Linking:
    dlsrc=dl_dlopen.xs, dlext=so, d_dlsymun=undef, ccdlflags='  -R /export/home/njh/perl5/perlbrew/perls/perl-5.8.4-thread/lib/5.8.4/i86pc-solaris-thread-multi/CORE'
    cccdlflags='-KPIC', lddlflags='-G -L/usr/lib -L/usr/ccs/lib -L/opt/sunstudio12.1/prod/lib -L/lib -L/usr/gnu/lib'


Characteristics of this binary (from libperl): 
  Compile-time options: MULTIPLICITY USE_ITHREADS USE_LARGE_FILES PERL_IMPLICIT_CONTEXT
  Locally applied patches:
  	Devel::PatchPerl 1.52
  Built under solaris
  Compiled at Sep 15 2018 14:19:27
  %ENV:
    PERL5LIB="/export/home/njh/.cpan/build/Moo-2.003004-32/blib/arch:/export/home/njh/.cpan/build/Moo-2.003004-32/blib/lib:/export/home/njh/.cpan/build/Sub-Quote-2.006003-2/blib/arch:/export/home/njh/.cpan/build/Sub-Quote-2.006003-2/blib/lib:/export/home/njh/.cpan/build/Devel-GlobalDestruction-0.14-15/blib/arch:/export/home/njh/.cpan/build/Devel-GlobalDestruction-0.14-15/blib/lib:/export/home/njh/.cpan/build/Sub-Exporter-Progressive-0.001013-0/blib/arch:/export/home/njh/.cpan/build/Sub-Exporter-Progressive-0.001013-0/blib/lib:/export/home/njh/.cpan/build/Devel-GlobalDestruction-XS-0.03-0/blib/arch:/export/home/njh/.cpan/build/Devel-GlobalDestruction-XS-0.03-0/blib/lib:/export/home/njh/.cpan/build/Class-Method-Modifiers-2.13-31/blib/arch:/export/home/njh/.cpan/build/Class-Method-Modifiers-2.13-31/blib/lib"
    PERL5OPT=""
    PERL5_CPANPLUS_IS_RUNNING="1292"
    PERL5_CPAN_IS_RUNNING="1292"
    PERL5_CPAN_IS_RUNNING_IN_RECURSION="1272,1292"
    PERLBREW_HOME="/export/home/njh/.perlbrew"
    PERLBREW_MANPATH="/export/home/njh/perl5/perlbrew/perls/perl-5.8.4-thread/man"
    PERLBREW_PATH="/export/home/njh/perl5/perlbrew/bin:/export/home/njh/perl5/perlbrew/perls/perl-5.8.4-thread/bin"
    PERLBREW_PERL="perl-5.8.4-thread"
    PERLBREW_ROOT="/export/home/njh/perl5/perlbrew"
    PERLBREW_SHELLRC_VERSION="0.84"
    PERLBREW_VERSION="0.84"
    PERL_MM_USE_DEFAULT="1"
    PERL_USE_UNSAFE_INC="1"
  @INC:
    /export/home/njh/.cpan/build/Moo-2.003004-32/blib/arch
    /export/home/njh/.cpan/build/Moo-2.003004-32/blib/lib
    /export/home/njh/.cpan/build/Sub-Quote-2.006003-2/blib/arch
    /export/home/njh/.cpan/build/Sub-Quote-2.006003-2/blib/lib
    /export/home/njh/.cpan/build/Devel-GlobalDestruction-0.14-15/blib/arch
    /export/home/njh/.cpan/build/Devel-GlobalDestruction-0.14-15/blib/lib
    /export/home/njh/.cpan/build/Sub-Exporter-Progressive-0.001013-0/blib/arch
    /export/home/njh/.cpan/build/Sub-Exporter-Progressive-0.001013-0/blib/lib
    /export/home/njh/.cpan/build/Devel-GlobalDestruction-XS-0.03-0/blib/arch
    /export/home/njh/.cpan/build/Devel-GlobalDestruction-XS-0.03-0/blib/lib
    /export/home/njh/.cpan/build/Class-Method-Modifiers-2.13-31/blib/arch
    /export/home/njh/.cpan/build/Class-Method-Modifiers-2.13-31/blib/lib
    /export/home/njh/perl5/perlbrew/perls/perl-5.8.4-thread/lib/5.8.4/i86pc-solaris-thread-multi
    /export/home/njh/perl5/perlbrew/perls/perl-5.8.4-thread/lib/5.8.4
    /export/home/njh/perl5/perlbrew/perls/perl-5.8.4-thread/lib/site_perl/5.8.4/i86pc-solaris-thread-multi
    /export/home/njh/perl5/perlbrew/perls/perl-5.8.4-thread/lib/site_perl/5.8.4
    /export/home/njh/perl5/perlbrew/perls/perl-5.8.4-thread/lib/site_perl
    .