Back
From: metabase:user:322078bc-2aae-11df-837a-5e0a49663a4f
Subject: PASS CGI-Session-4.43 v5.12.2 FreeBSD
Date: 2011-05-02T02:56:55Z
This distribution has been tested as part of the CPAN Testers
project, supporting the Perl programming language. See
http://wiki.cpantesters.org/ for more information or email
questions to cpan-testers-discuss@perl.org
--
Dear Mark Stosberg,
This is a computer-generated error report created automatically by
CPANPLUS, version 0.9104. Testers personal comments may appear
at the end of this report.
MAKE TEST passed:
t/api3_db_file.t ................ ok
t/api3_db_file_freezethaw.t ..... skipped: FreezeThaw not available
t/api3_db_file_storable.t ....... ok
t/api3_db_file_storable_incr.t .. ok
t/api3_file.t ................... ok
t/api3_file_freezethaw.t ........ skipped: FreezeThaw not available
t/api3_file_freezethaw_incr.t ... skipped: FreezeThaw not available
t/api3_file_storable.t .......... ok
t/api3_file_storable_incr.t ..... ok
t/api3_incr.t ................... ok
#Using Storable as object serializer
t/api3_obj_store.t .............. ok
t/api3_obj_store_db_file.t ...... ok
t/bug21952.t .................... ok
t/bug24285.t .................... ok
t/cgi_simple.t .................. skipped: CGI::Simple not installed, so skipping related tests.
t/complex_ds.t .................. ok
t/driver_dbi.t .................. skipped: DBI module not found
t/expire.t ...................... ok
# The found session has been deleted and flushed
t/find.t ........................ ok
t/flush.t ....................... ok
t/g4.t .......................... ok
t/g4_dbfile.t ................... ok
t/g4_dbfile_freezethaw.t ........ skipped: FreezeThaw is NOT available
t/g4_dbfile_storable.t .......... ok
t/g4_freezethaw.t ............... skipped: FreezeThaw is NOT available
t/g4_mysql.t .................... skipped: DBI is NOT available
t/g4_mysql_freezethaw.t ......... skipped: DBI is NOT available
t/g4_mysql_storable.t ........... skipped: DBI is NOT available
t/g4_postgresql.t ............... skipped: DataSource is not known
t/g4_postgresql_freezethaw.t .... skipped: DataSource is not known
t/g4_postgresql_storable.t ...... skipped: DataSource is not known
t/g4_sqlite.t ................... skipped: DBI is NOT available
t/g4_sqlite_freezethaw.t ........ skipped: DBI is NOT available
t/g4_sqlite_storable.t .......... skipped: DBI is NOT available
t/g4_storable.t ................. ok
t/header.t ...................... ok
t/ip_matches.t .................. ok
t/is_new.t ...................... ok
Argument "wrong" isn't numeric in numeric ne (!=) at
/usr/home/cpan/pit/bare/conf/perl-5.12.2/.cpanplus/5.12.2/build/CGI-Session-4.43/blib/lib/CGI/Session.pm line 684 (#1)
(W numeric) The indicated string was fed as an argument to an operator
that expected a numeric value instead. If you're fortunate the message
will identify which operator was so unfortunate.
t/load.t ........................ ok
t/load_with_undef.t ............. ok
t/name.t ........................ ok
t/new_with_undef.t .............. ok
t/parse_dsn.t ................... ok
t/remote_addr.t ................. ok
# Check in STORE of original item
# Check in STORE of stored/retrieved item
# Check in LOAD after loading from session
t/session_param_undef.t ......... ok
t/str2seconds.t ................. ok
t/symlink_db_file.t ............. ok
t/symlink_file.t ................ ok
All tests successful.
Files=48, Tests=674, 24 wallclock secs ( 0.23 usr 0.25 sys + 7.59 cusr 1.61 csys = 9.69 CPU)
Result: PASS
[MSG] [Mon May 2 03:56:53 2011] Sending test report for 'CGI-Session-4.43'
This report was machine-generated by CPANPLUS::Dist::YACSmoke 0.62.
Powered by minismokebox version 0.44
------------------------------
ENVIRONMENT AND OTHER CONTEXT
------------------------------
Environment variables:
AUTOMATED_TESTING = 1
PATH = /sbin:/bin:/usr/sbin:/usr/bin:/usr/games:/usr/local/sbin:/usr/local/bin:/home/cpan/bin
PERL5LIB = :/usr/home/cpan/pit/bare/conf/perl-5.12.2/.cpanplus/5.12.2/build/CGI-Session-4.43/blib/lib:/usr/home/cpan/pit/bare/conf/perl-5.12.2/.cpanplus/5.12.2/build/CGI-Session-4.43/blib/arch
PERL5_CPANPLUS_IS_RUNNING = 63586
PERL5_CPANPLUS_IS_VERSION = 0.9104
PERL5_MINISMOKEBOX = 0.44
PERL5_YACSMOKE_BASE = /usr/home/cpan/pit/bare/conf/perl-5.12.2
PERL_EXTUTILS_AUTOINSTALL = --defaultdeps
PERL_MM_USE_DEFAULT = 1
SHELL = /usr/local/bin/bash
TERM = screen
Perl special variables (and OS-specific diagnostics, for MSWin32):
Perl: $^X = /usr/home/cpan/pit/bare/perl-5.12.2/bin/perl
UID: $< = 1002
EUID: $> = 1002
GID: $( = 1002 1002
EGID: $) = 1002 1002
-------------------------------
--
Summary of my perl5 (revision 5 version 12 subversion 2) configuration:
Platform:
osname=freebsd, osvers=9.0-current-201101, archname=amd64-freebsd
uname='freebsd flooble.bingosnet.co.uk 9.0-current-201101 freebsd 9.0-current-201101 #0: mon jan 3 22:15:39 utc 2011 root@farrell.cse.buffalo.edu:usrobjusrsrcsysgeneric amd64 '
config_args='-des -Dprefix=/usr/home/cpan/pit/bare/perl-5.12.2'
hint=recommended, useposix=true, d_sigaction=define
useithreads=undef, usemultiplicity=undef
useperlio=define, d_sfio=undef, uselargefiles=define, usesocks=undef
use64bitint=define, use64bitall=define, uselongdouble=undef
usemymalloc=n, bincompat5005=undef
Compiler:
cc='cc', ccflags ='-DHAS_FPSETMASK -DHAS_FLOATINGPOINT_H -fno-strict-aliasing -pipe -fstack-protector -I/usr/local/include',
optimize='-O',
cppflags='-DHAS_FPSETMASK -DHAS_FLOATINGPOINT_H -fno-strict-aliasing -pipe -fstack-protector -I/usr/local/include'
ccversion='', gccversion='4.2.1 20070719 [FreeBSD]', gccosandvers=''
intsize=4, longsize=8, ptrsize=8, doublesize=8, byteorder=12345678
d_longlong=define, longlongsize=8, d_longdbl=define, longdblsize=16
ivtype='long', ivsize=8, nvtype='double', nvsize=8, Off_t='off_t', lseeksize=8
alignbytes=8, prototype=define
Linker and Libraries:
ld='cc', ldflags ='-Wl,-E -fstack-protector -L/usr/local/lib'
libpth=/usr/lib /usr/local/lib
libs=-lgdbm -lm -lcrypt -lutil -lc
perllibs=-lm -lcrypt -lutil -lc
libc=, so=so, useshrplib=false, libperl=libperl.a
gnulibc_version=''
Dynamic Linking:
dlsrc=dl_dlopen.xs, dlext=so, d_dlsymun=undef, ccdlflags=' '
cccdlflags='-DPIC -fPIC', lddlflags='-shared -L/usr/local/lib -fstack-protector'
Characteristics of this binary (from libperl):
Compile-time options: PERL_DONT_CREATE_GVSV PERL_MALLOC_WRAP USE_64_BIT_ALL
USE_64_BIT_INT USE_LARGE_FILES USE_PERLIO
USE_PERL_ATOF
Built under freebsd
Compiled at Apr 29 2011 02:19:53
%ENV:
PERL5LIB=":/usr/home/cpan/pit/bare/conf/perl-5.12.2/.cpanplus/5.12.2/build/CGI-Session-4.43/blib/lib:/usr/home/cpan/pit/bare/conf/perl-5.12.2/.cpanplus/5.12.2/build/CGI-Session-4.43/blib/arch"
PERL5_CPANPLUS_IS_RUNNING="63586"
PERL5_CPANPLUS_IS_VERSION="0.9104"
PERL5_MINISMOKEBOX="0.44"
PERL5_YACSMOKE_BASE="/usr/home/cpan/pit/bare/conf/perl-5.12.2"
PERL_EXTUTILS_AUTOINSTALL="--defaultdeps"
PERL_MM_USE_DEFAULT="1"
@INC:
/usr/home/cpan/pit/bare/conf/perl-5.12.2/.cpanplus/5.12.2/build/CGI-Session-4.43/blib/lib
/usr/home/cpan/pit/bare/conf/perl-5.12.2/.cpanplus/5.12.2/build/CGI-Session-4.43/blib/arch
/usr/home/cpan/pit/bare/perl-5.12.2/lib/site_perl/5.12.2/amd64-freebsd
/usr/home/cpan/pit/bare/perl-5.12.2/lib/site_perl/5.12.2
/usr/home/cpan/pit/bare/perl-5.12.2/lib/5.12.2/amd64-freebsd
/usr/home/cpan/pit/bare/perl-5.12.2/lib/5.12.2
.