Report for Dist-Zilla-Plugin-CheckChangesHasContent-0.008

Back
From: metabase:user:30977d10-2aae-11df-837a-5e0a49663a4f
Subject: PASS Dist-Zilla-Plugin-CheckChangesHasContent-0.008 v5.23.8 GNU/Linux
Date: 2016-03-04T00:20:03Z

This distribution has been tested as part of the CPAN Testers
project, supporting the Perl programming language.  See
http://wiki.cpantesters.org/ for more information or email
questions to cpan-testers-discuss@perl.org


--
Dear David Golden,

This is a computer-generated report for Dist-Zilla-Plugin-CheckChangesHasContent-0.008
on perl 5.23.8, created by CPAN-Reporter-1.2017.

Thank you for uploading your work to CPAN.  Congratulations!
All tests were successful.

Sections of this report:

    * Tester comments
    * Program output
    * Prerequisites
    * Environment and other context

------------------------------
TESTER COMMENTS
------------------------------

Additional comments from tester:

this report is from an automated smoke testing program
and was not reviewed by a human for accuracy

------------------------------
PROGRAM OUTPUT
------------------------------

Output from '/usr/bin/make test':

PERL_DL_NONLAZY=1 "/home/stro/perl/5.23.8m/bin/perl" "-MExtUtils::Command::MM" "-MTest::Harness" "-e" "undef *Test::Harness::Switches; test_harness(0, 'blib/lib', 'blib/arch')" t/*.t
# 
# Versions for all modules listed in MYMETA.json (including optional ones):
# 
# === Configure Requires ===
# 
#     Module              Want    Have
#     ------------------- ---- -------
#     ExtUtils::MakeMaker 6.17 7.10_01
# 
# === Build Requires ===
# 
#     Module              Want    Have
#     ------------------- ---- -------
#     ExtUtils::MakeMaker  any 7.10_01
# 
# === Test Requires ===
# 
#     Module              Want     Have
#     ------------------- ---- --------
#     Capture::Tiny        any     0.36
#     Cwd                  any     3.63
#     Dist::Zilla::Tester  any    5.043
#     ExtUtils::MakeMaker  any  7.10_01
#     File::Spec           any     3.63
#     Path::Tiny           any    0.082
#     Test::Harness        any     3.36
#     Test::More          0.88 1.001014
#     Try::Tiny            any     0.25
# 
# === Test Recommends ===
# 
#     Module         Want     Have
#     ---------- -------- --------
#     CPAN::Meta 2.120900 2.150005
# 
# === Runtime Requires ===
# 
#     Module                               Want     Have
#     -------------------------------- -------- --------
#     Data::Section                    0.200002 0.200006
#     Dist::Zilla                      2.100950    5.043
#     Dist::Zilla::File::InMemory           any    5.043
#     Dist::Zilla::Role::BeforeRelease      any    5.043
#     Dist::Zilla::Role::FileGatherer       any    5.043
#     Dist::Zilla::Role::FileMunger         any    5.043
#     Dist::Zilla::Role::TextTemplate       any    5.043
#     File::pushd                           any    1.009
#     Moose                                0.99   2.1605
#     Moose::Util::TypeConstraints          any   2.1605
#     Sub::Exporter::ForMethods             any 0.100052
#     autodie                              2.00     2.29
#     namespace::autoclean                 0.09     0.28
#     strict                                any     1.10
#     warnings                              any     1.35
# 
t/00-report-prereqs.t ....... ok
t/checkhascontent.t ......... ok
t/test_changeshascontent.t .. ok
All tests successful.
Files=3, Tests=40,  2 wallclock secs ( 0.02 usr  0.00 sys +  1.67 cusr  0.12 csys =  1.81 CPU)
Result: PASS

------------------------------
PREREQUISITES
------------------------------

Prerequisite modules loaded:

requires:

    Module                           Need     Have    
    -------------------------------- -------- --------
    autodie                          2.00     2.29    
    Data::Section                    0.200002 0.200006
    Dist::Zilla                      2.100950 5.043   
    Dist::Zilla::File::InMemory      0        5.043   
    Dist::Zilla::Role::BeforeRelease 0        5.043   
    Dist::Zilla::Role::FileGatherer  0        5.043   
    Dist::Zilla::Role::FileMunger    0        5.043   
    Dist::Zilla::Role::TextTemplate  0        5.043   
    File::pushd                      0        1.009   
    Moose                            0.99     2.1605  
    Moose::Util::TypeConstraints     0        2.1605  
    namespace::autoclean             0.09     0.28    
    perl                             5.006    5.023008
    strict                           0        1.10    
    Sub::Exporter::ForMethods        0        0.100052
    warnings                         0        1.35    

build_requires:

    Module                           Need     Have    
    -------------------------------- -------- --------
    Capture::Tiny                    0        0.36    
    Cwd                              0        3.63    
    Dist::Zilla::Tester              0        5.043   
    ExtUtils::MakeMaker              0        7.10_01 
    File::Spec                       0        3.63    
    Path::Tiny                       0        0.082   
    Test::Harness                    0        3.36    
    Test::More                       0.88     1.001014
    Try::Tiny                        0        0.25    

configure_requires:

    Module                           Need     Have    
    -------------------------------- -------- --------
    ExtUtils::MakeMaker              6.17     7.10_01 
    perl                             5.006    5.023008

opt_build_requires:

    Module                           Need     Have    
    -------------------------------- -------- --------
    CPAN::Meta                       2.120900 2.150005


------------------------------
ENVIRONMENT AND OTHER CONTEXT
------------------------------

Environment variables:

    AUTOMATED_TESTING = 1
    LANG = en_US.UTF-8
    PATH = /usr/local/bin:/usr/bin:/bin:/usr/local/games:/usr/games
    PERL5LIB = 
    PERL5OPT = 
    PERL5_CPANPLUS_IS_RUNNING = 19494
    PERL5_CPAN_IS_RUNNING = 19494
    PERL5_CPAN_IS_RUNNING_IN_RECURSION = 5648,19494
    PERL_CR_SMOKER_CURRENT = Dist-Zilla-PluginBundle-Author-RTHOMPSON-0.160630
    PERL_EXTUTILS_AUTOINSTALL = --defaultdeps
    PERL_MM_USE_DEFAULT = 1
    SHELL = /bin/bash
    TERM = xterm

Perl special variables (and OS-specific diagnostics, for MSWin32):

    $^X = /home/stro/perl/5.23.8m/bin/perl
    $UID/$EUID = 1000 / 1000
    $GID = 1000 24 25 29 30 44 46 108 114 1000
    $EGID = 1000 24 25 29 30 44 46 108 114 1000

Perl module toolchain versions installed:

    Module              Have    
    ------------------- --------
    CPAN                2.11    
    CPAN::Meta          2.150005
    Cwd                 3.63    
    ExtUtils::CBuilder  0.280225
    ExtUtils::Command   7.10    
    ExtUtils::Install   2.04    
    ExtUtils::MakeMaker 7.10_01 
    ExtUtils::Manifest  1.70    
    ExtUtils::ParseXS   3.31    
    File::Spec          3.63    
    JSON                2.90    
    JSON::PP            2.27300 
    Module::Build       0.4216  
    Module::Signature   n/a     
    Parse::CPAN::Meta   1.4417  
    Test::Harness       3.36    
    Test::More          1.001014
    YAML                1.15    
    YAML::Syck          1.29    
    version             0.9914  


--

Summary of my perl5 (revision 5 version 23 subversion 8) configuration:
   
  Platform:
    osname=linux, osvers=3.16.0-4-amd64, archname=x86_64-linux-multi
    uname='linux vm-debian-001 3.16.0-4-amd64 #1 smp debian 3.16.7-ckt11-1 (2015-05-24) x86_64 gnulinux '
    config_args=''
    hint=recommended, useposix=true, d_sigaction=define
    useithreads=undef, usemultiplicity=define
    use64bitint=define, use64bitall=define, uselongdouble=undef
    usemymalloc=n, bincompat5005=undef
  Compiler:
    cc='cc', ccflags ='-fwrapv -fno-strict-aliasing -pipe -fstack-protector-strong -I/usr/local/include -D_LARGEFILE_SOURCE -D_FILE_OFFSET_BITS=64 -D_FORTIFY_SOURCE=2',
    optimize='-O2',
    cppflags='-fwrapv -fno-strict-aliasing -pipe -fstack-protector-strong -I/usr/local/include'
    ccversion='', gccversion='4.9.2', gccosandvers=''
    intsize=4, longsize=8, ptrsize=8, doublesize=8, byteorder=12345678, doublekind=3
    d_longlong=define, longlongsize=8, d_longdbl=define, longdblsize=16, longdblkind=3
    ivtype='long', ivsize=8, nvtype='double', nvsize=8, Off_t='off_t', lseeksize=8
    alignbytes=8, prototype=define
  Linker and Libraries:
    ld='cc', ldflags =' -fstack-protector-strong -L/usr/local/lib'
    libpth=/usr/local/lib /usr/lib/gcc/x86_64-linux-gnu/4.9/include-fixed /usr/include/x86_64-linux-gnu /usr/lib /lib/x86_64-linux-gnu /lib/../lib /usr/lib/x86_64-linux-gnu /usr/lib/../lib /lib
    libs=-lpthread -lnsl -ldl -lm -lcrypt -lutil -lc
    perllibs=-lpthread -lnsl -ldl -lm -lcrypt -lutil -lc
    libc=libc-2.19.so, so=so, useshrplib=false, libperl=libperl.a
    gnulibc_version='2.19'
  Dynamic Linking:
    dlsrc=dl_dlopen.xs, dlext=so, d_dlsymun=undef, ccdlflags='-Wl,-E'
    cccdlflags='-fPIC', lddlflags='-shared -O2 -L/usr/local/lib -fstack-protector-strong'


Characteristics of this binary (from libperl): 
  Compile-time options: HAS_TIMES MULTIPLICITY PERLIO_LAYERS
                        PERL_COPY_ON_WRITE PERL_DONT_CREATE_GVSV
                        PERL_HASH_FUNC_ONE_AT_A_TIME_HARD
                        PERL_IMPLICIT_CONTEXT PERL_MALLOC_WRAP
                        PERL_PRESERVE_IVUV USE_64_BIT_ALL USE_64_BIT_INT
                        USE_LARGE_FILES USE_LOCALE USE_LOCALE_COLLATE
                        USE_LOCALE_CTYPE USE_LOCALE_NUMERIC USE_LOCALE_TIME
                        USE_PERLIO USE_PERL_ATOF
  Built under linux
  Compiled at Feb 24 2016 03:43:12
  %ENV:
    PERL5LIB=""
    PERL5OPT=""
    PERL5_CPANPLUS_IS_RUNNING="19494"
    PERL5_CPAN_IS_RUNNING="19494"
    PERL5_CPAN_IS_RUNNING_IN_RECURSION="5648,19494"
    PERL_CR_SMOKER_CURRENT="Dist-Zilla-PluginBundle-Author-RTHOMPSON-0.160630"
    PERL_EXTUTILS_AUTOINSTALL="--defaultdeps"
    PERL_MM_USE_DEFAULT="1"
  @INC:
    /home/stro/perl/5.23.8m/lib/site_perl/5.23.8/x86_64-linux-multi
    /home/stro/perl/5.23.8m/lib/site_perl/5.23.8
    /home/stro/perl/5.23.8m/lib/5.23.8/x86_64-linux-multi
    /home/stro/perl/5.23.8m/lib/5.23.8
    .