Report for Graphics-Color-0.31

Back
From: metabase:user:76c9b354-b64b-11e6-b74e-2b512289fef6
Subject: PASS Graphics-Color-0.31 v5.22.1 GNU/Linux
Date: 2016-12-27T15:40:49Z

This distribution has been tested as part of the CPAN Testers
project, supporting the Perl programming language.  See
http://wiki.cpantesters.org/ for more information or email
questions to cpan-testers-discuss@perl.org


--
Dear Cory G Watson,

This is a computer-generated report for Graphics-Color-0.31
on perl 5.22.1, created by CPAN-Reporter-1.2018.

Thank you for uploading your work to CPAN.  Congratulations!
All tests were successful.

Sections of this report:

    * Tester comments
    * Program output
    * Prerequisites
    * Environment and other context

------------------------------
TESTER COMMENTS
------------------------------

Additional comments from tester:

none provided

------------------------------
PROGRAM OUTPUT
------------------------------

Output from '/usr/bin/gmake test':

PERL_DL_NONLAZY=1 "/usr/bin/perl" "-MExtUtils::Command::MM" "-MTest::Harness" "-e" "undef *Test::Harness::Switches; test_harness(0, 'blib/lib', 'blib/arch')" t/*.t t/author/*.t
# Testing Graphics::Color 0.31, Perl 5.022001, /usr/bin/perl
t/00-load.t .............. ok
t/01-cmyk.t .............. ok
t/01-hsl.t ............... ok
t/01-hsv.t ............... ok
t/01-rgb.t ............... ok
t/01-yiq.t ............... ok
t/01-yuv.t ............... ok
t/11-color-library.t ..... ok
t/author/pod-coverage.t .. skipped: Pod::Coverage::Moose required for testing POD coverage
t/author/pod.t ........... ok
t/release-pod-syntax.t ... skipped: these tests are for release candidate testing
t/release-synopsis.t ..... skipped: these tests are for release candidate testing
All tests successful.
Files=12, Tests=120,  5 wallclock secs ( 0.07 usr  0.03 sys +  4.34 cusr  0.37 csys =  4.81 CPU)
Result: PASS

------------------------------
PREREQUISITES
------------------------------

Prerequisite modules loaded:

requires:

    Module                       Need Have    
    ---------------------------- ---- --------
    Color::Library               0    0.021   
    Moose                        0    2.1804  
    Moose::Role                  0    2.1804  
    Moose::Util::TypeConstraints 0    2.1804  
    MooseX::Aliases              0.10 0.11    
    MooseX::Clone                0    0.06    
    MooseX::Storage::Deferred    0    0.52    
    MooseX::Types                0    0.46    
    MooseX::Types::Moose         0    0.46    

build_requires:

    Module                       Need Have    
    ---------------------------- ---- --------
    strict                       0    1.09    
    Test::More                   0    1.302059
    Test::Number::Delta          0    1.06    
    warnings                     0    1.34    

configure_requires:

    Module                       Need Have    
    ---------------------------- ---- --------
    ExtUtils::MakeMaker          6.30 7.24    


------------------------------
ENVIRONMENT AND OTHER CONTEXT
------------------------------

Environment variables:

    LANG = en_US.UTF-8
    NONINTERACTIVE_TESTING = 1
    PATH = /usr/local/sbin:/usr/local/bin:/sbin:/bin:/usr/sbin:/usr/bin:/root/bin:/opt/apache-ant-1.9.7/bin
    PERL5LIB = 
    PERL5OPT = 
    PERL5_CPANPLUS_IS_RUNNING = 28597
    PERL5_CPAN_IS_RUNNING = 28597
    PERL_MM_USE_DEFAULT = 1
    SHELL = /bin/bash
    TERM = xterm

Perl special variables (and OS-specific diagnostics, for MSWin32):

    $^X = /usr/bin/perl
    $UID/$EUID = 0 / 0
    $GID = 0 0 500
    $EGID = 0 0 500

Perl module toolchain versions installed:

    Module              Have    
    ------------------- --------
    CPAN                2.14    
    CPAN::Meta          2.150010
    Cwd                 3.62    
    ExtUtils::CBuilder  0.280224
    ExtUtils::Command   7.24    
    ExtUtils::Install   2.04    
    ExtUtils::MakeMaker 7.24    
    ExtUtils::Manifest  1.70    
    ExtUtils::ParseXS   3.30    
    File::Spec          3.62    
    JSON                2.90    
    JSON::PP            2.27400 
    Module::Build       0.4220  
    Module::Signature   0.80    
    Parse::CPAN::Meta   2.150010
    Test::Harness       3.36    
    Test::More          1.302059
    YAML                1.18    
    YAML::Syck          1.29    
    version             0.9917  


--

Summary of my perl5 (revision 5 version 22 subversion 1) configuration:
   
  Platform:
    osname=linux, osvers=2.6.32-573.7.1.el6.x86_64, archname=x86_64-linux-ld
    uname='linux dwxtaibus07 2.6.32-573.7.1.el6.x86_64 #1 smp thu sep 10 13:42:16 edt 2015 x86_64 x86_64 x86_64 gnulinux '
    config_args=''
    hint=recommended, useposix=true, d_sigaction=define
    useithreads=undef, usemultiplicity=undef
    use64bitint=define, use64bitall=define, uselongdouble=define
    usemymalloc=n, bincompat5005=undef
  Compiler:
    cc='gcc', ccflags ='-fwrapv -fno-strict-aliasing -pipe -fstack-protector -I/usr/local/include -DDEBUGGING -D_LARGEFILE_SOURCE -D_FILE_OFFSET_BITS=64 -D_FORTIFY_SOURCE=2',
    optimize='-O2',
    cppflags='-fwrapv -fno-strict-aliasing -pipe -fstack-protector -I/usr/local/include -DDEBUGGING'
    ccversion='', gccversion='4.4.7 20120313 (Red Hat 4.4.7-16)', gccosandvers=''
    intsize=4, longsize=8, ptrsize=8, doublesize=8, byteorder=12345678, doublekind=3
    d_longlong=define, longlongsize=8, d_longdbl=define, longdblsize=16, longdblkind=3
    ivtype='long', ivsize=8, nvtype='long double', nvsize=16, Off_t='off_t', lseeksize=8
    alignbytes=16, prototype=define
  Linker and Libraries:
    ld='gcc', ldflags =' -fstack-protector -L/usr/local/lib'
    libpth=/usr/local/lib /usr/lib /lib/../lib64 /usr/lib/../lib64 /lib /lib64 /usr/lib64 /usr/local/lib64
    libs=-lpthread -lnsl -lgdbm -ldb -ldl -lm -lcrypt -lutil -lc
    perllibs=-lpthread -lnsl -ldl -lm -lcrypt -lutil -lc
    libc=libc-2.12.so, so=so, useshrplib=false, libperl=libperl.a
    gnulibc_version='2.12'
  Dynamic Linking:
    dlsrc=dl_dlopen.xs, dlext=so, d_dlsymun=undef, ccdlflags='-Wl,-E'
    cccdlflags='-fPIC', lddlflags='-shared -O2 -L/usr/local/lib -fstack-protector'


Characteristics of this binary (from libperl): 
  Compile-time options: DEBUGGING HAS_TIMES PERLIO_LAYERS
                        PERL_DONT_CREATE_GVSV
                        PERL_HASH_FUNC_ONE_AT_A_TIME_HARD PERL_MALLOC_WRAP
                        PERL_NEW_COPY_ON_WRITE PERL_PRESERVE_IVUV
                        USE_64_BIT_ALL USE_64_BIT_INT USE_FAST_STDIO
                        USE_LARGE_FILES USE_LOCALE USE_LOCALE_COLLATE
                        USE_LOCALE_CTYPE USE_LOCALE_NUMERIC USE_LOCALE_TIME
                        USE_LONG_DOUBLE USE_PERLIO USE_PERL_ATOF
  Built under linux
  Compiled at Dec 29 2015 12:53:50
  %ENV:
    PERL5LIB=""
    PERL5OPT=""
    PERL5_CPANPLUS_IS_RUNNING="28597"
    PERL5_CPAN_IS_RUNNING="28597"
    PERL_MM_USE_DEFAULT="1"
  @INC:
    /usr/local/lib/perl5/site_perl/5.22.1/x86_64-linux-ld
    /usr/local/lib/perl5/site_perl/5.22.1
    /usr/local/lib/perl5/5.22.1/x86_64-linux-ld
    /usr/local/lib/perl5/5.22.1
    /usr/local/lib/perl5/site_perl/5.22.0/x86_64-linux-ld
    /usr/local/lib/perl5/site_perl/5.22.0
    /usr/local/lib/perl5/site_perl
    /usr/local/lib/perl5/site_perl/5.22.0/x86_64-linix-ld
    /usr/local/lib/perl5/site_perl/5.22.0/x86_64-linux-ld
    /usr/local/lib/perl5/site_perl/5.22.0
    .