Test-Double v0.05 Perl 5 v5.34.1 x86_64-linux
- Status
- Pass
- From
- Slaven Rezić
- Dist
-
Test-Double v0.05
- Platform
- Perl 5 v5.34.1 x86_64-linux
- Date
- 2022-04-24 06:29:05
- ID
- d730cb06-c397-11ec-99af-22211f24ea8f
This distribution has been tested as part of the CPAN Testers
project, supporting the Perl programming language. See
http://wiki.cpantesters.org/ for more information or email
questions to cpan-testers-discuss@perl.org
--
Dear NAKAGAWA Masaki,
This is a computer-generated report for Test-Double-0.05
on perl 5.34.1, created by CPAN-Reporter-1.2018.
Thank you for uploading your work to CPAN. Congratulations!
All tests were successful.
Sections of this report:
* Tester comments
* Program output
* Prerequisites
* Environment and other context
------------------------------
TESTER COMMENTS
------------------------------
Additional comments from tester:
none provided
------------------------------
PROGRAM OUTPUT
------------------------------
Output from '/usr/bin/make test':
PERL_DL_NONLAZY=1 "/opt/perl-5.34.1/bin/perl" "-MExtUtils::Command::MM" "-MTest::Harness" "-e" "undef *Test::Harness::Switches; test_harness(0, 'inc', 'blib/lib', 'blib/arch')" t/*.t t/*/*.t
t/00_compile.t ........ ok
t/01_stub.t ........... ok
t/02_mock.t ........... ok
t/03_with.t ........... ok
t/04_at_most.t ........ ok
t/05_times.t .......... ok
t/06_at_least.t ....... ok
t/07_verify_result.t .. ok
t/08_verify_fail.t .... ok
All tests successful.
Files=9, Tests=9, 1 wallclock secs ( 0.06 usr 0.01 sys + 0.80 cusr 0.15 csys = 1.02 CPU)
Result: PASS
------------------------------
PREREQUISITES
------------------------------
Prerequisite modules loaded:
requires:
Module Need Have
------------------- ---- --------
Class::Monadic 0 0.04
Exporter 0 5.76
List::MoreUtils 0 0.430
Scalar::Util 1.14 1.62
Test::Deep 0 1.130
Test::More 0.96 1.302190
build_requires:
Module Need Have
------------------- ---- --------
ExtUtils::MakeMaker 6.36 7.64
Test::More 0.96 1.302190
Test::Tester 0 1.302190
configure_requires:
Module Need Have
------------------- ---- --------
ExtUtils::MakeMaker 6.36 7.64
------------------------------
ENVIRONMENT AND OTHER CONTEXT
------------------------------
Environment variables:
LANG = en_US.UTF-8
PATH = /usr/local/bin:/usr/bin:/bin:/usr/local/sbin:/usr/sbin:/sbin:/home/cpansand/bin/linux-gnu:/home/cpansand/bin/sh:/home/cpansand/bin:/usr/games:/home/cpansand/devel:/home/eserte/src/srezic-misc/scripts
PERL5LIB = /home/cpansand/.cpan/build/2022042405/Class-Monadic-0.04-0/blib/arch:/home/cpansand/.cpan/build/2022042405/Class-Monadic-0.04-0/blib/lib:/home/cpansand/.cpan/build/2022042405/Class-Method-Modifiers-Fast-0.041-0/blib/arch:/home/cpansand/.cpan/build/2022042405/Class-Method-Modifiers-Fast-0.041-0/blib/lib:/home/cpansand/.cpan/build/2022042405/Time-Piece-MySQL-0.06-0/blib/arch:/home/cpansand/.cpan/build/2022042405/Time-Piece-MySQL-0.06-0/blib/lib
PERL5OPT =
PERL5_CPANPLUS_IS_RUNNING = 2487269
PERL5_CPAN_IS_RUNNING = 2487269
PERL5_CPAN_IS_RUNNING_IN_RECURSION = 2487249,2487269
PERLDOC = -MPod::Perldoc::ToTextOverstrike
PERL_BATCH = yes
PERL_CANARY_STABILITY_NOPROMPT = 1
PERL_CPAN_REPORTER_CONFIG = /var/tmp/cpansmoker-1023/2022042405/cpanreporter_000_config.ini
PERL_EXTUTILS_AUTOINSTALL = --defaultdeps
PERL_USE_UNSAFE_INC = 1
SHELL = /usr/bin/zsh
TERM = screen
TMPDIR = /var/tmp/cpansmoker-1023/2022042405
Perl special variables (and OS-specific diagnostics, for MSWin32):
$^X = /opt/perl-5.34.1/bin/perl
$UID/$EUID = 1023 / 1023
$GID = 1023 1023
$EGID = 1023 1023
Perl module toolchain versions installed:
Module Have
------------------- --------
CPAN 2.34
CPAN::Meta 2.150010
Cwd 3.80
ExtUtils::CBuilder 0.280236
ExtUtils::Command 7.64
ExtUtils::Install 2.20
ExtUtils::MakeMaker 7.64
ExtUtils::Manifest 1.73
ExtUtils::ParseXS 3.43
File::Spec 3.80
JSON 4.05
JSON::PP 4.08
Module::Build 0.4231
Module::Signature n/a
Parse::CPAN::Meta 2.150010
Test::Harness 3.44
Test::More 1.302190
YAML 1.30
YAML::Syck 1.34
version 0.9928
--
Summary of my perl5 (revision 5 version 34 subversion 1) configuration:
Platform:
osname=linux
osvers=5.10.0-10-amd64
archname=x86_64-linux
uname='linux cloud7.bbbike.org 5.10.0-10-amd64 #1 smp debian 5.10.84-1 (2021-12-08) x86_64 gnulinux '
config_args='-ds -e -Dprefix=/opt/perl-5.34.1 -Dcf_email=srezic@cpan.org'
hint=recommended
useposix=true
d_sigaction=define
useithreads=undef
usemultiplicity=undef
use64bitint=define
use64bitall=define
uselongdouble=undef
usemymalloc=n
default_inc_excludes_dot=define
Compiler:
cc='cc'
ccflags ='-fwrapv -fno-strict-aliasing -pipe -fstack-protector-strong -I/usr/local/include -D_LARGEFILE_SOURCE -D_FILE_OFFSET_BITS=64 -D_FORTIFY_SOURCE=2'
optimize='-O2'
cppflags='-fwrapv -fno-strict-aliasing -pipe -fstack-protector-strong -I/usr/local/include'
ccversion=''
gccversion='10.2.1 20210110'
gccosandvers=''
intsize=4
longsize=8
ptrsize=8
doublesize=8
byteorder=12345678
doublekind=3
d_longlong=define
longlongsize=8
d_longdbl=define
longdblsize=16
longdblkind=3
ivtype='long'
ivsize=8
nvtype='double'
nvsize=8
Off_t='off_t'
lseeksize=8
alignbytes=8
prototype=define
Linker and Libraries:
ld='cc'
ldflags =' -fstack-protector-strong -L/usr/local/lib'
libpth=/usr/local/lib /usr/lib/x86_64-linux-gnu /usr/lib /usr/lib64
libs=-lpthread -lnsl -lgdbm -ldb -ldl -lm -lcrypt -lutil -lc
perllibs=-lpthread -lnsl -ldl -lm -lcrypt -lutil -lc
libc=libc-2.31.so
so=so
useshrplib=false
libperl=libperl.a
gnulibc_version='2.31'
Dynamic Linking:
dlsrc=dl_dlopen.xs
dlext=so
d_dlsymun=undef
ccdlflags='-Wl,-E'
cccdlflags='-fPIC'
lddlflags='-shared -O2 -L/usr/local/lib -fstack-protector-strong'
Characteristics of this binary (from libperl):
Compile-time options:
HAS_TIMES
PERLIO_LAYERS
PERL_COPY_ON_WRITE
PERL_DONT_CREATE_GVSV
PERL_MALLOC_WRAP
PERL_OP_PARENT
PERL_PRESERVE_IVUV
USE_64_BIT_ALL
USE_64_BIT_INT
USE_LARGE_FILES
USE_LOCALE
USE_LOCALE_COLLATE
USE_LOCALE_CTYPE
USE_LOCALE_NUMERIC
USE_LOCALE_TIME
USE_PERLIO
USE_PERL_ATOF
Built under linux
Compiled at Mar 26 2022 07:33:57
%ENV:
PERL5LIB="/home/cpansand/.cpan/build/2022042405/Class-Monadic-0.04-0/blib/arch:/home/cpansand/.cpan/build/2022042405/Class-Monadic-0.04-0/blib/lib:/home/cpansand/.cpan/build/2022042405/Class-Method-Modifiers-Fast-0.041-0/blib/arch:/home/cpansand/.cpan/build/2022042405/Class-Method-Modifiers-Fast-0.041-0/blib/lib:/home/cpansand/.cpan/build/2022042405/Time-Piece-MySQL-0.06-0/blib/arch:/home/cpansand/.cpan/build/2022042405/Time-Piece-MySQL-0.06-0/blib/lib"
PERL5OPT=""
PERL5_CPANPLUS_IS_RUNNING="2487269"
PERL5_CPAN_IS_RUNNING="2487269"
PERL5_CPAN_IS_RUNNING_IN_RECURSION="2487249,2487269"
PERLDOC="-MPod::Perldoc::ToTextOverstrike"
PERL_BATCH="yes"
PERL_CANARY_STABILITY_NOPROMPT="1"
PERL_CPAN_REPORTER_CONFIG="/var/tmp/cpansmoker-1023/2022042405/cpanreporter_000_config.ini"
PERL_EXTUTILS_AUTOINSTALL="--defaultdeps"
PERL_USE_UNSAFE_INC="1"
@INC:
/home/cpansand/.cpan/build/2022042405/Class-Monadic-0.04-0/blib/arch
/home/cpansand/.cpan/build/2022042405/Class-Monadic-0.04-0/blib/lib
/home/cpansand/.cpan/build/2022042405/Class-Method-Modifiers-Fast-0.041-0/blib/arch
/home/cpansand/.cpan/build/2022042405/Class-Method-Modifiers-Fast-0.041-0/blib/lib
/home/cpansand/.cpan/build/2022042405/Time-Piece-MySQL-0.06-0/blib/arch
/home/cpansand/.cpan/build/2022042405/Time-Piece-MySQL-0.06-0/blib/lib
/opt/perl-5.34.1/lib/site_perl/5.34.1/x86_64-linux
/opt/perl-5.34.1/lib/site_perl/5.34.1
/opt/perl-5.34.1/lib/5.34.1/x86_64-linux
/opt/perl-5.34.1/lib/5.34.1
.