Dist-Zilla-Plugin-CopyFilesFromRelease v0.007 Perl 5 v5.22.4 amd64-freebsd

Status
Pass
From
Slaven Rezić (SREZIC)
Dist
Dist-Zilla-Plugin-CopyFilesFromRelease v0.007
Platform
Perl 5 v5.22.4 amd64-freebsd
Date
2017-12-06 02:26:18
ID
d753669c-da2c-11e7-89ae-daf639dfa8ba
This distribution has been tested as part of the CPAN Testers
project, supporting the Perl programming language.  See
http://wiki.cpantesters.org/ for more information or email
questions to cpan-testers-discuss@perl.org


--
Dear Karen Etheridge,

This is a computer-generated report for Dist-Zilla-Plugin-CopyFilesFromRelease-0.007
on perl 5.22.4, created by CPAN-Reporter-1.2018.

Thank you for uploading your work to CPAN.  Congratulations!
All tests were successful.

Sections of this report:

    * Tester comments
    * Program output
    * Prerequisites
    * Environment and other context

------------------------------
TESTER COMMENTS
------------------------------

Additional comments from tester:

none provided

------------------------------
PROGRAM OUTPUT
------------------------------

Output from './Build test':

# 
# Versions for all modules listed in MYMETA.json (including optional ones):
# 
# === Configure Requires ===
# 
#     Module               Want  Have
#     ------------------- ----- -----
#     ExtUtils::MakeMaker   any  7.30
#     Module::Build::Tiny 0.034 0.039
# 
# === Test Requires ===
# 
#     Module           Want     Have
#     ---------------- ---- --------
#     File::Spec        any  3.56_02
#     Module::Metadata  any 1.000026
#     Test::DZil        any    6.010
#     Test::Deep        any    1.127
#     Test::Fatal       any    0.014
#     Test::More       0.88 1.302113
#     if                any   0.0604
# 
# === Test Recommends ===
# 
#     Module         Want     Have
#     ---------- -------- --------
#     CPAN::Meta 2.120900 2.150010
# 
# === Runtime Requires ===
# 
#     Module                           Want   Have
#     ------------------------------- ----- ------
#     Dist::Zilla::Role::AfterRelease   any  6.010
#     Moose                             any 2.2008
#     Path::Tiny                      0.070  0.104
#     namespace::autoclean              any   0.28
#     strict                            any   1.09
#     warnings                          any   1.34
# 
# === Other Modules ===
# 
#     Module    Have
#     --------- ----
#     JSON::PP  2.94
#     Sub::Name 0.21
#     YAML      1.24
#     autodie   2.26
# 
t/00-report-prereqs.t .. ok
t/01-basic.t ........... ok
t/zzz-check-breaks.t ... ok
All tests successful.
Files=3, Tests=9,  4 wallclock secs ( 0.03 usr  0.01 sys +  2.58 cusr  0.52 csys =  3.14 CPU)
Result: PASS

------------------------------
PREREQUISITES
------------------------------

Prerequisite modules loaded:

requires:

    Module                          Need     Have    
    ------------------------------- -------- --------
    Dist::Zilla::Role::AfterRelease 0        6.010   
    Moose                           0        2.2008  
    namespace::autoclean            0        0.28    
    Path::Tiny                      0.070    0.104   
    perl                            5.006    5.022004
    strict                          0        1.09    
    warnings                        0        1.34    

build_requires:

    Module                          Need     Have    
    ------------------------------- -------- --------
    File::Spec                      0        3.56_02 
    if                              0        0.0604  
    Module::Metadata                0        1.000026
    perl                            5.006    5.022004
    Test::Deep                      0        1.127   
    Test::DZil                      0        6.010   
    Test::Fatal                     0        0.014   
    Test::More                      0.88     1.302113

configure_requires:

    Module                          Need     Have    
    ------------------------------- -------- --------
    ExtUtils::MakeMaker             0        7.30    
    Module::Build::Tiny             0.034    0.039   
    perl                            5.006    5.022004

opt_build_requires:

    Module                          Need     Have    
    ------------------------------- -------- --------
    CPAN::Meta                      2.120900 2.150010


------------------------------
ENVIRONMENT AND OTHER CONTEXT
------------------------------

Environment variables:

    PATH = /usr/local/bin:/usr/bin:/bin:/usr/local/sbin:/usr/sbin:/sbin:/home/cpansand/bin/freebsd12.0:/home/cpansand/bin/sh:/home/cpansand/bin:/usr/games:/home/cpansand/devel:/home/eserte/src/srezic-misc/scripts
    PERL5LIB = /home/cpansand/.cpan/build/2017120315/Class-Factory-1.06-O2oxFs/blib/arch:/home/cpansand/.cpan/build/2017120315/Class-Factory-1.06-O2oxFs/blib/lib:/home/cpansand/.cpan/build/2017120315/Math-PlanePath-125-NS1lTY/blib/arch:/home/cpansand/.cpan/build/2017120315/Math-PlanePath-125-NS1lTY/blib/lib:/home/cpansand/.cpan/build/2017120315/constant-defer-6-tFP9iy/blib/arch:/home/cpansand/.cpan/build/2017120315/constant-defer-6-tFP9iy/blib/lib:/home/cpansand/.cpan/build/2017120315/Math-Libm-1.00-qglbfX/blib/arch:/home/cpansand/.cpan/build/2017120315/Math-Libm-1.00-qglbfX/blib/lib
    PERL5OPT = 
    PERL5_CPANPLUS_IS_RUNNING = 82117
    PERL5_CPAN_IS_RUNNING = 82117
    PERL5_CPAN_IS_RUNNING_IN_RECURSION = 82082,82117
    PERLDOC = -MPod::Perldoc::ToTextOverstrike
    PERL_BATCH = yes
    PERL_CANARY_STABILITY_NOPROMPT = 1
    PERL_CPAN_REPORTER_CONFIG = /var/tmp/cpansmoker-1023/2017120315/cpanreporter_000_config.ini
    PERL_EXTUTILS_AUTOINSTALL = --defaultdeps
    SHELL = /usr/local/bin/zsh
    TERM = screen
    TMPDIR = /var/tmp/cpansmoker-1023/2017120315

Perl special variables (and OS-specific diagnostics, for MSWin32):

    $^X = /usr/perl5.22.4p/bin/perl5.22.4
    $UID/$EUID = 1023 / 1023
    $GID = 1023 1023
    $EGID = 1023 1023

Perl module toolchain versions installed:

    Module              Have    
    ------------------- --------
    CPAN                2.11_01 
    CPAN::Meta          2.150010
    Cwd                 3.56_02 
    ExtUtils::CBuilder  0.280230
    ExtUtils::Command   7.30    
    ExtUtils::Install   2.06    
    ExtUtils::MakeMaker 7.30    
    ExtUtils::Manifest  1.70    
    ExtUtils::ParseXS   3.35    
    File::Spec          3.56_02 
    JSON                2.94    
    JSON::PP            2.94    
    Module::Build       0.4224  
    Module::Signature   0.81    
    Parse::CPAN::Meta   2.150010
    Test::Harness       3.35_01 
    Test::More          1.302113
    YAML                1.24    
    YAML::Syck          1.30    
    version             0.9909  


--

Summary of my perl5 (revision 5 version 22 subversion 4) configuration:
   
  Platform:
    osname=freebsd, osvers=12.0-current, archname=amd64-freebsd
    uname='freebsd ali1.bbbike.org 12.0-current freebsd 12.0-current #0 bd8385a990e(master)-dirty: fri nov 17 03:13:11 utc 2017 root@ali1.bbbike.org:usrobjhomeprojectsfreebsdamd64.amd64sysgeneric-nodebug amd64 '
    config_args='-ds -e -Dprefix=/usr/perl5.22.4p -Dcf_email=srezic@cpan.org -Doptimize=-O2 -pipe'
    hint=recommended, useposix=true, d_sigaction=define
    useithreads=undef, usemultiplicity=undef
    use64bitint=define, use64bitall=define, uselongdouble=undef
    usemymalloc=n, bincompat5005=undef
  Compiler:
    cc='cc', ccflags ='-DHAS_FPSETMASK -DHAS_FLOATINGPOINT_H -fno-strict-aliasing -pipe -fstack-protector-strong -I/usr/local/include -D_FORTIFY_SOURCE=2',
    optimize='-O2 -pipe',
    cppflags='-DHAS_FPSETMASK -DHAS_FLOATINGPOINT_H -fno-strict-aliasing -pipe -fstack-protector-strong -I/usr/local/include'
    ccversion='', gccversion='4.2.1 Compatible FreeBSD Clang 5.0.0 (tags/RELEASE_500/final 312559)', gccosandvers=''
    intsize=4, longsize=8, ptrsize=8, doublesize=8, byteorder=12345678, doublekind=3
    d_longlong=define, longlongsize=8, d_longdbl=define, longdblsize=16, longdblkind=3
    ivtype='long', ivsize=8, nvtype='double', nvsize=8, Off_t='off_t', lseeksize=8
    alignbytes=8, prototype=define
  Linker and Libraries:
    ld='cc', ldflags ='-pthread -Wl,-E  -fstack-protector-strong -L/usr/local/lib'
    libpth=/usr/lib /usr/local/lib /usr/lib/clang/5.0.0/lib /usr/lib
    libs=-lpthread -lgdbm -lm -lcrypt -lutil -lc
    perllibs=-lpthread -lm -lcrypt -lutil -lc
    libc=, so=so, useshrplib=false, libperl=libperl.a
    gnulibc_version=''
  Dynamic Linking:
    dlsrc=dl_dlopen.xs, dlext=so, d_dlsymun=undef, ccdlflags=' '
    cccdlflags='-DPIC -fPIC', lddlflags='-shared  -L/usr/local/lib -fstack-protector-strong'


Characteristics of this binary (from libperl): 
  Compile-time options: HAS_TIMES PERLIO_LAYERS PERL_DONT_CREATE_GVSV
                        PERL_HASH_FUNC_ONE_AT_A_TIME_HARD PERL_MALLOC_WRAP
                        PERL_NEW_COPY_ON_WRITE PERL_PRESERVE_IVUV
                        USE_64_BIT_ALL USE_64_BIT_INT USE_LARGE_FILES
                        USE_LOCALE USE_LOCALE_COLLATE USE_LOCALE_CTYPE
                        USE_LOCALE_NUMERIC USE_LOCALE_TIME USE_PERLIO
                        USE_PERL_ATOF
  Built under freebsd
  Compiled at Nov 17 2017 05:53:55
  %ENV:
    PERL5LIB="/home/cpansand/.cpan/build/2017120315/Class-Factory-1.06-O2oxFs/blib/arch:/home/cpansand/.cpan/build/2017120315/Class-Factory-1.06-O2oxFs/blib/lib:/home/cpansand/.cpan/build/2017120315/Math-PlanePath-125-NS1lTY/blib/arch:/home/cpansand/.cpan/build/2017120315/Math-PlanePath-125-NS1lTY/blib/lib:/home/cpansand/.cpan/build/2017120315/constant-defer-6-tFP9iy/blib/arch:/home/cpansand/.cpan/build/2017120315/constant-defer-6-tFP9iy/blib/lib:/home/cpansand/.cpan/build/2017120315/Math-Libm-1.00-qglbfX/blib/arch:/home/cpansand/.cpan/build/2017120315/Math-Libm-1.00-qglbfX/blib/lib"
    PERL5OPT=""
    PERL5_CPANPLUS_IS_RUNNING="82117"
    PERL5_CPAN_IS_RUNNING="82117"
    PERL5_CPAN_IS_RUNNING_IN_RECURSION="82082,82117"
    PERLDOC="-MPod::Perldoc::ToTextOverstrike"
    PERL_BATCH="yes"
    PERL_CANARY_STABILITY_NOPROMPT="1"
    PERL_CPAN_REPORTER_CONFIG="/var/tmp/cpansmoker-1023/2017120315/cpanreporter_000_config.ini"
    PERL_EXTUTILS_AUTOINSTALL="--defaultdeps"
  @INC:
    /home/cpansand/.cpan/build/2017120315/Class-Factory-1.06-O2oxFs/blib/arch
    /home/cpansand/.cpan/build/2017120315/Class-Factory-1.06-O2oxFs/blib/lib
    /home/cpansand/.cpan/build/2017120315/Math-PlanePath-125-NS1lTY/blib/arch
    /home/cpansand/.cpan/build/2017120315/Math-PlanePath-125-NS1lTY/blib/lib
    /home/cpansand/.cpan/build/2017120315/constant-defer-6-tFP9iy/blib/arch
    /home/cpansand/.cpan/build/2017120315/constant-defer-6-tFP9iy/blib/lib
    /home/cpansand/.cpan/build/2017120315/Math-Libm-1.00-qglbfX/blib/arch
    /home/cpansand/.cpan/build/2017120315/Math-Libm-1.00-qglbfX/blib/lib
    /usr/perl5.22.4p/lib/site_perl/5.22.4/amd64-freebsd
    /usr/perl5.22.4p/lib/site_perl/5.22.4
    /usr/perl5.22.4p/lib/5.22.4/amd64-freebsd
    /usr/perl5.22.4p/lib/5.22.4
    .