Log-Log4perl-Shortcuts v0.024 Perl 5 v5.39.9 amd64-freebsd
- Status
- Pass
- From
- Carlos Guevara
- Dist
-
Log-Log4perl-Shortcuts v0.024
- Platform
- Perl 5 v5.39.9 amd64-freebsd
- Date
- 2024-03-22 02:42:36
- ID
- d76a2d0e-e7f5-11ee-8b69-b4b65b58f749
This distribution has been tested as part of the CPAN Testers
project, supporting the Perl programming language. See
http://wiki.cpantesters.org/ for more information or email
questions to cpan-testers-discuss@perl.org
--
Dear Steve Dondley,
This is a computer-generated report for Log-Log4perl-Shortcuts-0.024
on perl 5.39.9, created by CPAN-Reporter-1.2019.
Thank you for uploading your work to CPAN. Congratulations!
All tests were successful.
Sections of this report:
* Tester comments
* Program output
* Prerequisites
* Environment and other context
------------------------------
TESTER COMMENTS
------------------------------
Additional comments from tester:
this report is from an automated smoke testing program
and was not reviewed by a human for accuracy
------------------------------
PROGRAM OUTPUT
------------------------------
Output from '/usr/bin/make test':
Skip blib/lib/auto/share/dist/Log-Log4perl-Shortcuts/log_config/default.cfg (unchanged)
PERL_DL_NONLAZY=1 "/home/cpan/bin/perl/bin/perl5.39.9" "-MExtUtils::Command::MM" "-MTest::Harness" "-e" "undef *Test::Harness::Switches; test_harness(0, 'blib/lib', 'blib/arch')" t/*.t
t/00-use_ok.t ............ ok
# Running export tests
t/01-export_ok.t ......... ok
# Running my tests
t/02-output_ok.t ......... ok
# Running change log config tests
t/03-set_log_config.t .... ok
# Running my tests
t/04-change_log_level.t .. ok
# Running my tests
t/05-get_log_level.t ..... ok
All tests successful.
Files=6, Tests=20, 1 wallclock secs ( 0.02 usr 0.00 sys + 0.53 cusr 0.08 csys = 0.63 CPU)
Result: PASS
------------------------------
PREREQUISITES
------------------------------
Prerequisite modules loaded:
requires:
Module Need Have
---------------------------- -------- --------
Carp 0 1.54
Data::Dumper 0 2.189
Exporter 0 5.78
File::UserConfig 0 0.06
Log::Log4perl 0 1.57
Log::Log4perl::Level 0 0
Module::Data 0 0.013
Path::Tiny 0 0.144
perl 5.010000 5.039009
build_requires:
Module Need Have
---------------------------- -------- --------
ExtUtils::MakeMaker 0 7.70
File::Copy 0 2.41
File::HomeDir 0 1.006
File::Spec 0 3.90
File::Temp 0 0.2311
File::UserConfig 0 0.06
lib 0 0.65
strict 0 1.13
Test::Exception 0 0.43
Test::Fatal 0 0.017
Test::File::ShareDir::Dist 0 1.001002
Test::File::ShareDir::Module 0 1.001002
Test::More 0 1.302198
Test::NoWarnings 0 1.06
Test::Output 0 1.034
Test::Warn 0 0.37
warnings 0 1.68
configure_requires:
Module Need Have
---------------------------- -------- --------
ExtUtils::MakeMaker 0 7.70
File::ShareDir::Install 0.06 0.14
------------------------------
ENVIRONMENT AND OTHER CONTEXT
------------------------------
Environment variables:
AUTOMATED_TESTING = 1
DATE_MANIP_TEST_DM5 = 1
LANG = C.UTF-8
LC_ALL = C
NONINTERACTIVE_TESTING = 1
NO_NETWORK_TESTING = 1
PATH = /home/cpan/bin/perl/bin:/home/cpan/bin:/sbin:/bin:/usr/sbin:/usr/bin:/usr/local/sbin:/usr/local/bin:/home/cpan/bin
PERL5LIB =
PERL5OPT =
PERL5_CPANPLUS_IS_RUNNING = 80086
PERL5_CPAN_IS_RUNNING = 80086
PERL_MM_USE_DEFAULT = 1
PERL_USE_UNSAFE_INC = 1
SHELL = /usr/local/bin/bash
TERM = screen
TMPDIR = /home/cpan/tmp
Perl special variables (and OS-specific diagnostics, for MSWin32):
$^X = /home/cpan/bin/perl/bin/perl5.39.9
$UID/$EUID = 1002 / 1002
$GID = 1002 1002
$EGID = 1002 1002
Perl module toolchain versions installed:
Module Have
------------------- --------
CPAN 2.36
CPAN::Meta 2.150010
Cwd 3.90
ExtUtils::CBuilder 0.280240
ExtUtils::Command 7.70
ExtUtils::Install 2.22
ExtUtils::MakeMaker 7.70
ExtUtils::Manifest 1.75
ExtUtils::ParseXS 3.51
File::Spec 3.90
JSON 4.10
JSON::PP 4.16
Module::Build 0.4234
Module::Signature n/a
Parse::CPAN::Meta 2.150010
Test2 1.302198
Test::Harness 3.48
Test::More 1.302198
YAML 1.31
YAML::Syck 1.34
version 0.9930
--
Summary of my perl5 (revision 5 version 39 subversion 9) configuration:
Commit id: 38bf7049ef87a44db7a8b39007eb41adef7f9109
Platform:
osname=freebsd
osvers=14.0-release-p5
archname=amd64-freebsd
uname='freebsd cjg-freebsd14 14.0-release-p5 freebsd 14.0-release-p5 #0: tue feb 13 23:37:36 utc 2024 root@amd64-builder.daemonology.net:usrobjusrsrcamd64.amd64sysgeneric amd64 '
config_args='-des -Dprefix=/home/cpan/bin/perl -Dscriptdir=/home/cpan/bin/perl/bin -Dusedevel -Duse64bitall'
hint=recommended
useposix=true
d_sigaction=define
useithreads=undef
usemultiplicity=undef
use64bitint=define
use64bitall=define
uselongdouble=undef
usemymalloc=n
default_inc_excludes_dot=define
Compiler:
cc='cc'
ccflags ='-DHAS_FPSETMASK -DHAS_FLOATINGPOINT_H -DNO_POSIX_2008_LOCALE -fno-strict-aliasing -pipe -fstack-protector-strong -I/usr/local/include'
optimize='-O2'
cppflags='-DHAS_FPSETMASK -DHAS_FLOATINGPOINT_H -DNO_POSIX_2008_LOCALE -fno-strict-aliasing -pipe -fstack-protector-strong -I/usr/local/include'
ccversion=''
gccversion='FreeBSD Clang 16.0.6 (https://github.com/llvm/llvm-project.git llvmorg-16.0.6-0-g7cbf1a259152)'
gccosandvers=''
intsize=4
longsize=8
ptrsize=8
doublesize=8
byteorder=12345678
doublekind=3
d_longlong=define
longlongsize=8
d_longdbl=define
longdblsize=16
longdblkind=3
ivtype='long'
ivsize=8
nvtype='double'
nvsize=8
Off_t='off_t'
lseeksize=8
alignbytes=8
prototype=define
Linker and Libraries:
ld='cc'
ldflags ='-Wl,-E -fstack-protector-strong -L/usr/local/lib'
libpth=/usr/lib /usr/local/lib /usr/lib/clang/16/lib
libs=-lpthread -ldl -lm -lcrypt -lutil -lc
perllibs=-lpthread -ldl -lm -lcrypt -lutil -lc
libc=
so=so
useshrplib=false
libperl=libperl.a
gnulibc_version=''
Dynamic Linking:
dlsrc=dl_dlopen.xs
dlext=so
d_dlsymun=undef
ccdlflags=' '
cccdlflags='-DPIC -fPIC'
lddlflags='-shared -L/usr/local/lib -fstack-protector-strong'
Characteristics of this binary (from libperl):
Compile-time options:
HAS_LONG_DOUBLE
HAS_STRTOLD
HAS_TIMES
PERLIO_LAYERS
PERL_COPY_ON_WRITE
PERL_DONT_CREATE_GVSV
PERL_HASH_FUNC_SIPHASH13
PERL_HASH_USE_SBOX32
PERL_MALLOC_WRAP
PERL_OP_PARENT
PERL_PRESERVE_IVUV
PERL_USE_DEVEL
PERL_USE_SAFE_PUTENV
USE_64_BIT_ALL
USE_64_BIT_INT
USE_LARGE_FILES
USE_LOCALE
USE_LOCALE_COLLATE
USE_LOCALE_CTYPE
USE_LOCALE_NUMERIC
USE_LOCALE_TIME
USE_PERLIO
USE_PERL_ATOF
Built under freebsd
Compiled at Mar 21 2024 16:35:35
%ENV:
PERL5LIB=""
PERL5OPT=""
PERL5_CPANPLUS_IS_RUNNING="80086"
PERL5_CPAN_IS_RUNNING="80086"
PERL_MM_USE_DEFAULT="1"
PERL_USE_UNSAFE_INC="1"
@INC:
/home/cpan/bin/perl/lib/site_perl/5.39.9/amd64-freebsd
/home/cpan/bin/perl/lib/site_perl/5.39.9
/home/cpan/bin/perl/lib/5.39.9/amd64-freebsd
/home/cpan/bin/perl/lib/5.39.9
.