Net-HTTP-Spore v0.09 Perl 5 v5.38.4 RC1 x86_64-linux

Status
Pass
From
Andreas J. König (ANDK)
Dist
Net-HTTP-Spore v0.09
Platform
Perl 5 v5.38.4 RC1 x86_64-linux
Date
2025-04-02 06:43:52
ID
d7730d0a-0f8d-11f0-854c-af53d1e921d9
This distribution has been tested as part of the CPAN Testers
project, supporting the Perl programming language.  See
http://wiki.cpantesters.org/ for more information or email
questions to cpan-testers-discuss@perl.org


--
Dear Ahmad Fatoum,

This is a computer-generated report for Net-HTTP-Spore-0.09
on perl 5.38.4, created by CPAN-Reporter-1.2020.

Thank you for uploading your work to CPAN.  Congratulations!
All tests were successful.

Sections of this report:

    * Tester comments
    * Program output
    * Prerequisites
    * Environment and other context

------------------------------
TESTER COMMENTS
------------------------------

Additional comments from tester:

this report is from an automated smoke testing program
and was not reviewed by a human for accuracy

------------------------------
PROGRAM OUTPUT
------------------------------

Output from '/usr/bin/make test':

PERL_DL_NONLAZY=1 "/tmp/basesmoker-reloperl-3VRm/bin/perl" "-MExtUtils::Command::MM" "-MTest::Harness" "-e" "undef *Test::Harness::Switches; test_harness(0, 'blib/lib', 'blib/arch')" t/*.t t/spore-method/*.t t/spore-middleware/*.t t/spore-request/*.t t/spore-response/*.t t/spore-role/*.t t/spore/*.t
t/00-compile.t ....................... ok
t/author-eol.t ....................... skipped: these tests are for testing by the author
t/author-no-tabs.t ................... skipped: these tests are for testing by the author
t/author-pod-syntax.t ................ skipped: these tests are for testing by the author
t/author-test-version.t .............. skipped: these tests are for testing by the author
t/release-minimum-version.t .......... skipped: these tests are for release candidate testing
t/spore-method/base.t ................ ok
t/spore-method/payload.t ............. ok
t/spore-middleware/anonymous.t ....... ok
t/spore-middleware/auth-basic.t ...... ok
t/spore-middleware/auth-header.t ..... ok
t/spore-middleware/auth-oauth.t ...... ok
t/spore-middleware/format-auto.t ..... ok
t/spore-middleware/format-json.t ..... ok
t/spore-middleware/format-text.t ..... ok
t/spore-middleware/format-xml.t ...... ok
t/spore-middleware/format-yaml.t ..... ok
t/spore-middleware/ns.t .............. ok
t/spore-middleware/redirection.t ..... ok
t/spore-middleware/runtime.t ......... ok
t/spore-middleware/useragent.t ....... ok
t/spore-middleware/x-do-not-track.t .. ok
t/spore-request/base.t ............... ok
t/spore-request/exception.t .......... ok
t/spore-request/finalize.t ........... ok
t/spore-request/form_data.t .......... ok
t/spore-request/headers.t ............ ok
t/spore-request/new.t ................ ok
t/spore-request/request_uri.t ........ ok
t/spore-request/script_name.t ........ ok
t/spore-request/uri.t ................ ok
t/spore-response/body.t .............. ok
t/spore-response/debug.t ............. ok
t/spore-response/headers.t ........... ok
t/spore-response/new.t ............... ok
t/spore-response/response.t .......... ok
t/spore-response/timeout.t ........... ok
t/spore-role/basic.t ................. ok
t/spore/01_new_from_string.t ......... ok
t/spore/02_enable.t .................. ok
All tests successful.
Files=40, Tests=224, 26 wallclock secs ( 0.12 usr  0.12 sys + 23.35 cusr  2.89 csys = 26.48 CPU)
Result: PASS

------------------------------
PREREQUISITES
------------------------------

Prerequisite modules loaded:

requires:

    Module                       Need  Have    
    ---------------------------- ----- --------
    Carp                         0     1.54    
    Class::Load                  0     0.25    
    Digest::SHA                  0     6.04    
    Encode                       0     3.21    
    HTTP::Headers                0     7.00    
    HTTP::Request                0     7.00    
    IO::All                      0     0.87    
    IO::File                     0     1.52    
    JSON                         0     4.10    
    LWP::UserAgent               0     6.78    
    MIME::Base64                 0     3.16_01 
    Moose                        0     2.2207  
    Moose::Exporter              0     2.2207  
    Moose::Meta::Method          0     2.2207  
    Moose::Role                  0     2.2207  
    Moose::Util::MetaRole        0     2.2207  
    Moose::Util::TypeConstraints 0     2.2207  
    MooseX::Role::Parameterized  1.01  1.11    
    MooseX::Types                0     0.50    
    MooseX::Types::Moose         0     0.50    
    MooseX::Types::URI           0     0.09    
    overload                     0     1.37    
    perl                         5.010 5.038004
    Scalar::Util                 0     1.68    
    strict                       0     1.12    
    Time::HiRes                  0     1.9775  
    Try::Tiny                    0     0.32    
    URI                          0     5.31    
    URI::Escape                  0     5.31    
    warnings                     0     1.65    
    XML::Simple                  0     2.25    
    YAML                         0     1.31    

build_requires:

    Module                       Need  Have    
    ---------------------------- ----- --------
    base                         0     2.27    
    blib                         1.01  1.07    
    ExtUtils::MakeMaker          0     7.72    
    File::Spec                   0     3.88    
    File::Temp                   0     0.2311  
    IO::Handle                   0     1.52    
    IPC::Open3                   0     1.22    
    Test::Exception              0     0.43    
    Test::Moose                  0     2.2207  
    Test::More                   0     1.302210

configure_requires:

    Module                       Need  Have    
    ---------------------------- ----- --------
    ExtUtils::MakeMaker          0     7.72    
    perl                         5.010 5.038004


------------------------------
ENVIRONMENT AND OTHER CONTEXT
------------------------------

Environment variables:

    AUTOMATED_TESTING = 1
    LANG = en_US.UTF-8
    PATH = /home/sand/bin:/usr/local/bin:/usr/local/sbin:/usr/sbin:/usr/bin:/sbin:/bin:/usr/games:/usr/local/games:/snap/bin:/usr/local/perl/bin:/usr/X11/bin
    PERL = /tmp/basesmoker-reloperl-3VRm/bin/perl
    PERL5LIB = /tmp/loop_over_bdir-2787454-LT3RhR/RackMan-1.19-0/blib/arch:/tmp/loop_over_bdir-2787454-LT3RhR/RackMan-1.19-0/blib/lib:/tmp/loop_over_bdir-2787454-LT3RhR/makepp-1.19-0/blib/arch:/tmp/loop_over_bdir-2787454-LT3RhR/makepp-1.19-0/blib/lib:/tmp/loop_over_bdir-2787454-LT3RhR/dta-tokwrap-0.98-0/blib/arch:/tmp/loop_over_bdir-2787454-LT3RhR/dta-tokwrap-0.98-0/blib/lib:/tmp/loop_over_bdir-2787454-LT3RhR/ProjectBuilder-0.14.1-0/blib/arch:/tmp/loop_over_bdir-2787454-LT3RhR/ProjectBuilder-0.14.1-0/blib/lib:/tmp/loop_over_bdir-2787454-LT3RhR/Business-Shipping-DataFiles-1.02-0/blib/arch:/tmp/loop_over_bdir-2787454-LT3RhR/Business-Shipping-DataFiles-1.02-0/blib/lib:/tmp/loop_over_bdir-2787454-LT3RhR/Alien-SNMP-MIBDEV-2.020000-0/blib/arch:/tmp/loop_over_bdir-2787454-LT3RhR/Alien-SNMP-MIBDEV-2.020000-0/blib/lib:/tmp/loop_over_bdir-2787454-LT3RhR/LiquidWeb-Storm-CLI-1.03-0/blib/arch:/tmp/loop_over_bdir-2787454-LT3RhR/LiquidWeb-Storm-CLI-1.03-0/blib/lib:/tmp/loop_over_bdir-2787454-LT3RhR/Module-ScanDeps-Static-1.7.2-0/blib/arch:/tmp/loop_over_bdir-2787454-LT3RhR/Module-ScanDeps-Static-1.7.2-0/blib/lib:/tmp/loop_over_bdir-2787454-LT3RhR/HTML-Menu-TreeView-1.22-0/blib/arch:/tmp/loop_over_bdir-2787454-LT3RhR/HTML-Menu-TreeView-1.22-0/blib/lib
    PERL5OPT = 
    PERL5_CPANPLUS_IS_RUNNING = 2787464
    PERL5_CPAN_IS_RUNNING = 2787464
    PERL_CANARY_STABILITY_NOPROMPT = 1
    PERL_MM_USE_DEFAULT = 1
    PERL_USE_UNSAFE_INC = 1
    SHELL = /usr/bin/zsh
    TERM = screen

Perl special variables (and OS-specific diagnostics, for MSWin32):

    $^X = /tmp/basesmoker-reloperl-3VRm/bin/perl
    $UID/$EUID = 1005 / 1005
    $GID = 1005 1005
    $EGID = 1005 1005

Perl module toolchain versions installed:

    Module              Have    
    ------------------- --------
    CPAN                2.38    
    CPAN::Meta          2.150010
    Cwd                 3.89    
    ExtUtils::CBuilder  0.280238
    ExtUtils::Command   7.72    
    ExtUtils::Install   2.22    
    ExtUtils::MakeMaker 7.72    
    ExtUtils::Manifest  1.73    
    ExtUtils::ParseXS   3.51    
    File::Spec          3.88    
    JSON                4.10    
    JSON::PP            4.16    
    Module::Build       0.4234  
    Module::Signature   0.89    
    Parse::CPAN::Meta   2.150010
    Test2               1.302210
    Test::Harness       3.50    
    Test::More          1.302210
    YAML                1.31    
    YAML::Syck          1.34    
    version             0.9933  


--

Summary of my perl5 (revision 5 version 38 subversion 4) configuration:
   
  Platform:
    osname=linux
    osvers=5.4.0-208-generic
    archname=x86_64-linux
    uname='linux k93focal 5.4.0-208-generic #228-ubuntu smp fri feb 7 19:41:33 utc 2025 x86_64 x86_64 x86_64 gnulinux '
    config_args='-Dprefix=/home/sand/src/perl/repoperls/installed-perls/host/k93focal/perl-5.38.4-RC1/d119 -Dmyhostname=k93focal -Dinstallusrbinperl=n -Uversiononly -Dusedevel -des -Ui_db -Dlibswanted=cl pthread socket inet nsl gdbm dbm malloc dl ld sun m crypt sec util c cposix posix ucb BSD gdbm_compat -Duseithreads -Uuselongdouble -DEBUGGING=both'
    hint=previous
    useposix=true
    d_sigaction=define
    useithreads=undef
    usemultiplicity=undef
    use64bitint=define
    use64bitall=define
    uselongdouble=undef
    usemymalloc=n
    default_inc_excludes_dot=define
  Compiler:
    cc='cc'
    ccflags ='-fwrapv -DDEBUGGING -fno-strict-aliasing -pipe -fstack-protector-strong -I/usr/local/include -D_LARGEFILE_SOURCE -D_FILE_OFFSET_BITS=64'
    optimize='-O2 -g'
    cppflags='-fwrapv -DDEBUGGING -fno-strict-aliasing -pipe -fstack-protector-strong -I/usr/local/include'
    ccversion=''
    gccversion='9.4.0'
    gccosandvers=''
    intsize=4
    longsize=8
    ptrsize=8
    doublesize=8
    byteorder=12345678
    doublekind=3
    d_longlong=define
    longlongsize=8
    d_longdbl=define
    longdblsize=16
    longdblkind=3
    ivtype='long'
    ivsize=8
    nvtype='double'
    nvsize=8
    Off_t='off_t'
    lseeksize=8
    alignbytes=8
    prototype=define
  Linker and Libraries:
    ld='cc'
    ldflags =' -fstack-protector-strong -L/usr/local/lib'
    libpth=/usr/local/lib /usr/lib/x86_64-linux-gnu /usr/lib /usr/lib64
    libs=-lpthread -lnsl -ldl -lm -lcrypt -lutil -lc
    perllibs=-lpthread -lnsl -ldl -lm -lcrypt -lutil -lc
    libc=libc-2.31.so
    so=so
    useshrplib=false
    libperl=libperl.a
    gnulibc_version='2.31'
  Dynamic Linking:
    dlsrc=dl_dlopen.xs
    dlext=so
    d_dlsymun=undef
    ccdlflags='-Wl,-E'
    cccdlflags='-fPIC'
    lddlflags='-shared -O2 -g -L/usr/local/lib -fstack-protector-strong'


Characteristics of this binary (from libperl): 
  Compile-time options:
    DEBUGGING
    HAS_LONG_DOUBLE
    HAS_STRTOLD
    HAS_TIMES
    PERLIO_LAYERS
    PERL_COPY_ON_WRITE
    PERL_DONT_CREATE_GVSV
    PERL_HASH_FUNC_SIPHASH13
    PERL_HASH_USE_SBOX32
    PERL_MALLOC_WRAP
    PERL_OP_PARENT
    PERL_PRESERVE_IVUV
    PERL_USE_DEVEL
    PERL_USE_SAFE_PUTENV
    USE_64_BIT_ALL
    USE_64_BIT_INT
    USE_LARGE_FILES
    USE_LOCALE
    USE_LOCALE_COLLATE
    USE_LOCALE_CTYPE
    USE_LOCALE_NUMERIC
    USE_LOCALE_TIME
    USE_PERLIO
    USE_PERL_ATOF
  Locally applied patches:
    RC1
  Built under linux
  Compiled at Mar 30 2025 19:41:51
  %ENV:
    PERL="/tmp/basesmoker-reloperl-3VRm/bin/perl"
    PERL5LIB="/tmp/loop_over_bdir-2787454-LT3RhR/RackMan-1.19-0/blib/arch:/tmp/loop_over_bdir-2787454-LT3RhR/RackMan-1.19-0/blib/lib:/tmp/loop_over_bdir-2787454-LT3RhR/makepp-1.19-0/blib/arch:/tmp/loop_over_bdir-2787454-LT3RhR/makepp-1.19-0/blib/lib:/tmp/loop_over_bdir-2787454-LT3RhR/dta-tokwrap-0.98-0/blib/arch:/tmp/loop_over_bdir-2787454-LT3RhR/dta-tokwrap-0.98-0/blib/lib:/tmp/loop_over_bdir-2787454-LT3RhR/ProjectBuilder-0.14.1-0/blib/arch:/tmp/loop_over_bdir-2787454-LT3RhR/ProjectBuilder-0.14.1-0/blib/lib:/tmp/loop_over_bdir-2787454-LT3RhR/Business-Shipping-DataFiles-1.02-0/blib/arch:/tmp/loop_over_bdir-2787454-LT3RhR/Business-Shipping-DataFiles-1.02-0/blib/lib:/tmp/loop_over_bdir-2787454-LT3RhR/Alien-SNMP-MIBDEV-2.020000-0/blib/arch:/tmp/loop_over_bdir-2787454-LT3RhR/Alien-SNMP-MIBDEV-2.020000-0/blib/lib:/tmp/loop_over_bdir-2787454-LT3RhR/LiquidWeb-Storm-CLI-1.03-0/blib/arch:/tmp/loop_over_bdir-2787454-LT3RhR/LiquidWeb-Storm-CLI-1.03-0/blib/lib:/tmp/loop_over_bdir-2787454-LT3RhR/Module-ScanDeps-Static-1.7.2-0/blib/arch:/tmp/loop_over_bdir-2787454-LT3RhR/Module-ScanDeps-Static-1.7.2-0/blib/lib:/tmp/loop_over_bdir-2787454-LT3RhR/HTML-Menu-TreeView-1.22-0/blib/arch:/tmp/loop_over_bdir-2787454-LT3RhR/HTML-Menu-TreeView-1.22-0/blib/lib"
    PERL5OPT=""
    PERL5_CPANPLUS_IS_RUNNING="2787464"
    PERL5_CPAN_IS_RUNNING="2787464"
    PERL_CANARY_STABILITY_NOPROMPT="1"
    PERL_MM_USE_DEFAULT="1"
    PERL_USE_UNSAFE_INC="1"
  @INC:
    /tmp/loop_over_bdir-2787454-LT3RhR/RackMan-1.19-0/blib/arch
    /tmp/loop_over_bdir-2787454-LT3RhR/RackMan-1.19-0/blib/lib
    /tmp/loop_over_bdir-2787454-LT3RhR/makepp-1.19-0/blib/arch
    /tmp/loop_over_bdir-2787454-LT3RhR/makepp-1.19-0/blib/lib
    /tmp/loop_over_bdir-2787454-LT3RhR/dta-tokwrap-0.98-0/blib/arch
    /tmp/loop_over_bdir-2787454-LT3RhR/dta-tokwrap-0.98-0/blib/lib
    /tmp/loop_over_bdir-2787454-LT3RhR/ProjectBuilder-0.14.1-0/blib/arch
    /tmp/loop_over_bdir-2787454-LT3RhR/ProjectBuilder-0.14.1-0/blib/lib
    /tmp/loop_over_bdir-2787454-LT3RhR/Business-Shipping-DataFiles-1.02-0/blib/arch
    /tmp/loop_over_bdir-2787454-LT3RhR/Business-Shipping-DataFiles-1.02-0/blib/lib
    /tmp/loop_over_bdir-2787454-LT3RhR/Alien-SNMP-MIBDEV-2.020000-0/blib/arch
    /tmp/loop_over_bdir-2787454-LT3RhR/Alien-SNMP-MIBDEV-2.020000-0/blib/lib
    /tmp/loop_over_bdir-2787454-LT3RhR/LiquidWeb-Storm-CLI-1.03-0/blib/arch
    /tmp/loop_over_bdir-2787454-LT3RhR/LiquidWeb-Storm-CLI-1.03-0/blib/lib
    /tmp/loop_over_bdir-2787454-LT3RhR/Module-ScanDeps-Static-1.7.2-0/blib/arch
    /tmp/loop_over_bdir-2787454-LT3RhR/Module-ScanDeps-Static-1.7.2-0/blib/lib
    /tmp/loop_over_bdir-2787454-LT3RhR/HTML-Menu-TreeView-1.22-0/blib/arch
    /tmp/loop_over_bdir-2787454-LT3RhR/HTML-Menu-TreeView-1.22-0/blib/lib
    /home/sand/src/perl/repoperls/installed-perls/host/k93focal/perl-5.38.4-RC1/b254/lib/site_perl/5.38.4/x86_64-linux
    /home/sand/src/perl/repoperls/installed-perls/host/k93focal/perl-5.38.4-RC1/b254/lib/site_perl/5.38.4
    /home/sand/src/perl/repoperls/installed-perls/host/k93focal/perl-5.38.4-RC1/b254/lib/5.38.4/x86_64-linux
    /home/sand/src/perl/repoperls/installed-perls/host/k93focal/perl-5.38.4-RC1/b254/lib/5.38.4
    .