Report for Dist-Zilla-Plugin-OnlyCorePrereqs-0.016

Back
From: metabase:user:320bfe00-2aae-11df-837a-5e0a49663a4f
Subject: PASS Dist-Zilla-Plugin-OnlyCorePrereqs-0.016 v5.12.5 GNU/Linux
Date: 2014-08-01T16:42:36Z

This distribution has been tested as part of the CPAN Testers
project, supporting the Perl programming language.  See
http://wiki.cpantesters.org/ for more information or email
questions to cpan-testers-discuss@perl.org


--
Dear Karen Etheridge,

This is a computer-generated report for Dist-Zilla-Plugin-OnlyCorePrereqs-0.016
on perl 5.12.5, created by CPAN-Reporter-1.2011.

Thank you for uploading your work to CPAN.  Congratulations!
All tests were successful.

Sections of this report:

    * Tester comments
    * Program output
    * Prerequisites
    * Environment and other context

------------------------------
TESTER COMMENTS
------------------------------

Additional comments from tester:

this report is from an automated smoke testing program
and was not reviewed by a human for accuracy

------------------------------
PROGRAM OUTPUT
------------------------------

Output from './Build test':

# 
# Versions for all modules listed in MYMETA.json (including optional ones):
# 
# === Configure Requires ===
# 
#     Module               Want  Have
#     ------------------- ----- -----
#     ExtUtils::MakeMaker   any  6.98
#     Module::Build::Tiny 0.037 0.037
# 
# === Test Requires ===
# 
#     Module              Want     Have
#     ------------------- ---- --------
#     ExtUtils::MakeMaker  any     6.98
#     File::Spec           any     3.47
#     List::Util           any     1.39
#     Moose::Util          any   2.1210
#     Path::Tiny           any    0.055
#     Scalar::Util         any     1.39
#     Test::DZil           any    5.020
#     Test::Deep           any    0.112
#     Test::Fatal          any    0.013
#     Test::More           any 1.001003
#     if                   any     0.05
# 
# === Test Recommends ===
# 
#     Module         Want     Have
#     ---------- -------- --------
#     CPAN::Meta 2.120900 2.142060
# 
# === Runtime Requires ===
# 
#     Module                                 Want     Have
#     ---------------------------------- -------- --------
#     CPAN::Meta::Requirements              2.121    2.126
#     CPAN::Meta::Validator                   any 2.142060
#     Dist::Zilla::Plugin::MetaResources 4.300039    5.020
#     Dist::Zilla::Role::AfterBuild           any    5.020
#     HTTP::Tiny                              any    0.047
#     JSON::MaybeXS                           any 1.002002
#     Module::CoreList                       3.10 5.021002
#     Moose                                   any   2.1210
#     Moose::Util::TypeConstraints            any   2.1210
#     MooseX::Types::Perl                0.101340 0.101343
#     feature                                 any     1.16
#     namespace::autoclean                    any     0.19
#     strict                                  any     1.04
#     version                                 any   0.9908
#     warnings                                any     1.09
# 
t/00-report-prereqs.t ............ ok
t/01-basic.t ..................... ok
t/02-deprecated.t ................ ok
t/03-specific-version.t .......... ok
t/04-no-check-module-versions.t .. skipped: the check_module_versions option has been removed
t/05-check-dual-life-versions.t .. ok
t/06-phases.t .................... ok
t/07-skip.t ...................... ok
t/08-perl-prereq.t ............... ok
All tests successful.
Files=9, Tests=40, 13 wallclock secs ( 0.04 usr  0.02 sys +  7.39 cusr  0.40 csys =  7.85 CPU)
Result: PASS

------------------------------
PREREQUISITES
------------------------------

Prerequisite modules loaded:

requires:

    Module                             Need     Have    
    ---------------------------------- -------- --------
    CPAN::Meta::Requirements           2.121    2.126   
    Dist::Zilla::Plugin::MetaResources 4.300039 5.020   
    Dist::Zilla::Role::AfterBuild      0        5.020   
    HTTP::Tiny                         0        0.047   
    JSON::MaybeXS                      0        1.002002
    Module::CoreList                   3.10     5.021002
    Moose                              0        2.1210  
    Moose::Util::TypeConstraints       0        2.1210  
    MooseX::Types::Perl                0.101340 0.101343
    namespace::autoclean               0        0.19    
    perl                               5.010    5.012005
    strict                             0        1.04    
    version                            0        0.9908  
    warnings                           0        1.09    

build_requires:

    Module                             Need     Have    
    ---------------------------------- -------- --------
    ExtUtils::MakeMaker                0        6.98    
    File::Spec                         0        3.47    
    if                                 0        0.05    
    List::Util                         0        1.39    
    Moose::Util                        0        2.1210  
    Path::Tiny                         0        0.055   
    Scalar::Util                       0        1.39    
    Test::Deep                         0        0.112   
    Test::DZil                         0        5.020   
    Test::Fatal                        0        0.013   
    Test::More                         0        1.001003

configure_requires:

    Module                             Need     Have    
    ---------------------------------- -------- --------
    ExtUtils::MakeMaker                0        6.98    
    Module::Build::Tiny                0.037    0.037   


------------------------------
ENVIRONMENT AND OTHER CONTEXT
------------------------------

Environment variables:

    AUTOMATED_TESTING = 1
    LANG = en_US.UTF-8
    LANGUAGE = en_US:en
    PATH = /usr/lib/ccache:/home/sand/bin:/usr/local/bin:/usr/bin:/bin:/usr/games:/usr/local/perl/bin:/usr/X11/bin:/sbin:/usr/sbin
    PERL5LIB = 
    PERL5OPT = 
    PERL5_CPANPLUS_IS_RUNNING = 21923
    PERL5_CPAN_IS_RUNNING = 21923
    PERL_MM_USE_DEFAULT = 1
    SHELL = /usr/bin/zsh
    TERM = screen

Perl special variables (and OS-specific diagnostics, for MSWin32):

    $^X = /home/sand/src/perl/repoperls/installed-perls/perl/v5.12.5/127e/bin/perl
    $UID/$EUID = 1005 / 1005
    $GID = 1005 1005
    $EGID = 1005 1005

Perl module toolchain versions installed:

    Module              Have    
    ------------------- --------
    CPAN                2.05    
    CPAN::Meta          2.142060
    Cwd                 3.47    
    ExtUtils::CBuilder  0.280216
    ExtUtils::Command   1.16    
    ExtUtils::Install   1.55    
    ExtUtils::MakeMaker 6.98    
    ExtUtils::Manifest  1.60    
    ExtUtils::ParseXS   2.21    
    File::Spec          3.47    
    JSON                2.90    
    JSON::PP            2.27203 
    Module::Build       0.4206  
    Module::Signature   0.73    
    Parse::CPAN::Meta   1.4414  
    Test::Harness       3.32    
    Test::More          1.001003
    YAML                0.98    
    YAML::Syck          1.27    
    version             0.9908  


--

Summary of my perl5 (revision 5 version 12 subversion 5) configuration:
  Commit id: 9a9cbd715960a905dcbc9166349a73a64a007e4e
  Platform:
    osname=linux, osvers=3.14-2-amd64, archname=x86_64-linux-ld
    uname='linux k83 3.14-2-amd64 #1 smp debian 3.14.13-2 (2014-07-24) x86_64 gnulinux '
    config_args='-Dprefix=/home/sand/src/perl/repoperls/installed-perls/perl/v5.12.5/127e -Dmyhostname=k83 -Dinstallusrbinperl=n -Uversiononly -Dusedevel -des -Ui_db -Uuseithreads -Duselongdouble -DDEBUGGING=-g'
    hint=recommended, useposix=true, d_sigaction=define
    useithreads=undef, usemultiplicity=undef
    useperlio=define, d_sfio=undef, uselargefiles=define, usesocks=undef
    use64bitint=define, use64bitall=define, uselongdouble=define
    usemymalloc=n, bincompat5005=undef
  Compiler:
    cc='cc', ccflags ='-fno-strict-aliasing -pipe -fstack-protector -I/usr/local/include -D_LARGEFILE_SOURCE -D_FILE_OFFSET_BITS=64',
    optimize='-O2 -g',
    cppflags='-fno-strict-aliasing -pipe -fstack-protector -I/usr/local/include'
    ccversion='', gccversion='4.9.1', gccosandvers=''
    intsize=4, longsize=8, ptrsize=8, doublesize=8, byteorder=12345678
    d_longlong=define, longlongsize=8, d_longdbl=define, longdblsize=16
    ivtype='long', ivsize=8, nvtype='long double', nvsize=16, Off_t='off_t', lseeksize=8
    alignbytes=16, prototype=define
  Linker and Libraries:
    ld='cc', ldflags =' -fstack-protector -L/usr/local/lib'
    libpth=/usr/local/lib /lib/x86_64-linux-gnu /lib/../lib /usr/lib/x86_64-linux-gnu /usr/lib/../lib /lib /usr/lib
    libs=-lnsl -lgdbm -ldb -ldl -lm -lcrypt -lutil -lc -lgdbm_compat
    perllibs=-lnsl -ldl -lm -lcrypt -lutil -lc
    libc=, so=so, useshrplib=false, libperl=libperl.a
    gnulibc_version='2.19'
  Dynamic Linking:
    dlsrc=dl_dlopen.xs, dlext=so, d_dlsymun=undef, ccdlflags='-Wl,-E'
    cccdlflags='-fPIC', lddlflags='-shared -O2 -g -L/usr/local/lib -fstack-protector'


Characteristics of this binary (from libperl): 
  Compile-time options: PERL_DONT_CREATE_GVSV PERL_MALLOC_WRAP PERL_USE_DEVEL
                        USE_64_BIT_ALL USE_64_BIT_INT USE_LARGE_FILES
                        USE_LONG_DOUBLE USE_PERLIO USE_PERL_ATOF
  Built under linux
  Compiled at Aug  1 2014 12:40:19
  %ENV:
    PERL5LIB=""
    PERL5OPT=""
    PERL5_CPANPLUS_IS_RUNNING="21923"
    PERL5_CPAN_IS_RUNNING="21923"
    PERL_MM_USE_DEFAULT="1"
  @INC:
    /home/sand/src/perl/repoperls/installed-perls/perl/v5.12.5/127e/lib/site_perl/5.12.5/x86_64-linux-ld
    /home/sand/src/perl/repoperls/installed-perls/perl/v5.12.5/127e/lib/site_perl/5.12.5
    /home/sand/src/perl/repoperls/installed-perls/perl/v5.12.5/127e/lib/5.12.5/x86_64-linux-ld
    /home/sand/src/perl/repoperls/installed-perls/perl/v5.12.5/127e/lib/5.12.5
    .