Report for Color-Scheme-1.02

Back
From: metabase:user:322078bc-2aae-11df-837a-5e0a49663a4f
Subject: PASS Color-Scheme-1.02 v5.12.3 FreeBSD
Date: 2011-05-16T17:20:48Z

This distribution has been tested as part of the CPAN Testers
project, supporting the Perl programming language.  See
http://wiki.cpantesters.org/ for more information or email
questions to cpan-testers-discuss@perl.org


--

Dear Ian Langworth,

This is a computer-generated error report created automatically by
CPANPLUS, version 0.9105. Testers personal comments may appear
at the end of this report.

MAKE TEST passed: PERL_DL_NONLAZY=1 /usr/home/cpan/pit/rel/perl-5.12.3/bin/perl "-MExtUtils::Command::MM" "-e" "test_harness(0, 'blib/lib', 'blib/arch')" t/*.t
t/0-signature.t ... ok
# Testing Color::Scheme 1.02, Perl 5.012003, /usr/home/cpan/pit/rel/perl-5.12.3/bin/perl
t/00-load.t ....... ok
t/colors.t ........ ok
t/colors2.t ....... ok
t/pod-coverage.t .. skipped: Test::Pod::Coverage 1.04 required for testing POD coverage
t/pod.t ........... skipped: Test::Pod 1.14 required for testing POD
t/synopsis.t ...... ok
t/three-sixty.t ... ok
All tests successful.
Files=8, Tests=33,  1 wallclock secs ( 0.01 usr  0.20 sys +  0.14 cusr  0.62 csys =  0.97 CPU)
Result: PASS

[MSG] [Mon May 16 18:20:48 2011] Sending test report for 'Color-Scheme-1.02'

This report was machine-generated by CPANPLUS::Dist::YACSmoke 0.62.
Powered by minismokebox version 0.44

------------------------------
ENVIRONMENT AND OTHER CONTEXT
------------------------------

Environment variables:

    AUTOMATED_TESTING = 1
    PATH = /sbin:/bin:/usr/sbin:/usr/bin:/usr/games:/usr/local/sbin:/usr/local/bin:/home/cpan/bin
    PERL5LIB = :/usr/home/cpan/pit/rel/conf/perl-5.12.3/.cpanplus/5.12.3/build/Data-Dumper-2.128/blib/lib:/usr/home/cpan/pit/rel/conf/perl-5.12.3/.cpanplus/5.12.3/build/Data-Dumper-2.128/blib/arch:/usr/home/cpan/pit/rel/conf/perl-5.12.3/.cpanplus/5.12.3/build/Algorithm-Diff-1.1902/blib/lib:/usr/home/cpan/pit/rel/conf/perl-5.12.3/.cpanplus/5.12.3/build/Algorithm-Diff-1.1902/blib/arch:/usr/home/cpan/pit/rel/conf/perl-5.12.3/.cpanplus/5.12.3/build/Text-Diff-1.41/blib/lib:/usr/home/cpan/pit/rel/conf/perl-5.12.3/.cpanplus/5.12.3/build/Text-Diff-1.41/blib/arch:/usr/home/cpan/pit/rel/conf/perl-5.12.3/.cpanplus/5.12.3/build/Test-Differences-0.61/blib/lib:/usr/home/cpan/pit/rel/conf/perl-5.12.3/.cpanplus/5.12.3/build/Test-Differences-0.61/blib/arch:/usr/home/cpan/pit/rel/conf/perl-5.12.3/.cpanplus/5.12.3/build/Color-Scheme-1.02/blib/lib:/usr/home/cpan/pit/rel/conf/perl-5.12.3/.cpanplus/5.12.3/build/Color-Scheme-1.02/blib/arch
    PERL5_CPANPLUS_IS_RUNNING = 82869
    PERL5_CPANPLUS_IS_VERSION = 0.9105
    PERL5_MINISMOKEBOX = 0.44
    PERL5_YACSMOKE_BASE = /usr/home/cpan/pit/rel/conf/perl-5.12.3
    PERL_EXTUTILS_AUTOINSTALL = --defaultdeps
    PERL_MM_USE_DEFAULT = 1
    SHELL = /usr/local/bin/bash
    TERM = screen

Perl special variables (and OS-specific diagnostics, for MSWin32):

    Perl: $^X = /usr/home/cpan/pit/rel/perl-5.12.3/bin/perl
    UID:  $<  = 1002
    EUID: $>  = 1002
    GID:  $(  = 1002 1002
    EGID: $)  = 1002 1002


-------------------------------


--

Summary of my perl5 (revision 5 version 12 subversion 3) configuration:
   
  Platform:
    osname=freebsd, osvers=8.2-release, archname=i386-freebsd-thread-multi-64int
    uname='freebsd fetlock.bingosnet.co.uk 8.2-release freebsd 8.2-release #0: fri feb 18 02:24:46 utc 2011 root@almeida.cse.buffalo.edu:usrobjusrsrcsysgeneric i386 '
    config_args='-des -Dprefix=/usr/home/cpan/pit/rel/perl-5.12.3 -Dusethreads -Duse64bitint'
    hint=recommended, useposix=true, d_sigaction=define
    useithreads=define, usemultiplicity=define
    useperlio=define, d_sfio=undef, uselargefiles=define, usesocks=undef
    use64bitint=define, use64bitall=undef, uselongdouble=undef
    usemymalloc=n, bincompat5005=undef
  Compiler:
    cc='cc', ccflags ='-DHAS_FPSETMASK -DHAS_FLOATINGPOINT_H -fno-strict-aliasing -pipe -fstack-protector -I/usr/local/include',
    optimize='-O',
    cppflags='-DHAS_FPSETMASK -DHAS_FLOATINGPOINT_H -fno-strict-aliasing -pipe -fstack-protector -I/usr/local/include'
    ccversion='', gccversion='4.2.1 20070719  [FreeBSD]', gccosandvers=''
    intsize=4, longsize=4, ptrsize=4, doublesize=8, byteorder=12345678
    d_longlong=define, longlongsize=8, d_longdbl=define, longdblsize=12
    ivtype='long long', ivsize=8, nvtype='double', nvsize=8, Off_t='off_t', lseeksize=8
    alignbytes=4, prototype=define
  Linker and Libraries:
    ld='cc', ldflags ='-pthread -Wl,-E  -fstack-protector -L/usr/local/lib'
    libpth=/usr/lib /usr/local/lib
    libs=-lgdbm -lm -lcrypt
    perllibs=-lm -lcrypt
    libc=, so=so, useshrplib=false, libperl=libperl.a
    gnulibc_version=''
  Dynamic Linking:
    dlsrc=dl_dlopen.xs, dlext=so, d_dlsymun=undef, ccdlflags=' '
    cccdlflags='-DPIC -fPIC', lddlflags='-shared  -L/usr/local/lib -fstack-protector'


Characteristics of this binary (from libperl): 
  Compile-time options: MULTIPLICITY PERL_DONT_CREATE_GVSV
                        PERL_IMPLICIT_CONTEXT PERL_MALLOC_WRAP USE_64_BIT_INT
                        USE_ITHREADS USE_LARGE_FILES USE_PERLIO USE_PERL_ATOF
                        USE_REENTRANT_API
  Built under freebsd
  Compiled at Mar 16 2011 00:51:58
  %ENV:
    PERL5LIB=":/usr/home/cpan/pit/rel/conf/perl-5.12.3/.cpanplus/5.12.3/build/Data-Dumper-2.128/blib/lib:/usr/home/cpan/pit/rel/conf/perl-5.12.3/.cpanplus/5.12.3/build/Data-Dumper-2.128/blib/arch:/usr/home/cpan/pit/rel/conf/perl-5.12.3/.cpanplus/5.12.3/build/Algorithm-Diff-1.1902/blib/lib:/usr/home/cpan/pit/rel/conf/perl-5.12.3/.cpanplus/5.12.3/build/Algorithm-Diff-1.1902/blib/arch:/usr/home/cpan/pit/rel/conf/perl-5.12.3/.cpanplus/5.12.3/build/Text-Diff-1.41/blib/lib:/usr/home/cpan/pit/rel/conf/perl-5.12.3/.cpanplus/5.12.3/build/Text-Diff-1.41/blib/arch:/usr/home/cpan/pit/rel/conf/perl-5.12.3/.cpanplus/5.12.3/build/Test-Differences-0.61/blib/lib:/usr/home/cpan/pit/rel/conf/perl-5.12.3/.cpanplus/5.12.3/build/Test-Differences-0.61/blib/arch:/usr/home/cpan/pit/rel/conf/perl-5.12.3/.cpanplus/5.12.3/build/Color-Scheme-1.02/blib/lib:/usr/home/cpan/pit/rel/conf/perl-5.12.3/.cpanplus/5.12.3/build/Color-Scheme-1.02/blib/arch"
    PERL5_CPANPLUS_IS_RUNNING="82869"
    PERL5_CPANPLUS_IS_VERSION="0.9105"
    PERL5_MINISMOKEBOX="0.44"
    PERL5_YACSMOKE_BASE="/usr/home/cpan/pit/rel/conf/perl-5.12.3"
    PERL_EXTUTILS_AUTOINSTALL="--defaultdeps"
    PERL_MM_USE_DEFAULT="1"
  @INC:
    /usr/home/cpan/pit/rel/conf/perl-5.12.3/.cpanplus/5.12.3/build/Data-Dumper-2.128/blib/lib
    /usr/home/cpan/pit/rel/conf/perl-5.12.3/.cpanplus/5.12.3/build/Data-Dumper-2.128/blib/arch
    /usr/home/cpan/pit/rel/conf/perl-5.12.3/.cpanplus/5.12.3/build/Algorithm-Diff-1.1902/blib/lib
    /usr/home/cpan/pit/rel/conf/perl-5.12.3/.cpanplus/5.12.3/build/Algorithm-Diff-1.1902/blib/arch
    /usr/home/cpan/pit/rel/conf/perl-5.12.3/.cpanplus/5.12.3/build/Text-Diff-1.41/blib/lib
    /usr/home/cpan/pit/rel/conf/perl-5.12.3/.cpanplus/5.12.3/build/Text-Diff-1.41/blib/arch
    /usr/home/cpan/pit/rel/conf/perl-5.12.3/.cpanplus/5.12.3/build/Test-Differences-0.61/blib/lib
    /usr/home/cpan/pit/rel/conf/perl-5.12.3/.cpanplus/5.12.3/build/Test-Differences-0.61/blib/arch
    /usr/home/cpan/pit/rel/conf/perl-5.12.3/.cpanplus/5.12.3/build/Color-Scheme-1.02/blib/lib
    /usr/home/cpan/pit/rel/conf/perl-5.12.3/.cpanplus/5.12.3/build/Color-Scheme-1.02/blib/arch
    /usr/home/cpan/pit/rel/perl-5.12.3/lib/site_perl/5.12.3/i386-freebsd-thread-multi-64int
    /usr/home/cpan/pit/rel/perl-5.12.3/lib/site_perl/5.12.3
    /usr/home/cpan/pit/rel/perl-5.12.3/lib/5.12.3/i386-freebsd-thread-multi-64int
    /usr/home/cpan/pit/rel/perl-5.12.3/lib/5.12.3
    .