XML-Feed v0.62 Perl 5 v5.16.3 amd64-freebsd-thread-multi

Status
Pass
From
Slaven Rezić
Dist
XML-Feed v0.62
Platform
Perl 5 v5.16.3 amd64-freebsd-thread-multi
Date
2021-05-24 15:43:53
ID
d7d4f972-bca6-11eb-85fb-df2c1f24ea8f
This distribution has been tested as part of the CPAN Testers
project, supporting the Perl programming language.  See
http://wiki.cpantesters.org/ for more information or email
questions to cpan-testers-discuss@perl.org


--
Dear Dave Cross,

This is a computer-generated report for XML-Feed-0.62
on perl 5.16.3, created by CPAN-Reporter-1.2018.

Thank you for uploading your work to CPAN.  Congratulations!
All tests were successful.

Sections of this report:

    * Tester comments
    * Program output
    * Prerequisites
    * Environment and other context

------------------------------
TESTER COMMENTS
------------------------------

Additional comments from tester:

none provided

------------------------------
PROGRAM OUTPUT
------------------------------

Output from './Build test':

t/00-compile.t .................. ok
t/01-parse.t .................... ok
t/02-create.t ................... ok
t/04-splice-atom.t .............. ok
t/04-splice-rss.t ............... ok
t/05-atom10-link.t .............. ok
t/06-atom10.t ................... ok
t/07-atom10-create.t ............ ok
t/08-convert-summary-bug.t ...... ok
t/09-missing-content-bug.t ...... ok
t/10-mix-and-match.t ............ ok
t/11-xml-base-atom.t ............ ok
t/11-xml-base-rss.t ............. ok
t/12-multi-categories-atom.t .... ok
t/12-multi-categories-rss.t ..... ok
t/12-multi-subjects-rss.t ....... ok
t/13-category-hash-bug.t ........ ok
t/14-enclosures.t ............... ok
t/14-multi-enclosures.t ......... ok
t/15-odd-date.t ................. ok
t/16-convert-mult-categories.t .. ok
t/17-double.t ................... ok
t/18-double2.t .................. ok
t/19-double3.t .................. ok
t/20-no-enclosures.t ............ ok
t/21-rss2-permalinks.t .......... ok
t/22-bug73160.t ................. ok
t/23-eval.t ..................... ok
t/24-identify-feed.t ............ ok
t/25-date-format-bug.t .......... ok
t/26-content-encoded.t .......... ok
t/27-dummy-content-encoded.t .... ok
t/28-rss-guid.t ................. ok
t/29-date-parsing.t ............. ok
t/has-version.t ................. ok
t/pod-coverage.t ................ ok
t/pod.t ......................... ok
t/relative-links.t .............. ok
All tests successful.
Files=38, Tests=834, 14 wallclock secs ( 0.05 usr  0.29 sys + 12.16 cusr  1.34 csys = 13.83 CPU)
Result: PASS

------------------------------
PREREQUISITES
------------------------------

Prerequisite modules loaded:

requires:

    Module                     Need    Have    
    -------------------------- ------- --------
    Class::ErrorHandler        0       0.04    
    DateTime                   0       1.54    
    DateTime::Format::Flexible 0       0.31    
    DateTime::Format::ISO8601  0       0.15    
    DateTime::Format::Mail     0       0.403   
    DateTime::Format::Natural  0       1.11    
    DateTime::Format::W3CDTF   0       0.06    
    Feed::Find                 0       0.07    
    HTML::Entities             0       3.75    
    HTML::TokeParser           0       3.75    
    List::Util                 0       1.56    
    LWP::UserAgent             0       6.53    
    Module::Pluggable          0       5.1     
    perl                       v5.10.0 5.016003
    Scalar::Util               0       1.56    
    Test::More                 0       1.302185
    URI::Fetch                 0       0.11    
    XML::Atom                  0.38    0.42    
    XML::LibXML                1.66    2.0207  
    XML::RSS                   1.47    1.60    

build_requires:

    Module                     Need    Have    
    -------------------------- ------- --------
    URI                        0       5.09    
    XML::XPath                 0       1.43    

configure_requires:

    Module                     Need    Have    
    -------------------------- ------- --------
    Module::Build              0.42    0.4231  


------------------------------
ENVIRONMENT AND OTHER CONTEXT
------------------------------

Environment variables:

    LC_ALL = de_DE.ISO8859-1
    PATH = /usr/local/bin:/usr/bin:/bin:/usr/local/sbin:/usr/sbin:/sbin:/home/cpansand/bin/freebsd9.3:/home/cpansand/bin/sh:/home/cpansand/bin:/usr/games:/home/cpansand/devel:/usr/home/eserte/src/srezic-misc/scripts
    PERL5LIB = 
    PERL5OPT = 
    PERL5_CPANPLUS_IS_RUNNING = 78410
    PERL5_CPAN_IS_RUNNING = 78410
    PERL5_CPAN_IS_RUNNING_IN_RECURSION = 78048,78410
    PERLDOC = -MPod::Perldoc::ToTextOverstrike
    PERL_BATCH = yes
    PERL_CANARY_STABILITY_NOPROMPT = 1
    PERL_CPAN_REPORTER_CONFIG = /var/tmp/cpansmoker-1023/2021052417/cpanreporter_000_config.ini
    PERL_EXTUTILS_AUTOINSTALL = --defaultdeps
    PERL_USE_UNSAFE_INC = 1
    SHELL = /usr/local/bin/zsh
    TERM = screen
    TMPDIR = /var/tmp/cpansmoker-1023/2021052417

Perl special variables (and OS-specific diagnostics, for MSWin32):

    $^X = /usr/perl5.16.3t/bin/perl
    $UID/$EUID = 1023 / 1023
    $GID = 1023 1023
    $EGID = 1023 1023

Perl module toolchain versions installed:

    Module              Have    
    ------------------- --------
    CPAN                2.27    
    CPAN::Meta          2.150010
    Cwd                 3.75    
    ExtUtils::CBuilder  0.280231
    ExtUtils::Command   7.62    
    ExtUtils::Install   2.20    
    ExtUtils::MakeMaker 7.62    
    ExtUtils::Manifest  1.73    
    ExtUtils::ParseXS   3.35    
    File::Spec          3.75    
    JSON                4.03    
    JSON::PP            4.05    
    Module::Build       0.4231  
    Module::Signature   0.86    
    Parse::CPAN::Meta   2.150010
    Test::Harness       3.42    
    Test::More          1.302185
    YAML                1.30    
    YAML::Syck          1.33    
    version             0.9929  


--

Summary of my perl5 (revision 5 version 16 subversion 3) configuration:
   
  Platform:
    osname=freebsd, osvers=9.2-release-p4, archname=amd64-freebsd-thread-multi
    uname='freebsd cvrsnica-freebsd-92 9.2-release-p4 freebsd 9.2-release-p4 #0: tue apr 8 18:08:22 utc 2014 root@amd64-builder.daemonology.net:usrobjusrsrcsysgeneric amd64 '
    config_args='-ds -e -Dprefix=/usr/perl5.16.3t -Dusethreads'
    hint=recommended, useposix=true, d_sigaction=define
    useithreads=define, usemultiplicity=define
    useperlio=define, d_sfio=undef, uselargefiles=define, usesocks=undef
    use64bitint=define, use64bitall=define, uselongdouble=undef
    usemymalloc=n, bincompat5005=undef
  Compiler:
    cc='cc', ccflags ='-DHAS_FPSETMASK -DHAS_FLOATINGPOINT_H -fno-strict-aliasing -pipe -fstack-protector -I/usr/local/include',
    optimize='-O',
    cppflags='-DHAS_FPSETMASK -DHAS_FLOATINGPOINT_H -fno-strict-aliasing -pipe -fstack-protector -I/usr/local/include'
    ccversion='', gccversion='4.2.1 20070831 patched [FreeBSD]', gccosandvers=''
    intsize=4, longsize=8, ptrsize=8, doublesize=8, byteorder=12345678
    d_longlong=define, longlongsize=8, d_longdbl=define, longdblsize=16
    ivtype='long', ivsize=8, nvtype='double', nvsize=8, Off_t='off_t', lseeksize=8
    alignbytes=8, prototype=define
  Linker and Libraries:
    ld='cc', ldflags ='-pthread -Wl,-E  -fstack-protector -L/usr/local/lib'
    libpth=/usr/lib /usr/local/lib
    libs=-lgdbm -lm -lcrypt
    perllibs=-lm -lcrypt
    libc=, so=so, useshrplib=false, libperl=libperl.a
    gnulibc_version=''
  Dynamic Linking:
    dlsrc=dl_dlopen.xs, dlext=so, d_dlsymun=undef, ccdlflags=' '
    cccdlflags='-DPIC -fPIC', lddlflags='-shared  -L/usr/local/lib -fstack-protector'


Characteristics of this binary (from libperl): 
  Compile-time options: HAS_TIMES MULTIPLICITY PERLIO_LAYERS
                        PERL_DONT_CREATE_GVSV PERL_IMPLICIT_CONTEXT
                        PERL_MALLOC_WRAP PERL_PRESERVE_IVUV USE_64_BIT_ALL
                        USE_64_BIT_INT USE_ITHREADS USE_LARGE_FILES
                        USE_LOCALE USE_LOCALE_COLLATE USE_LOCALE_CTYPE
                        USE_LOCALE_NUMERIC USE_PERLIO USE_PERL_ATOF
                        USE_REENTRANT_API
  Built under freebsd
  Compiled at May 16 2014 07:49:48
  %ENV:
    PERL5LIB=""
    PERL5OPT=""
    PERL5_CPANPLUS_IS_RUNNING="78410"
    PERL5_CPAN_IS_RUNNING="78410"
    PERL5_CPAN_IS_RUNNING_IN_RECURSION="78048,78410"
    PERLDOC="-MPod::Perldoc::ToTextOverstrike"
    PERL_BATCH="yes"
    PERL_CANARY_STABILITY_NOPROMPT="1"
    PERL_CPAN_REPORTER_CONFIG="/var/tmp/cpansmoker-1023/2021052417/cpanreporter_000_config.ini"
    PERL_EXTUTILS_AUTOINSTALL="--defaultdeps"
    PERL_USE_UNSAFE_INC="1"
  @INC:
    /usr/perl5.16.3t/lib/site_perl/5.16.3/amd64-freebsd-thread-multi
    /usr/perl5.16.3t/lib/site_perl/5.16.3
    /usr/perl5.16.3t/lib/5.16.3/amd64-freebsd-thread-multi
    /usr/perl5.16.3t/lib/5.16.3
    .