Mojolicious-Plugin-BasicAuthPlus v0.11.3 Perl 5 v5.24.2 darwin-thread-multi-2level

Status
Pass
From
Nigel Horne
Dist
Mojolicious-Plugin-BasicAuthPlus v0.11.3
Platform
Perl 5 v5.24.2 darwin-thread-multi-2level
Date
2018-12-31 20:58:37
ID
d7ea2000-0d3e-11e9-b84f-db6eff059962
This distribution has been tested as part of the CPAN Testers
project, supporting the Perl programming language.  See
http://wiki.cpantesters.org/ for more information or email
questions to cpan-testers-discuss@perl.org


--
Dear Brad Robertson,

This is a computer-generated report for Mojolicious-Plugin-BasicAuthPlus-0.11.3
on perl 5.24.2, created by CPAN-Reporter-1.2018.

Thank you for uploading your work to CPAN.  Congratulations!
All tests were successful.

Sections of this report:

    * Tester comments
    * Program output
    * Prerequisites
    * Environment and other context

------------------------------
TESTER COMMENTS
------------------------------

Additional comments from tester:

this report is from an automated smoke testing program
and was not reviewed by a human for accuracy

------------------------------
PROGRAM OUTPUT
------------------------------

Output from '/sw/bin/make test':

PERL_DL_NONLAZY=1 "/Users/hornenj/perl5/perlbrew/perls/perl-5.24.2/bin/perl" "-MExtUtils::Command::MM" "-MTest::Harness" "-e" "undef *Test::Harness::Switches; test_harness(0, 'blib/lib', 'blib/arch')" t/*.t
t/manifest.t ...... skipped: Author tests not required for installation
# Testing Mojolicious::Plugin::BasicAuthPlus 0.11.3, Perl 5.024002, /Users/hornenj/perl5/perlbrew/perls/perl-5.24.2/bin/perl
t/00-load.t ....... ok
t/pod.t ........... ok
t/pod-coverage.t .. ok
t/auth-ldap.t ..... skipped: SKIPPING LDAP TESTS, TEST ENVIRONMENT VARIABLES NOT SET
# 
# /under-bridge
# /user-pass
# /user-pass-with-hash
# /user-pass-with-hash-return
# /user-pass-with-colon-password
# /user-pass-with-colon-password-with-hash
# /pass
# /pass-with-hash
# /get-auth-callback
# /get-auth-callback-with-hash
# /get-auth-callback-with-colon-password
# /get-auth-callback-with-colon-password-with-hash
# /under-bridge
# /get-auth-with-explicit-creds
# /get-auth-with-explicit-creds-with-hash
# /get-auth-with-encrypted-pass
# /get-auth-with-encrypted-pass-with-hash
# /passwd-file
# /passwd-file-with-hash
t/auth.t .......... ok
All tests successful.
Files=6, Tests=85,  1 wallclock secs ( 0.03 usr  0.02 sys +  0.99 cusr  0.43 csys =  1.47 CPU)
Result: PASS

------------------------------
PREREQUISITES
------------------------------

Prerequisite modules loaded:

requires:

    Module                   Need     Have    
    ------------------------ -------- --------
    Authen::Simple::Passwd   0        0.6     
    Authen::Simple::Password 0        0       
    Mojolicious              1.4      8.01    
    Net::LDAP                0        0.65    
    perl                     5.006001 5.024002
    Test::More               0        1.302106

build_requires:

    Module                   Need     Have    
    ------------------------ -------- --------
    Mojo::ByteStream         0        0       
    Mojo::IOLoop             0        0       
    Mojolicious::Lite        0        0       
    Test::Mojo               0        0       
    Test::More               0        1.302106

configure_requires:

    Module                   Need     Have    
    ------------------------ -------- --------
    ExtUtils::MakeMaker      0        7.34    


------------------------------
ENVIRONMENT AND OTHER CONTEXT
------------------------------

Environment variables:

    AUTOMATED_TESTING = 1
    HARNESS_OPTIONS = j4
    LANG = en_US.UTF-8
    LC_ALL = POSIX
    NONINTERACTIVE_TESTING = 1
    PATH = /Users/hornenj/perl5/perlbrew/bin:/Users/hornenj/perl5/perlbrew/perls/perl-5.24.2/bin:src/njh/smoker/bin:/Users/hornenj/homebrew/bin:/Users/hornenj/bin:/usr/bin:/bin:/usr/X11R6/bin:/sw/bin
    PERL5LIB = /Users/hornenj/.cpan/build/perl-ldap-0.65-9/blib/arch:/Users/hornenj/.cpan/build/perl-ldap-0.65-9/blib/lib:/Users/hornenj/.cpan/build/Convert-ASN1-0.27-9/blib/arch:/Users/hornenj/.cpan/build/Convert-ASN1-0.27-9/blib/lib:/Users/hornenj/.cpan/build/Authen-Simple-Passwd-0.6-9/blib/arch:/Users/hornenj/.cpan/build/Authen-Simple-Passwd-0.6-9/blib/lib:/Users/hornenj/.cpan/build/Authen-Simple-0.5-9/blib/arch:/Users/hornenj/.cpan/build/Authen-Simple-0.5-9/blib/lib:/Users/hornenj/.cpan/build/Crypt-PasswdMD5-1.40-9/blib/arch:/Users/hornenj/.cpan/build/Crypt-PasswdMD5-1.40-9/blib/lib
    PERL5OPT = 
    PERL5_CPANPLUS_IS_RUNNING = 88068
    PERL5_CPAN_IS_RUNNING = 88068
    PERLBREW_HOME = /Users/hornenj/.perlbrew
    PERLBREW_MANPATH = /Users/hornenj/perl5/perlbrew/perls/perl-5.24.2/man
    PERLBREW_PATH = /Users/hornenj/perl5/perlbrew/bin:/Users/hornenj/perl5/perlbrew/perls/perl-5.24.2/bin
    PERLBREW_PERL = perl-5.24.2
    PERLBREW_ROOT = /Users/hornenj/perl5/perlbrew
    PERLBREW_SHELLRC_VERSION = 0.85
    PERLBREW_VERSION = 0.85
    PERL_MM_USE_DEFAULT = 1
    SHELL = /bin/bash
    TERM = xterm-256color
    TMPDIR = /var/folders/pz/pd7y1qjs6s3cbk170cw50fjc000c61/T//testwrapper.88054
    VERSIONER_PERL_PREFER_32_BIT = no
    VERSIONER_PERL_VERSION = 5.18

Perl special variables (and OS-specific diagnostics, for MSWin32):

    $^X = /Users/hornenj/perl5/perlbrew/perls/perl-5.24.2/bin/perl
    $UID/$EUID = 12481 / 12481
    $GID = 14 14 206 5344 37191 527 12 62 98 204 399 37223 241 223 100
    $EGID = 14 14 206 5344 37191 527 12 62 98 204 399 37223 241 223 100

Perl module toolchain versions installed:

    Module              Have      
    ------------------- ----------
    CPAN                2.16      
    CPAN::Meta          2.150010  
    Cwd                 3.75      
    ExtUtils::CBuilder  0.280225  
    ExtUtils::Command   7.34      
    ExtUtils::Install   2.06      
    ExtUtils::MakeMaker 7.34      
    ExtUtils::Manifest  1.70      
    ExtUtils::ParseXS   3.31      
    File::Spec          3.75      
    JSON                4.00      
    JSON::PP            2.27300_01
    Module::Build       0.4224    
    Module::Signature   n/a       
    Parse::CPAN::Meta   2.150010  
    Test::Harness       3.36_01   
    Test::More          1.302106  
    YAML                1.27      
    YAML::Syck          1.31      
    version             0.9916    


--

Summary of my perl5 (revision 5 version 24 subversion 2) configuration:
   
  Platform:
    osname=darwin, osvers=15.6.0, archname=darwin-thread-multi-2level
    uname='darwin ncbimac2027 15.6.0 darwin kernel version 15.6.0: fri feb 17 10:21:18 pst 2017; root:xnu-3248.60.11.4.1~1release_x86_64 x86_64 '
    config_args='-de -Dprefix=/Users/hornenj/perl5/perlbrew/perls/perl-5.24.2 -Duseithreads -Dusemultiplicity -Dusedevel -Accflags=-O2 -W -Wformat=2 -Wswitch -Wshadow -Wwrite-strings -Wuninitialized -Wall -pipe -fomit-frame-pointer -pedantic -D_FORTIFY_SOURCE=2 -Wpointer-arith -Wstrict-prototypes -fstack-protector -Wstack-protector -Wextra -Wbad-function-cast -Wcast-align -Wcast-qual -Wdisabled-optimization -Wendif-labels -Wfloat-equal -Wformat-nonliteral -Winline -Wmissing-declarations -Wmissing-prototypes -Wnested-externs -Wpointer-arith -Wundef -Wformat-security -ftree-vectorize -mmmx -msse -mfpmath=sse -msse2 -msse3 -msse4.1 -msse4.2 -fdiagnostics-color=auto -mtune=native -march=native -I/Users/hornenj/openssl/include -Acc=cc -Aeval:scriptdir=/Users/hornenj/perl5/perlbrew/perls/perl-5.24.2/bin'
    hint=recommended, useposix=true, d_sigaction=define
    useithreads=define, usemultiplicity=define
    use64bitint=define, use64bitall=define, uselongdouble=undef
    usemymalloc=n, bincompat5005=undef
  Compiler:
    cc=' cc', ccflags ='-fno-common -DPERL_DARWIN -O2 -W -Wformat=2 -Wswitch -Wshadow -Wwrite-strings -Wuninitialized -Wall -pipe -fomit-frame-pointer -pedantic -D_FORTIFY_SOURCE=2 -Wpointer-arith -Wstrict-prototypes -fstack-protector -Wstack-protector -Wextra -Wbad-function-cast -Wcast-align -Wcast-qual -Wdisabled-optimization -Wendif-labels -Wfloat-equal -Wformat-nonliteral -Winline -Wmissing-declarations -Wmissing-prototypes -Wnested-externs -Wpointer-arith -Wundef -Wformat-security -ftree-vectorize -mmmx -msse -mfpmath=sse -msse2 -msse3 -msse4.1 -msse4.2 -fdiagnostics-color=auto -mtune=native -march=native -I/Users/hornenj/openssl/include -fno-strict-aliasing -fstack-protector-strong -I/usr/local/include',
    optimize='-O3',
    cppflags='-fno-common -DPERL_DARWIN -O2 -W -Wformat=2 -Wswitch -Wshadow -Wwrite-strings -Wuninitialized -Wall -pipe -fomit-frame-pointer -pedantic -D_FORTIFY_SOURCE=2 -Wpointer-arith -Wstrict-prototypes -fstack-protector -Wstack-protector -Wextra -Wbad-function-cast -Wcast-align -Wcast-qual -Wdisabled-optimization -Wendif-labels -Wfloat-equal -Wformat-nonliteral -Winline -Wmissing-declarations -Wmissing-prototypes -Wnested-externs -Wpointer-arith -Wundef -Wformat-security -ftree-vectorize -mmmx -msse -mfpmath=sse -msse2 -msse3 -msse4.1 -msse4.2 -fdiagnostics-color=auto -mtune=native -march=native -I/Users/hornenj/openssl/include -fno-strict-aliasing -fstack-protector-strong -I/usr/local/include'
    ccversion='', gccversion='4.2.1 Compatible Apple LLVM 8.0.0 (clang-800.0.42.1)', gccosandvers=''
    intsize=4, longsize=8, ptrsize=8, doublesize=8, byteorder=12345678, doublekind=3
    d_longlong=define, longlongsize=8, d_longdbl=define, longdblsize=16, longdblkind=3
    ivtype='long', ivsize=8, nvtype='double', nvsize=8, Off_t='off_t', lseeksize=8
    alignbytes=8, prototype=define
  Linker and Libraries:
    ld='env MACOSX_DEPLOYMENT_TARGET=10.3 cc', ldflags =' -fstack-protector-strong -L/usr/local/lib'
    libpth=/usr/local/lib /Applications/Xcode.app/Contents/Developer/Toolchains/XcodeDefault.xctoolchain/usr/bin/../lib/clang/8.0.0/lib /Applications/Xcode.app/Contents/Developer/Toolchains/XcodeDefault.xctoolchain/usr/lib /usr/lib
    libs=-lpthread -ldbm -ldl -lm -lutil -lc
    perllibs=-lpthread -ldl -lm -lutil -lc
    libc=, so=dylib, useshrplib=false, libperl=libperl.a
    gnulibc_version=''
  Dynamic Linking:
    dlsrc=dl_dlopen.xs, dlext=bundle, d_dlsymun=undef, ccdlflags=' '
    cccdlflags=' ', lddlflags=' -bundle -undefined dynamic_lookup -L/usr/local/lib -fstack-protector-strong'


Characteristics of this binary (from libperl): 
  Compile-time options: HAS_TIMES MULTIPLICITY PERLIO_LAYERS
                        PERL_COPY_ON_WRITE PERL_DONT_CREATE_GVSV
                        PERL_HASH_FUNC_ONE_AT_A_TIME_HARD
                        PERL_IMPLICIT_CONTEXT PERL_MALLOC_WRAP
                        PERL_PRESERVE_IVUV PERL_USE_DEVEL USE_64_BIT_ALL
                        USE_64_BIT_INT USE_ITHREADS USE_LARGE_FILES
                        USE_LOCALE USE_LOCALE_COLLATE USE_LOCALE_CTYPE
                        USE_LOCALE_NUMERIC USE_LOCALE_TIME USE_PERLIO
                        USE_PERL_ATOF USE_REENTRANT_API
  Locally applied patches:
	Devel::PatchPerl 1.30
  Built under darwin
  Compiled at Jul 17 2017 12:57:09
  %ENV:
    PERL5LIB="/Users/hornenj/.cpan/build/perl-ldap-0.65-9/blib/arch:/Users/hornenj/.cpan/build/perl-ldap-0.65-9/blib/lib:/Users/hornenj/.cpan/build/Convert-ASN1-0.27-9/blib/arch:/Users/hornenj/.cpan/build/Convert-ASN1-0.27-9/blib/lib:/Users/hornenj/.cpan/build/Authen-Simple-Passwd-0.6-9/blib/arch:/Users/hornenj/.cpan/build/Authen-Simple-Passwd-0.6-9/blib/lib:/Users/hornenj/.cpan/build/Authen-Simple-0.5-9/blib/arch:/Users/hornenj/.cpan/build/Authen-Simple-0.5-9/blib/lib:/Users/hornenj/.cpan/build/Crypt-PasswdMD5-1.40-9/blib/arch:/Users/hornenj/.cpan/build/Crypt-PasswdMD5-1.40-9/blib/lib"
    PERL5OPT=""
    PERL5_CPANPLUS_IS_RUNNING="88068"
    PERL5_CPAN_IS_RUNNING="88068"
    PERLBREW_HOME="/Users/hornenj/.perlbrew"
    PERLBREW_MANPATH="/Users/hornenj/perl5/perlbrew/perls/perl-5.24.2/man"
    PERLBREW_PATH="/Users/hornenj/perl5/perlbrew/bin:/Users/hornenj/perl5/perlbrew/perls/perl-5.24.2/bin"
    PERLBREW_PERL="perl-5.24.2"
    PERLBREW_ROOT="/Users/hornenj/perl5/perlbrew"
    PERLBREW_SHELLRC_VERSION="0.85"
    PERLBREW_VERSION="0.85"
    PERL_MM_USE_DEFAULT="1"
  @INC:
    /Users/hornenj/.cpan/build/perl-ldap-0.65-9/blib/arch
    /Users/hornenj/.cpan/build/perl-ldap-0.65-9/blib/lib
    /Users/hornenj/.cpan/build/Convert-ASN1-0.27-9/blib/arch
    /Users/hornenj/.cpan/build/Convert-ASN1-0.27-9/blib/lib
    /Users/hornenj/.cpan/build/Authen-Simple-Passwd-0.6-9/blib/arch
    /Users/hornenj/.cpan/build/Authen-Simple-Passwd-0.6-9/blib/lib
    /Users/hornenj/.cpan/build/Authen-Simple-0.5-9/blib/arch
    /Users/hornenj/.cpan/build/Authen-Simple-0.5-9/blib/lib
    /Users/hornenj/.cpan/build/Crypt-PasswdMD5-1.40-9/blib/arch
    /Users/hornenj/.cpan/build/Crypt-PasswdMD5-1.40-9/blib/lib
    /Users/hornenj/perl5/perlbrew/perls/perl-5.24.2/lib/site_perl/5.24.2/darwin-thread-multi-2level
    /Users/hornenj/perl5/perlbrew/perls/perl-5.24.2/lib/site_perl/5.24.2
    /Users/hornenj/perl5/perlbrew/perls/perl-5.24.2/lib/5.24.2/darwin-thread-multi-2level
    /Users/hornenj/perl5/perlbrew/perls/perl-5.24.2/lib/5.24.2
    .