Perl-Critic v1.156 Perl 5 v5.40.1 amd64-netbsd
- Status
- Pass
- From
- Roland van Ipenburg (IPENBURG)
- Dist
-
Perl-Critic v1.156
- Platform
- Perl 5 v5.40.1 amd64-netbsd
- Date
- 2025-04-05 20:09:13
- ID
- d7ec1bc2-1259-11f0-8813-d695f51554d9
This distribution has been tested as part of the CPAN Testers
project, supporting the Perl programming language. See
http://wiki.cpantesters.org/ for more information or email
questions to cpan-testers-discuss@perl.org
--
Dear Andy Lester,
This is a computer-generated report for Perl-Critic-1.156
on perl 5.40.1, created by CPAN-Reporter-1.2020.
Thank you for uploading your work to CPAN. Congratulations!
All tests were successful.
Sections of this report:
* Tester comments
* Program output
* Prerequisites
* Environment and other context
------------------------------
TESTER COMMENTS
------------------------------
Additional comments from tester:
none provided
------------------------------
PROGRAM OUTPUT
------------------------------
Output from './Build test':
# Testing Perl::Critic 1.156 with PPI 1.281 under Perl 5.040001, /usr/local/bin/perl
t/00_modules.t ................................ ok
t/00_versions.t ............................... ok
t/01_config.t ................................. ok
t/01_config_bad_perlcriticrc.t ................ ok
t/01_policy_config.t .......................... ok
t/02_policy.t ................................. ok
t/03_annotations.t ............................ ok
t/03_pragmas.t ................................ ok
t/04_options_processor.t ...................... ok
t/05_utils.t .................................. ok
t/05_utils_perl.t ............................. ok
t/05_utils_pod.t .............................. ok
t/05_utils_ppi.t .............................. ok
t/06_violation.t .............................. ok
t/07_command.t ................................ ok
t/07_perlcritic.t ............................. ok
t/08_document.t ............................... ok
t/09_theme.t .................................. ok
t/10_user_profile.t ........................... ok
t/11_policy_factory.t ......................... ok
t/12_policy_listing.t ......................... ok
t/12_theme_listing.t .......................... ok
t/13_bundled_policies.t ....................... ok
t/14_policy_parameter_behavior_boolean.t ...... ok
t/14_policy_parameter_behavior_enumeration.t .. ok
t/14_policy_parameter_behavior_integer.t ...... ok
t/14_policy_parameter_behavior_list_string.t .. ok
t/14_policy_parameter_behavior_string.t ....... ok
t/14_policy_parameters.t ...................... ok
t/15_statistics.t ............................. ok
t/16_roundtrip_defaults.t ..................... ok
t/20_policies.t ............................... skipped: Test::Perl::Critic required to test Perl::Critic itself
t/20_policy_pod_spelling.t .................... ok
t/20_policy_prohibit_evil_modules.t ........... ok
t/20_policy_prohibit_hard_tabs.t .............. ok
t/20_policy_prohibit_trailing_whitespace.t .... ok
t/20_policy_require_consistent_newlines.t ..... ok
t/20_policy_require_tidy_code.t ............... ok
t/92_memory_leaks.t ........................... skipped: Test::Memory::Cycle required to test memory leaks
t/gh-734.t .................................... ok
All tests successful.
Files=40, Tests=5406, 39 wallclock secs ( 0.32 usr 0.08 sys + 29.34 cusr 9.80 csys = 39.54 CPU)
Result: PASS
------------------------------
PREREQUISITES
------------------------------
Prerequisite modules loaded:
requires:
Module Need Have
------------------------- -------- --------
B::Keywords 1.23 1.27
Carp 0 1.54
charnames 0 1.50
Config::Tiny 2 2.30
English 0 1.11
Exception::Class 1.23 1.45
Exporter 5.63 5.78
File::Basename 0 2.86
File::Find 0 1.44
File::Path 0 2.18
File::Spec 0 3.91
File::Spec::Unix 0 3.91
File::Temp 0 0.2311
File::Which 0 1.27
Getopt::Long 0 2.58
List::SomeUtils 0.55 0.59
List::Util 0 1.63
Module::Pluggable 3.1 6.3
overload 0 1.37
parent 0 0.241
perl 5.010001 5.040001
Perl::Tidy 0 20250311
Pod::PlainText 0 2.07
Pod::Select 0 1.67
Pod::Spell 1 1.27
Pod::Usage 0 2.03
PPI 1.277 1.281
PPI::Document 1.277 1.281
PPI::Document::File 1.277 1.281
PPI::Node 1.277 1.281
PPI::Token::Quote::Single 1.277 1.281
PPI::Token::Whitespace 1.277 1.281
PPIx::QuoteLike 0 0.023
PPIx::Regexp 0.027 0.088
PPIx::Regexp::Util 0.068 0.088
PPIx::Utils::Traversal 0.003 0.003
Readonly 2 2.05
Scalar::Util 0 1.63
strict 0 1.13
String::Format 1.18 1.18
Term::ANSIColor 2.02 5.01
Test::Builder 0.92 1.302199
Text::ParseWords 3 3.31
version 0.77 0.9930
warnings 0 1.70
build_requires:
Module Need Have
------------------------- -------- --------
lib 0 0.65
Test::More 0 1.302199
configure_requires:
Module Need Have
------------------------- -------- --------
B::Keywords 1.23 1.27
base 0 2.27
Carp 0 1.54
English 0 1.11
Exporter 5.63 5.78
lib 0 0.65
List::SomeUtils 0.55 0.59
Module::Build 0.4204 0.4234
------------------------------
ENVIRONMENT AND OTHER CONTEXT
------------------------------
Environment variables:
NONINTERACTIVE_TESTING = 1
PATH = /home/roland/bin:/bin:/sbin:/usr/bin:/usr/sbin:/usr/X11R7/bin:/usr/pkg/bin:/usr/pkg/sbin:/usr/games:/usr/local/bin:/usr/local/sbin
PERL5LIB = /home/roland/.cpan/build/String-Format-1.18-7/blib/arch:/home/roland/.cpan/build/String-Format-1.18-7/blib/lib:/home/roland/.cpan/build/Pod-Spell-1.27-4/blib/arch:/home/roland/.cpan/build/Pod-Spell-1.27-4/blib/lib:/home/roland/.cpan/build/Pod-Parser-1.67-6/blib/arch:/home/roland/.cpan/build/Pod-Parser-1.67-6/blib/lib:/home/roland/.cpan/build/Perl-Tidy-20250311-2/blib/arch:/home/roland/.cpan/build/Perl-Tidy-20250311-2/blib/lib:/home/roland/.cpan/build/Log-Dispatchouli-3.009-3/blib/arch:/home/roland/.cpan/build/Log-Dispatchouli-3.009-3/blib/lib
PERL5OPT =
PERL5_CPANPLUS_IS_RUNNING = 24710
PERL5_CPAN_IS_RUNNING = 24710
PERL_MM_USE_DEFAULT = 1
PERL_USE_UNSAFE_INC = 1
SHELL = /bin/sh
TERM = screen.xterm-256color
Perl special variables (and OS-specific diagnostics, for MSWin32):
$^X = /usr/local/bin/perl
$UID/$EUID = 1000 / 1000
$GID = 100 100 0
$EGID = 100 100 0
Perl module toolchain versions installed:
Module Have
------------------- --------
CPAN 2.38
CPAN::Meta 2.150010
Cwd 3.91
ExtUtils::CBuilder 0.280240
ExtUtils::Command 7.72
ExtUtils::Install 2.22
ExtUtils::MakeMaker 7.72
ExtUtils::Manifest 1.75
ExtUtils::ParseXS 3.51
File::Spec 3.91
JSON 4.10
JSON::PP 4.16
Module::Build 0.4234
Module::Signature n/a
Parse::CPAN::Meta 2.150010
Test2 1.302199
Test::Harness 3.48
Test::More 1.302199
YAML n/a
YAML::Syck n/a
version 0.9930
--
Summary of my perl5 (revision 5 version 40 subversion 1) configuration:
Platform:
osname=netbsd
osvers=9.3
archname=amd64-netbsd
uname='netbsd netbsd 9.3 netbsd 9.3 (generic) #0: thu aug 4 15:30:37 utc 2022 mkrepro@mkrepro.netbsd.org:usrsrcsysarchamd64compilegeneric amd64 '
config_args='-des -Dinc_version_list=none'
hint=previous
useposix=true
d_sigaction=define
useithreads=undef
usemultiplicity=undef
use64bitint=define
use64bitall=define
uselongdouble=undef
usemymalloc=n
default_inc_excludes_dot=define
Compiler:
cc='cc'
ccflags ='-fwrapv -fno-strict-aliasing -pipe -fstack-protector-strong -I/usr/pkg/include -D_FORTIFY_SOURCE=2'
optimize='-O'
cppflags='-fwrapv -fno-strict-aliasing -pipe -fstack-protector-strong -I/usr/pkg/include'
ccversion=''
gccversion='7.5.0'
gccosandvers=''
intsize=4
longsize=8
ptrsize=8
doublesize=8
byteorder=12345678
doublekind=3
d_longlong=define
longlongsize=8
d_longdbl=define
longdblsize=16
longdblkind=3
ivtype='long'
ivsize=8
nvtype='double'
nvsize=8
Off_t='off_t'
lseeksize=8
alignbytes=8
prototype=define
Linker and Libraries:
ld='cc'
ldflags =' -Wl,-rpath,/usr/pkg/lib -Wl,-rpath,/usr/local/lib -fstack-protector-strong -L/usr/pkg/lib -L/usr/local/lib'
libpth=/usr/lib /usr/pkg/lib /lib /usr/local/lib
libs=-lpthread -lm -lcrypt -lutil -lc -lposix
perllibs=-lpthread -lm -lcrypt -lutil -lc -lposix
libc=/lib/libc.so
so=so
useshrplib=false
libperl=libperl.a
gnulibc_version=''
Dynamic Linking:
dlsrc=dl_dlopen.xs
dlext=so
d_dlsymun=undef
ccdlflags='-Wl,-E '
cccdlflags='-DPIC -fPIC '
lddlflags='-shared -L/usr/pkg/lib -fstack-protector-strong -L/usr/local/lib'
Characteristics of this binary (from libperl):
Compile-time options:
HAS_LONG_DOUBLE
HAS_STRTOLD
HAS_TIMES
PERLIO_LAYERS
PERL_COPY_ON_WRITE
PERL_DONT_CREATE_GVSV
PERL_HASH_FUNC_SIPHASH13
PERL_HASH_USE_SBOX32
PERL_MALLOC_WRAP
PERL_OP_PARENT
PERL_PRESERVE_IVUV
PERL_USE_SAFE_PUTENV
USE_64_BIT_ALL
USE_64_BIT_INT
USE_LARGE_FILES
USE_LOCALE
USE_LOCALE_COLLATE
USE_LOCALE_CTYPE
USE_LOCALE_NUMERIC
USE_LOCALE_TIME
USE_PERLIO
USE_PERL_ATOF
Built under netbsd
Compiled at Apr 4 2025 13:56:07
%ENV:
PERL5LIB="/home/roland/.cpan/build/String-Format-1.18-7/blib/arch:/home/roland/.cpan/build/String-Format-1.18-7/blib/lib:/home/roland/.cpan/build/Pod-Spell-1.27-4/blib/arch:/home/roland/.cpan/build/Pod-Spell-1.27-4/blib/lib:/home/roland/.cpan/build/Pod-Parser-1.67-6/blib/arch:/home/roland/.cpan/build/Pod-Parser-1.67-6/blib/lib:/home/roland/.cpan/build/Perl-Tidy-20250311-2/blib/arch:/home/roland/.cpan/build/Perl-Tidy-20250311-2/blib/lib:/home/roland/.cpan/build/Log-Dispatchouli-3.009-3/blib/arch:/home/roland/.cpan/build/Log-Dispatchouli-3.009-3/blib/lib"
PERL5OPT=""
PERL5_CPANPLUS_IS_RUNNING="24710"
PERL5_CPAN_IS_RUNNING="24710"
PERL_MM_USE_DEFAULT="1"
PERL_USE_UNSAFE_INC="1"
@INC:
/home/roland/.cpan/build/String-Format-1.18-7/blib/arch
/home/roland/.cpan/build/String-Format-1.18-7/blib/lib
/home/roland/.cpan/build/Pod-Spell-1.27-4/blib/arch
/home/roland/.cpan/build/Pod-Spell-1.27-4/blib/lib
/home/roland/.cpan/build/Pod-Parser-1.67-6/blib/arch
/home/roland/.cpan/build/Pod-Parser-1.67-6/blib/lib
/home/roland/.cpan/build/Perl-Tidy-20250311-2/blib/arch
/home/roland/.cpan/build/Perl-Tidy-20250311-2/blib/lib
/home/roland/.cpan/build/Log-Dispatchouli-3.009-3/blib/arch
/home/roland/.cpan/build/Log-Dispatchouli-3.009-3/blib/lib
/usr/local/lib/perl5/site_perl/5.40.1/amd64-netbsd
/usr/local/lib/perl5/site_perl/5.40.1
/usr/local/lib/perl5/5.40.1/amd64-netbsd
/usr/local/lib/perl5/5.40.1
.