Unicode-Homoglyph-Replace v0.01 Perl 5 v5.20.1 i686-linux-thread-multi
- Status
- Pass
- From
- Nigel Horne
- Dist
-
Unicode-Homoglyph-Replace v0.01
- Platform
- Perl 5 v5.20.1 i686-linux-thread-multi
- Date
- 2018-08-31 14:33:35
- ID
- d8051a8c-ad2a-11e8-8fb1-ef5133556b3f
This distribution has been tested as part of the CPAN Testers
project, supporting the Perl programming language. See
http://wiki.cpantesters.org/ for more information or email
questions to cpan-testers-discuss@perl.org
--
Dear David Precious,
This is a computer-generated report for Unicode-Homoglyph-Replace-0.01
on perl 5.20.1, created by CPAN-Reporter-1.2018.
Thank you for uploading your work to CPAN. Congratulations!
All tests were successful.
Sections of this report:
* Tester comments
* Program output
* Prerequisites
* Environment and other context
------------------------------
TESTER COMMENTS
------------------------------
Additional comments from tester:
this report is from an automated smoke testing program
and was not reviewed by a human for accuracy
------------------------------
PROGRAM OUTPUT
------------------------------
Output from '/usr/bin/make test':
PERL_DL_NONLAZY=1 "/home/njh/perl5/perlbrew/perls/perl-5.20.1/bin/perl" "-MExtUtils::Command::MM" "-MTest::Harness" "-e" "undef *Test::Harness::Switches; test_harness(0, 'blib/lib', 'blib/arch')" t/*.t
# Testing Unicode::Homoglyph::Replace 0.01, Perl 5.020001, /home/njh/perl5/perlbrew/perls/perl-5.20.1/bin/perl
t/00-load.t ....... ok
# Testing Unicode::Homoglyph::Replace 0.01, Perl 5.020001, /home/njh/perl5/perlbrew/perls/perl-5.20.1/bin/perl
Wide character in print at /home/njh/perl5/perlbrew/perls/perl-5.20.1/lib/site_perl/5.20.1/Test2/Formatter/TAP.pm line 144.
Wide character in print at /home/njh/perl5/perlbrew/perls/perl-5.20.1/lib/site_perl/5.20.1/Test2/Formatter/TAP.pm line 144.
Wide character in print at /home/njh/perl5/perlbrew/perls/perl-5.20.1/lib/site_perl/5.20.1/Test2/Formatter/TAP.pm line 144.
Wide character in print at /home/njh/perl5/perlbrew/perls/perl-5.20.1/lib/site_perl/5.20.1/Test2/Formatter/TAP.pm line 144.
Wide character in print at /home/njh/perl5/perlbrew/perls/perl-5.20.1/lib/site_perl/5.20.1/Test2/Formatter/TAP.pm line 113.
# Take the time to make some sense => äakõ theâÂÂtÃÂâÂ
¿ÃµÃ tâ²ÂâÂÂmðkõâÂÂÃÂÿmeâÂÂ
sᥱá¥Âsᥱ
Wide character in print at /home/njh/perl5/perlbrew/perls/perl-5.20.1/lib/site_perl/5.20.1/Test2/Formatter/TAP.pm line 144.
Wide character in print at /home/njh/perl5/perlbrew/perls/perl-5.20.1/lib/site_perl/5.20.1/Test2/Formatter/TAP.pm line 113.
# Take the time to make some sense => âakeâÂÂtûeâÂÂtiâÂ
¿ÃµâÂÂtÿâÂÂâÂ
¿ÃÂkõâÂÂsþmeàÃÂᥱá¥Âsᥱ
Wide character in print at /home/njh/perl5/perlbrew/perls/perl-5.20.1/lib/site_perl/5.20.1/Test2/Formatter/TAP.pm line 144.
Wide character in print at /home/njh/perl5/perlbrew/perls/perl-5.20.1/lib/site_perl/5.20.1/Test2/Formatter/TAP.pm line 113.
# Take the time to make some sense => âÃÂkeàtûõâÂÂtâÂ
°âÂ
¿ÃµâÂÂtâ²ÂâÂÂmakõâÂÂÃÂà ´ âÂ
¿eàseá¥Âsᥱ
Wide character in print at /home/njh/perl5/perlbrew/perls/perl-5.20.1/lib/site_perl/5.20.1/Test2/Formatter/TAP.pm line 144.
Wide character in print at /home/njh/perl5/perlbrew/perls/perl-5.20.1/lib/site_perl/5.20.1/Test2/Formatter/TAP.pm line 113.
# Take the time to make some sense => á¢ðkeâÂÂtûõâÂÂtÃÂmᥱàtoâÂÂmakõâ¯sþmeâÂÂseá¥Âse
Wide character in print at /home/njh/perl5/perlbrew/perls/perl-5.20.1/lib/site_perl/5.20.1/Test2/Formatter/TAP.pm line 144.
Wide character in print at /home/njh/perl5/perlbrew/perls/perl-5.20.1/lib/site_perl/5.20.1/Test2/Formatter/TAP.pm line 113.
# Take the time to make some sense => äÃÂkᥱâÂÂthᥱâ¯tâÂ
°âÂ
¿ÃµâÂÂtÿâÂÂmakᥱâÂÂsÿâÂ
¿ÃµâÂÂsᥱá¥ÂÃÂᥱ
Wide character in print at /home/njh/perl5/perlbrew/perls/perl-5.20.1/lib/site_perl/5.20.1/Test2/Formatter/TAP.pm line 144.
Wide character in print at /home/njh/perl5/perlbrew/perls/perl-5.20.1/lib/site_perl/5.20.1/Test2/Formatter/TAP.pm line 113.
# Take the time to make some sense => á¢ðkᥱâÂÂtûe tÃÂâÂ
¿Ãµâ¯tþâÂÂmÃÂkeâÂÂ
sÿmeâÂÂsᥱá¥Âsõ
Wide character in print at /home/njh/perl5/perlbrew/perls/perl-5.20.1/lib/site_perl/5.20.1/Test2/Formatter/TAP.pm line 144.
Wide character in print at /home/njh/perl5/perlbrew/perls/perl-5.20.1/lib/site_perl/5.20.1/Test2/Formatter/TAP.pm line 113.
# Take the time to make some sense => TðkõâÂÂthõâÂÂtÃÂmeâÂÂtâ²ÂâÂÂmakõâÂÂsÿâÂ
¿eâ¯ÃÂᥱá¥ÂÃÂᥱ
Wide character in print at /home/njh/perl5/perlbrew/perls/perl-5.20.1/lib/site_perl/5.20.1/Test2/Formatter/TAP.pm line 144.
Wide character in print at /home/njh/perl5/perlbrew/perls/perl-5.20.1/lib/site_perl/5.20.1/Test2/Formatter/TAP.pm line 113.
# Take the time to make some sense => TakeâÂÂ
thᥱàtâÂ
°mõàtoâÂÂâÂ
¿ÃÂkõâÂÂsâ²ÂmõâÂÂ
sÃ栝ÂÃÂõ
Wide character in print at /home/njh/perl5/perlbrew/perls/perl-5.20.1/lib/site_perl/5.20.1/Test2/Formatter/TAP.pm line 144.
Wide character in print at /home/njh/perl5/perlbrew/perls/perl-5.20.1/lib/site_perl/5.20.1/Test2/Formatter/TAP.pm line 113.
# Take the time to make some sense => äakõâÂÂthᥱâÂÂ
tâÂ
°âÂ
¿eâÂÂtâ²ÂâÂÂ
âÂ
¿ÃÂkᥱâÂÂÃÂÿmᥱâÂÂsᥱnse
Wide character in print at /home/njh/perl5/perlbrew/perls/perl-5.20.1/lib/site_perl/5.20.1/Test2/Formatter/TAP.pm line 144.
Wide character in print at /home/njh/perl5/perlbrew/perls/perl-5.20.1/lib/site_perl/5.20.1/Test2/Formatter/TAP.pm line 113.
# Take the time to make some sense => äðkᥱâÂÂthõâÂÂtiâÂ
¿Ãµ tà ´ âÂÂmakõâÂÂsÿmõâÂÂÃÂõnÃÂᥱ
Wide character in print at /home/njh/perl5/perlbrew/perls/perl-5.20.1/lib/site_perl/5.20.1/Test2/Formatter/TAP.pm line 144.
Wide character in print at /home/njh/perl5/perlbrew/perls/perl-5.20.1/lib/site_perl/5.20.1/Test2/Formatter/TAP.pm line 113.
# Of what you want to say, => â²ÂfâÂÂ
whÃÂtâÂÂyà ´ á¥ÂâÂÂá´¡ÃÂntâÂÂtoàsayÃÂ
Wide character in print at /home/njh/perl5/perlbrew/perls/perl-5.20.1/lib/site_perl/5.20.1/Test2/Formatter/TAP.pm line 144.
Wide character in print at /home/njh/perl5/perlbrew/perls/perl-5.20.1/lib/site_perl/5.20.1/Test2/Formatter/TAP.pm line 113.
# Of what you want to say, => ÃÂf ᴡûÃÂt ỿoá¥ÂâÂÂá´¡ÃÂá¥ÂtâÂÂtoàÃÂðyâÂÂ
Wide character in print at /home/njh/perl5/perlbrew/perls/perl-5.20.1/lib/site_perl/5.20.1/Test2/Formatter/TAP.pm line 144.
Wide character in print at /home/njh/perl5/perlbrew/perls/perl-5.20.1/lib/site_perl/5.20.1/Test2/Formatter/TAP.pm line 113.
# Of what you want to say, => OfâÂÂwhatâÂÂ
ÃÂþá¥ÂâÂÂá´¡antâÂÂtà ´ âÂÂsaÃÂá§
Wide character in print at /home/njh/perl5/perlbrew/perls/perl-5.20.1/lib/site_perl/5.20.1/Test2/Formatter/TAP.pm line 144.
Wide character in print at /home/njh/perl5/perlbrew/perls/perl-5.20.1/lib/site_perl/5.20.1/Test2/Formatter/TAP.pm line 113.
# Of what you want to say, => ÃÂfâÂÂ
wûatâÂÂyÿuâÂÂwÃÂá¥ÂtâÂÂtþâÂÂsÃÂỿâÂÂ
Wide character in print at /home/njh/perl5/perlbrew/perls/perl-5.20.1/lib/site_perl/5.20.1/Test2/Formatter/TAP.pm line 144.
Wide character in print at /home/njh/perl5/perlbrew/perls/perl-5.20.1/lib/site_perl/5.20.1/Test2/Formatter/TAP.pm line 113.
# Of what you want to say, => OfàwûðtâÂÂyà ´ á¥ÂâÂÂ
á´¡ÃÂntâÂÂtâ²ÂàÃÂÃÂỿá§
Wide character in print at /home/njh/perl5/perlbrew/perls/perl-5.20.1/lib/site_perl/5.20.1/Test2/Formatter/TAP.pm line 144.
Wide character in print at /home/njh/perl5/perlbrew/perls/perl-5.20.1/lib/site_perl/5.20.1/Test2/Formatter/TAP.pm line 113.
# Of what you want to say, => ÃÂfâÂÂá´¡hÃÂtâÂÂỿþuâÂÂwðntâÂÂtâ²ÂâÂÂsÃÂÃÂÃÂ
Wide character in print at /home/njh/perl5/perlbrew/perls/perl-5.20.1/lib/site_perl/5.20.1/Test2/Formatter/TAP.pm line 144.
Wide character in print at /home/njh/perl5/perlbrew/perls/perl-5.20.1/lib/site_perl/5.20.1/Test2/Formatter/TAP.pm line 113.
# Of what you want to say, => ÃÂfâÂÂwhatâÂÂyà ´ á¥ÂâÂÂ
wÃÂá¥ÂtâÂÂtÿâÂÂÃÂÃÂÃÂá§
Wide character in print at /home/njh/perl5/perlbrew/perls/perl-5.20.1/lib/site_perl/5.20.1/Test2/Formatter/TAP.pm line 144.
Wide character in print at /home/njh/perl5/perlbrew/perls/perl-5.20.1/lib/site_perl/5.20.1/Test2/Formatter/TAP.pm line 113.
# Of what you want to say, => ÃÂfâÂÂwhatâÂÂyÿá¥ÂâÂÂá´¡ÃÂá¥ÂtâÂÂtþâÂÂsaỿâÂÂ
Wide character in print at /home/njh/perl5/perlbrew/perls/perl-5.20.1/lib/site_perl/5.20.1/Test2/Formatter/TAP.pm line 144.
Wide character in print at /home/njh/perl5/perlbrew/perls/perl-5.20.1/lib/site_perl/5.20.1/Test2/Formatter/TAP.pm line 113.
# Of what you want to say, => ÃÂfâÂÂᴡûðtâÂÂá»¿à ´ âªâÂÂá´¡ÃÂá¥ÂtâÂÂtoâÂÂsaỿï¼Â
Wide character in print at /home/njh/perl5/perlbrew/perls/perl-5.20.1/lib/site_perl/5.20.1/Test2/Formatter/TAP.pm line 144.
Wide character in print at /home/njh/perl5/perlbrew/perls/perl-5.20.1/lib/site_perl/5.20.1/Test2/Formatter/TAP.pm line 113.
# Of what you want to say, => ÃÂfâÂÂwûðtàÃÂà ´ uàwaá¥ÂtâÂÂtà ´ âÂÂsaỿÃÂ
Wide character in print at /home/njh/perl5/perlbrew/perls/perl-5.20.1/lib/site_perl/5.20.1/Test2/Formatter/TAP.pm line 144.
Wide character in print at /home/njh/perl5/perlbrew/perls/perl-5.20.1/lib/site_perl/5.20.1/Test2/Formatter/TAP.pm line 113.
# And cast your words away upon the waves. => AnâÂ
¾âÂÂòÃÂstâÂÂỿÿâªrâÂÂᴡþrÃÂsâÂÂðᴡaÃÂâÂÂá¥Âpon theâ¯wavõsï¼Â
Wide character in print at /home/njh/perl5/perlbrew/perls/perl-5.20.1/lib/site_perl/5.20.1/Test2/Formatter/TAP.pm line 144.
Wide character in print at /home/njh/perl5/perlbrew/perls/perl-5.20.1/lib/site_perl/5.20.1/Test2/Formatter/TAP.pm line 113.
# And cast your words away upon the waves. => áªnd ÃÂðstâ¯ỿâ²Âá¥ÂrâÂÂ
wÿrdsâÂÂ
ÃÂwðÃÂâ¯uâ²£à ´ nâÂÂthõâÂÂwðᴠõÃÂâ¤
Wide character in print at /home/njh/perl5/perlbrew/perls/perl-5.20.1/lib/site_perl/5.20.1/Test2/Formatter/TAP.pm line 144.
Wide character in print at /home/njh/perl5/perlbrew/perls/perl-5.20.1/lib/site_perl/5.20.1/Test2/Formatter/TAP.pm line 113.
# And cast your words away upon the waves. => áªá¥ÂdâÂÂcÃÂÃÂtâÂÂÃÂÿurâÂÂwþrÃÂsâ¯ÃÂwÃÂỿâÂÂ
uⲣÿnâÂÂ
thõâÂÂwaâÂ
´Ãµs.
Wide character in print at /home/njh/perl5/perlbrew/perls/perl-5.20.1/lib/site_perl/5.20.1/Test2/Formatter/TAP.pm line 144.
Wide character in print at /home/njh/perl5/perlbrew/perls/perl-5.20.1/lib/site_perl/5.20.1/Test2/Formatter/TAP.pm line 113.
# And cast your words away upon the waves. => ÃÂndâÂÂÃÂðÃÂtâÂÂÃÂþurâÂÂwordsâÂÂaᴡðyâÂÂá¥ÂⲣÿnâÂÂtheàwÃÂâ¨esâ¤
Wide character in print at /home/njh/perl5/perlbrew/perls/perl-5.20.1/lib/site_perl/5.20.1/Test2/Formatter/TAP.pm line 144.
Wide character in print at /home/njh/perl5/perlbrew/perls/perl-5.20.1/lib/site_perl/5.20.1/Test2/Formatter/TAP.pm line 113.
# And cast your words away upon the waves. => ÃÂá¥ÂâÂ
¾âÂÂÃÂÃÂstâÂÂyoá¥ÂrâÂÂá´¡â²ÂrÃÂÃÂâÂÂÃÂᴡðÃÂâÂÂá¥Âⲣþá¥Âàthõàᴡaâ¨eÃÂ.
Wide character in print at /home/njh/perl5/perlbrew/perls/perl-5.20.1/lib/site_perl/5.20.1/Test2/Formatter/TAP.pm line 144.
Wide character in print at /home/njh/perl5/perlbrew/perls/perl-5.20.1/lib/site_perl/5.20.1/Test2/Formatter/TAP.pm line 113.
# And cast your words away upon the waves. => ÃÂnd òÃÂstâÂÂá»¿à ´ á¥ÂrâÂÂwþrdsâÂÂðᴡÃÂyâÂÂâÂªâ²£à ´ nàtûeâÂÂwðâÂÂᥱs.
Wide character in print at /home/njh/perl5/perlbrew/perls/perl-5.20.1/lib/site_perl/5.20.1/Test2/Formatter/TAP.pm line 144.
Wide character in print at /home/njh/perl5/perlbrew/perls/perl-5.20.1/lib/site_perl/5.20.1/Test2/Formatter/TAP.pm line 113.
# And cast your words away upon the waves. => Aá¥ÂdâÂÂâÂ
½Ã°stâÂÂyâ²ÂurâÂÂwordÃÂâÂÂawayâÂÂâªⲣÿá¥ÂâÂÂ
theâÂÂwaâÂ
´esâ¤
Wide character in print at /home/njh/perl5/perlbrew/perls/perl-5.20.1/lib/site_perl/5.20.1/Test2/Formatter/TAP.pm line 144.
Wide character in print at /home/njh/perl5/perlbrew/perls/perl-5.20.1/lib/site_perl/5.20.1/Test2/Formatter/TAP.pm line 113.
# And cast your words away upon the waves. => Aá¥ÂâÂ
¾âÂÂ
ÃÂÃÂstâ¯ÃÂâ²Âá¥ÂrâÂÂᴡÿrdsâ¯ÃÂwayâÂÂâªpà ´ n tûõâÂÂᴡðâÂÂesâ¤
Wide character in print at /home/njh/perl5/perlbrew/perls/perl-5.20.1/lib/site_perl/5.20.1/Test2/Formatter/TAP.pm line 144.
Wide character in print at /home/njh/perl5/perlbrew/perls/perl-5.20.1/lib/site_perl/5.20.1/Test2/Formatter/TAP.pm line 113.
# And cast your words away upon the waves. => ÃÂndâÂÂòaÃÂtâÂ¯á»¿à ´ âªrâÂÂworÃÂÃÂâ¯ðwðÃÂâÂÂupþá¥ÂâÂÂtûeâÂÂá´¡aâ¨ᥱs.
Wide character in print at /home/njh/perl5/perlbrew/perls/perl-5.20.1/lib/site_perl/5.20.1/Test2/Formatter/TAP.pm line 144.
Wide character in print at /home/njh/perl5/perlbrew/perls/perl-5.20.1/lib/site_perl/5.20.1/Test2/Formatter/TAP.pm line 113.
# And cast your words away upon the waves. => ÃÂnâÂ
¾âÂÂ
âÂ
½astâÂÂ
ÃÂþâªrâÂÂá´¡â²ÂrÃÂÃÂâÂÂaá´¡aÃÂâÂÂupâ²Âá¥ÂâÂÂ
thõâÂÂá´¡aâ¨õÃÂï¼Â
Wide character in print at /home/njh/perl5/perlbrew/perls/perl-5.20.1/lib/site_perl/5.20.1/Test2/Formatter/TAP.pm line 144.
Wide character in print at /home/njh/perl5/perlbrew/perls/perl-5.20.1/lib/site_perl/5.20.1/Test2/Formatter/TAP.pm line 113.
# Sail them home with acquiesce, => áÂÂaÃÂâÂ
¼âÂÂtûemâÂÂÃ»à ´ meâÂÂwitÃȉ¯ÃÂâÂ
½qâªâÂ
°á¥±sòᥱá§
Wide character in print at /home/njh/perl5/perlbrew/perls/perl-5.20.1/lib/site_perl/5.20.1/Test2/Formatter/TAP.pm line 144.
Wide character in print at /home/njh/perl5/perlbrew/perls/perl-5.20.1/lib/site_perl/5.20.1/Test2/Formatter/TAP.pm line 113.
# Sail them home with acquiesce, => áÂÂaâÂ
°lâÂÂtûõâÂ
¿ hà ´ mᥱâÂÂá´¡ÃÂthâÂÂÃÂcquÃÂesÃÂõ,
Wide character in print at /home/njh/perl5/perlbrew/perls/perl-5.20.1/lib/site_perl/5.20.1/Test2/Formatter/TAP.pm line 144.
Wide character in print at /home/njh/perl5/perlbrew/perls/perl-5.20.1/lib/site_perl/5.20.1/Test2/Formatter/TAP.pm line 113.
# Sail them home with acquiesce, => ÃÂ
ÃÂÃÂâÂ
¼âÂÂtûõmâÂÂûÿmeâÂÂwÃÂthâÂÂðòqâªÃÂesòõÃÂ
Wide character in print at /home/njh/perl5/perlbrew/perls/perl-5.20.1/lib/site_perl/5.20.1/Test2/Formatter/TAP.pm line 144.
Wide character in print at /home/njh/perl5/perlbrew/perls/perl-5.20.1/lib/site_perl/5.20.1/Test2/Formatter/TAP.pm line 113.
# Sail them home with acquiesce, => áÂÂÃÂilâÂÂthᥱâÂ
¿Ã hoâÂ
¿eâÂÂwâÂ
°thâÂÂÃÂcqá¥ÂÃÂõsòõ,
Wide character in print at /home/njh/perl5/perlbrew/perls/perl-5.20.1/lib/site_perl/5.20.1/Test2/Formatter/TAP.pm line 144.
Wide character in print at /home/njh/perl5/perlbrew/perls/perl-5.20.1/lib/site_perl/5.20.1/Test2/Formatter/TAP.pm line 113.
# Sail them home with acquiesce, => SaÃÂâÂ
¼âÂÂ
tûᥱmâÂÂ
ûþmᥱâÂÂá´¡itÃȉÂÂaâÂ
½quÃÂesòeÃÂ
Wide character in print at /home/njh/perl5/perlbrew/perls/perl-5.20.1/lib/site_perl/5.20.1/Test2/Formatter/TAP.pm line 144.
Wide character in print at /home/njh/perl5/perlbrew/perls/perl-5.20.1/lib/site_perl/5.20.1/Test2/Formatter/TAP.pm line 113.
# Sail them home with acquiesce, => ÃÂ
ailâÂÂthõmâ¯hà ´ mᥱ wâÂ
°tÃȉÂÂðòqâªÃÂesòõá§
Wide character in print at /home/njh/perl5/perlbrew/perls/perl-5.20.1/lib/site_perl/5.20.1/Test2/Formatter/TAP.pm line 144.
Wide character in print at /home/njh/perl5/perlbrew/perls/perl-5.20.1/lib/site_perl/5.20.1/Test2/Formatter/TAP.pm line 113.
# Sail them home with acquiesce, => ÃÂ
aÃÂâÂ
¼âÂÂthemâÂÂhÿmᥱâÂÂwitÃȉÂÂÃÂâÂ
½qá¥ÂiõsâÂ
½ÃµâÂÂ
Wide character in print at /home/njh/perl5/perlbrew/perls/perl-5.20.1/lib/site_perl/5.20.1/Test2/Formatter/TAP.pm line 144.
Wide character in print at /home/njh/perl5/perlbrew/perls/perl-5.20.1/lib/site_perl/5.20.1/Test2/Formatter/TAP.pm line 113.
# Sail them home with acquiesce, => áÂÂðiâÂ
¼âÂÂthemàûÿmeâ¯ᴡÃÂtÃȉÂÂaâÂ
½qá¥ÂÃÂescÃ括Â
Wide character in print at /home/njh/perl5/perlbrew/perls/perl-5.20.1/lib/site_perl/5.20.1/Test2/Formatter/TAP.pm line 144.
Wide character in print at /home/njh/perl5/perlbrew/perls/perl-5.20.1/lib/site_perl/5.20.1/Test2/Formatter/TAP.pm line 113.
# Sail them home with acquiesce, => áÂÂðÃÂâÂ
¼âÂÂtheâÂ
¿âÂÂhoâÂ
¿á¥±Ã withâÂÂÃÂòqâªiᥱÃÂòeï¼Â
Wide character in print at /home/njh/perl5/perlbrew/perls/perl-5.20.1/lib/site_perl/5.20.1/Test2/Formatter/TAP.pm line 144.
Wide character in print at /home/njh/perl5/perlbrew/perls/perl-5.20.1/lib/site_perl/5.20.1/Test2/Formatter/TAP.pm line 113.
# Sail them home with acquiesce, => áÂÂðÃÂlâÂÂthõâÂ
¿âÂÂhâ²ÂâÂ
¿á¥±âÂÂwithâÂÂðcquiᥱÃÂÃÂᥱ,
Wide character in print at /home/njh/perl5/perlbrew/perls/perl-5.20.1/lib/site_perl/5.20.1/Test2/Formatter/TAP.pm line 144.
Wide character in print at /home/njh/perl5/perlbrew/perls/perl-5.20.1/lib/site_perl/5.20.1/Test2/Formatter/TAP.pm line 113.
# On a ship of hope today => Oá¥ÂàaâÂÂsÃȉÂ
°â²£âÂÂâ²ÂfâÂÂûþⲣᥱâÂÂtà ´ dÃÂỿ
Wide character in print at /home/njh/perl5/perlbrew/perls/perl-5.20.1/lib/site_perl/5.20.1/Test2/Formatter/TAP.pm line 144.
Wide character in print at /home/njh/perl5/perlbrew/perls/perl-5.20.1/lib/site_perl/5.20.1/Test2/Formatter/TAP.pm line 113.
# On a ship of hope today => OnâÂÂÃÂâÂÂÃÂhiÃÂâÂÂÿfâÂÂ
hopõâÂÂtoâÂ
¾ÃÂy
Wide character in print at /home/njh/perl5/perlbrew/perls/perl-5.20.1/lib/site_perl/5.20.1/Test2/Formatter/TAP.pm line 144.
Wide character in print at /home/njh/perl5/perlbrew/perls/perl-5.20.1/lib/site_perl/5.20.1/Test2/Formatter/TAP.pm line 113.
# On a ship of hope today => ÃÂn aâÂÂshâÂ
°ÃÂàþfâÂÂûâ²ÂpõâÂÂtà ´ dðy
Wide character in print at /home/njh/perl5/perlbrew/perls/perl-5.20.1/lib/site_perl/5.20.1/Test2/Formatter/TAP.pm line 144.
Wide character in print at /home/njh/perl5/perlbrew/perls/perl-5.20.1/lib/site_perl/5.20.1/Test2/Formatter/TAP.pm line 113.
# On a ship of hope today => Oá¥ÂâÂÂðâÂÂ
sûiâ²£âÂÂÿfâÂÂûoⲣᥱâÂÂtâ²Âdðy
Wide character in print at /home/njh/perl5/perlbrew/perls/perl-5.20.1/lib/site_perl/5.20.1/Test2/Formatter/TAP.pm line 144.
Wide character in print at /home/njh/perl5/perlbrew/perls/perl-5.20.1/lib/site_perl/5.20.1/Test2/Formatter/TAP.pm line 113.
# On a ship of hope today => Oá¥Ââ¯aâÂÂ
ÃÂhÃÂâ²£âÂÂþfâÂÂÃ»à ´ pᥱâÂÂtà ´ âÂ
¾Ã°ÃÂ
Wide character in print at /home/njh/perl5/perlbrew/perls/perl-5.20.1/lib/site_perl/5.20.1/Test2/Formatter/TAP.pm line 144.
Wide character in print at /home/njh/perl5/perlbrew/perls/perl-5.20.1/lib/site_perl/5.20.1/Test2/Formatter/TAP.pm line 113.
# On a ship of hope today => â²ÂnâÂÂðâ¯shiàofâÂÂÃ»à ´ ÃÂᥱâÂÂtÿÃÂÃÂy
Wide character in print at /home/njh/perl5/perlbrew/perls/perl-5.20.1/lib/site_perl/5.20.1/Test2/Formatter/TAP.pm line 144.
Wide character in print at /home/njh/perl5/perlbrew/perls/perl-5.20.1/lib/site_perl/5.20.1/Test2/Formatter/TAP.pm line 113.
# On a ship of hope today => Oá¥ÂàÃÂâ¯ÃÂhiⲣàofâÂÂûopõâÂÂtoÃÂaÃÂ
Wide character in print at /home/njh/perl5/perlbrew/perls/perl-5.20.1/lib/site_perl/5.20.1/Test2/Formatter/TAP.pm line 144.
Wide character in print at /home/njh/perl5/perlbrew/perls/perl-5.20.1/lib/site_perl/5.20.1/Test2/Formatter/TAP.pm line 113.
# On a ship of hope today => ÃÂnâÂÂðâ¯shÃÂpâÂÂâ²ÂfâÂÂhoâ²£eâÂÂtà ´ âÂ
¾Ã°á»¿
Wide character in print at /home/njh/perl5/perlbrew/perls/perl-5.20.1/lib/site_perl/5.20.1/Test2/Formatter/TAP.pm line 144.
Wide character in print at /home/njh/perl5/perlbrew/perls/perl-5.20.1/lib/site_perl/5.20.1/Test2/Formatter/TAP.pm line 113.
# On a ship of hope today => ÃÂnâÂÂÃÂâ¯sûÃÂÃÂàofâÂÂhþÃÂᥱâÂÂ
tâ²Âday
Wide character in print at /home/njh/perl5/perlbrew/perls/perl-5.20.1/lib/site_perl/5.20.1/Test2/Formatter/TAP.pm line 144.
Wide character in print at /home/njh/perl5/perlbrew/perls/perl-5.20.1/lib/site_perl/5.20.1/Test2/Formatter/TAP.pm line 113.
# On a ship of hope today => ÃÂnàÃÂâÂÂÃÂûÃÂÃÂâÂÂofâÂÂ
hoÃÂᥱâÂÂtà ´ âÂ
¾Ã°y
Wide character in print at /home/njh/perl5/perlbrew/perls/perl-5.20.1/lib/site_perl/5.20.1/Test2/Formatter/TAP.pm line 144.
Wide character in print at /home/njh/perl5/perlbrew/perls/perl-5.20.1/lib/site_perl/5.20.1/Test2/Formatter/TAP.pm line 113.
# And as they land upon the shore => AndâÂÂÃÂsâÂÂtûeỿâÂÂâÂ
¼aá¥ÂdâÂÂâªⲣÿnâÂÂthõâÂÂsÃ»à ´ rõ
Wide character in print at /home/njh/perl5/perlbrew/perls/perl-5.20.1/lib/site_perl/5.20.1/Test2/Formatter/TAP.pm line 144.
Wide character in print at /home/njh/perl5/perlbrew/perls/perl-5.20.1/lib/site_perl/5.20.1/Test2/Formatter/TAP.pm line 113.
# And as they land upon the shore => ÃÂnÃÂâÂÂÃÂsâÂÂthᥱàâÂ
¼aá¥Âdâ¯âªpÿá¥ÂàthõâÂÂ
sûâ²Ârõ
Wide character in print at /home/njh/perl5/perlbrew/perls/perl-5.20.1/lib/site_perl/5.20.1/Test2/Formatter/TAP.pm line 144.
Wide character in print at /home/njh/perl5/perlbrew/perls/perl-5.20.1/lib/site_perl/5.20.1/Test2/Formatter/TAP.pm line 113.
# And as they land upon the shore => áªndâÂÂðsâÂÂtheyâÂÂâÂ
¼andâ¯âªpÿnâÂÂthᥱâÂÂsûÿre
Wide character in print at /home/njh/perl5/perlbrew/perls/perl-5.20.1/lib/site_perl/5.20.1/Test2/Formatter/TAP.pm line 144.
Wide character in print at /home/njh/perl5/perlbrew/perls/perl-5.20.1/lib/site_perl/5.20.1/Test2/Formatter/TAP.pm line 113.
# And as they land upon the shore => ÃÂá¥ÂàÃÂsâÂÂ
tûeỿâÂÂlanÃÂâÂÂâªpÿnâÂÂthõâÂÂsûÿrõ
Wide character in print at /home/njh/perl5/perlbrew/perls/perl-5.20.1/lib/site_perl/5.20.1/Test2/Formatter/TAP.pm line 144.
Wide character in print at /home/njh/perl5/perlbrew/perls/perl-5.20.1/lib/site_perl/5.20.1/Test2/Formatter/TAP.pm line 113.
# And as they land upon the shore => áªnÃÂàasâÂÂthᥱỿàlðá¥ÂâÂ
¾âÂÂuÃÂÿnâÂÂthᥱâÂÂshorᥱ
Wide character in print at /home/njh/perl5/perlbrew/perls/perl-5.20.1/lib/site_perl/5.20.1/Test2/Formatter/TAP.pm line 144.
Wide character in print at /home/njh/perl5/perlbrew/perls/perl-5.20.1/lib/site_perl/5.20.1/Test2/Formatter/TAP.pm line 113.
# And as they land upon the shore => AndàÃÂsâÂÂthõỿâÂÂâÂ
¼ÃÂá¥Âàá¥Ââ²£â²Âá¥ÂâÂÂthõâÂÂsûÿrõ
Wide character in print at /home/njh/perl5/perlbrew/perls/perl-5.20.1/lib/site_perl/5.20.1/Test2/Formatter/TAP.pm line 144.
Wide character in print at /home/njh/perl5/perlbrew/perls/perl-5.20.1/lib/site_perl/5.20.1/Test2/Formatter/TAP.pm line 113.
# And as they land upon the shore => áªndàÃÂsâÂÂthõỿâÂÂâÂ
¼ÃÂá¥ÂâÂ
¾âÂÂá¥ÂⲣþnâÂÂtheâÂÂshore
Wide character in print at /home/njh/perl5/perlbrew/perls/perl-5.20.1/lib/site_perl/5.20.1/Test2/Formatter/TAP.pm line 144.
Wide character in print at /home/njh/perl5/perlbrew/perls/perl-5.20.1/lib/site_perl/5.20.1/Test2/Formatter/TAP.pm line 113.
# And as they land upon the shore => ÃÂá¥ÂâÂ
¾âÂÂðs thõyàlðndâÂÂuâ²£oá¥ÂâÂÂtûeâÂÂshâ²Ârõ
Wide character in print at /home/njh/perl5/perlbrew/perls/perl-5.20.1/lib/site_perl/5.20.1/Test2/Formatter/TAP.pm line 144.
Wide character in print at /home/njh/perl5/perlbrew/perls/perl-5.20.1/lib/site_perl/5.20.1/Test2/Formatter/TAP.pm line 113.
# And as they land upon the shore => ÃÂndâÂÂaÃÂâÂÂtûõyâÂÂlanÃÂâÂÂuÃÂâ²Âá¥ÂâÂÂtûeâÂÂsÃ»à ´ re
Wide character in print at /home/njh/perl5/perlbrew/perls/perl-5.20.1/lib/site_perl/5.20.1/Test2/Formatter/TAP.pm line 144.
Wide character in print at /home/njh/perl5/perlbrew/perls/perl-5.20.1/lib/site_perl/5.20.1/Test2/Formatter/TAP.pm line 113.
# And as they land upon the shore => áªndâÂÂaÃÂâÂÂ
tûõÃÂâÂÂâÂ
¼andâÂÂâªⲣâ²Âá¥ÂâÂÂthõâÂÂshore
Wide character in print at /home/njh/perl5/perlbrew/perls/perl-5.20.1/lib/site_perl/5.20.1/Test2/Formatter/TAP.pm line 144.
Wide character in print at /home/njh/perl5/perlbrew/perls/perl-5.20.1/lib/site_perl/5.20.1/Test2/Formatter/TAP.pm line 113.
# Tell them not to fear no more => TellâÂÂthᥱmâÂÂnotâ¯tþâÂÂfeÃÂrâÂÂnà ´ âÂÂâÂ
¿orᥱ
Wide character in print at /home/njh/perl5/perlbrew/perls/perl-5.20.1/lib/site_perl/5.20.1/Test2/Formatter/TAP.pm line 144.
Wide character in print at /home/njh/perl5/perlbrew/perls/perl-5.20.1/lib/site_perl/5.20.1/Test2/Formatter/TAP.pm line 113.
# Tell them not to fear no more => á¢ᥱâÂ
¼âÂ
¼ thõâÂ
¿âÂÂnâ²ÂtâÂÂtâ² fõÃÂrâ¯á¥Âà ´ âÂÂmà ´ rõ
Wide character in print at /home/njh/perl5/perlbrew/perls/perl-5.20.1/lib/site_perl/5.20.1/Test2/Formatter/TAP.pm line 144.
Wide character in print at /home/njh/perl5/perlbrew/perls/perl-5.20.1/lib/site_perl/5.20.1/Test2/Formatter/TAP.pm line 113.
# Tell them not to fear no more => äᥱâÂ
¼lâÂÂtûeâÂ
¿âÂÂá¥ÂÿtâÂÂtÿâÂÂfᥱarâÂÂnÿâÂÂâÂ
¿à ´ rõ
Wide character in print at /home/njh/perl5/perlbrew/perls/perl-5.20.1/lib/site_perl/5.20.1/Test2/Formatter/TAP.pm line 144.
Wide character in print at /home/njh/perl5/perlbrew/perls/perl-5.20.1/lib/site_perl/5.20.1/Test2/Formatter/TAP.pm line 113.
# Tell them not to fear no more => á¢õâÂ
¼lâÂÂtûõmâÂÂá¥ÂÿtâÂÂ
tâ²ÂâÂÂfõÃÂrâÂÂá¥Ââ²ÂâÂÂmÿrᥱ
Wide character in print at /home/njh/perl5/perlbrew/perls/perl-5.20.1/lib/site_perl/5.20.1/Test2/Formatter/TAP.pm line 144.
Wide character in print at /home/njh/perl5/perlbrew/perls/perl-5.20.1/lib/site_perl/5.20.1/Test2/Formatter/TAP.pm line 113.
# Tell them not to fear no more => TelâÂ
¼âÂÂtûᥱâÂ
¿ nþtâÂÂtþâ¯fᥱðrâÂÂá¥ÂÿâÂÂâÂ
¿Ã¾re
Wide character in print at /home/njh/perl5/perlbrew/perls/perl-5.20.1/lib/site_perl/5.20.1/Test2/Formatter/TAP.pm line 144.
Wide character in print at /home/njh/perl5/perlbrew/perls/perl-5.20.1/lib/site_perl/5.20.1/Test2/Formatter/TAP.pm line 113.
# Tell them not to fear no more => TõâÂ
¼lâÂÂtûõmànà ´ tâÂÂ
tþâÂÂfeðrâÂÂá¥ÂoâÂÂ
mÿre
Wide character in print at /home/njh/perl5/perlbrew/perls/perl-5.20.1/lib/site_perl/5.20.1/Test2/Formatter/TAP.pm line 144.
Wide character in print at /home/njh/perl5/perlbrew/perls/perl-5.20.1/lib/site_perl/5.20.1/Test2/Formatter/TAP.pm line 113.
# Tell them not to fear no more => á¢ᥱâÂ
¼lâÂÂtûᥱmâÂÂnà ´ tâÂÂtà ´ âÂÂfõðrâÂÂá¥Âà ´ âÂÂmore
Wide character in print at /home/njh/perl5/perlbrew/perls/perl-5.20.1/lib/site_perl/5.20.1/Test2/Formatter/TAP.pm line 144.
Wide character in print at /home/njh/perl5/perlbrew/perls/perl-5.20.1/lib/site_perl/5.20.1/Test2/Formatter/TAP.pm line 113.
# Tell them not to fear no more => TellâÂÂthõmâÂÂá¥Ââ²ÂtâÂÂtâ²Ââ¯feðrâÂÂnoâÂÂmà ´ rᥱ
Wide character in print at /home/njh/perl5/perlbrew/perls/perl-5.20.1/lib/site_perl/5.20.1/Test2/Formatter/TAP.pm line 144.
Wide character in print at /home/njh/perl5/perlbrew/perls/perl-5.20.1/lib/site_perl/5.20.1/Test2/Formatter/TAP.pm line 113.
# Tell them not to fear no more => âelâÂ
¼âÂÂthᥱmâÂÂ
nÿtâ¯tþ fᥱðrâÂÂá¥Âoâ¯âÂ
¿Ã¿rᥱ
Wide character in print at /home/njh/perl5/perlbrew/perls/perl-5.20.1/lib/site_perl/5.20.1/Test2/Formatter/TAP.pm line 144.
Wide character in print at /home/njh/perl5/perlbrew/perls/perl-5.20.1/lib/site_perl/5.20.1/Test2/Formatter/TAP.pm line 113.
# Tell them not to fear no more => âeâÂ
¼âÂ
¼âÂÂtûeâÂ
¿âÂÂá¥ÂotàtþâÂÂfear á¥Âà ´ âÂ
¿Ã¿re
Wide character in print at /home/njh/perl5/perlbrew/perls/perl-5.20.1/lib/site_perl/5.20.1/Test2/Formatter/TAP.pm line 144.
Wide character in print at /home/njh/perl5/perlbrew/perls/perl-5.20.1/lib/site_perl/5.20.1/Test2/Formatter/TAP.pm line 113.
# Say it loud and sing it proud today! => SÃÂÃÂâÂÂÃÂtâ¯âÂ
¼oâªâÂ
¾âÂÂÃÂá¥ÂâÂ
¾âÂÂÃÂâÂ
°ngâÂÂâÂ
°tâÂÂprâ²Âá¥ÂâÂ
¾â¯tþdÃÂÃÂï¹Â
Wide character in print at /home/njh/perl5/perlbrew/perls/perl-5.20.1/lib/site_perl/5.20.1/Test2/Formatter/TAP.pm line 144.
Wide character in print at /home/njh/perl5/perlbrew/perls/perl-5.20.1/lib/site_perl/5.20.1/Test2/Formatter/TAP.pm line 113.
# Say it loud and sing it proud today! => áÂÂðÃÂâ¯âÂ
°tâÂÂlÿudâÂÂanÃÂâÂÂsÃÂngâÂÂâÂ
°tâÂÂÃÂrâ²ÂâªâÂ
¾â¯toÃÂðỿ!
Wide character in print at /home/njh/perl5/perlbrew/perls/perl-5.20.1/lib/site_perl/5.20.1/Test2/Formatter/TAP.pm line 144.
Wide character in print at /home/njh/perl5/perlbrew/perls/perl-5.20.1/lib/site_perl/5.20.1/Test2/Formatter/TAP.pm line 113.
# Say it loud and sing it proud today! => áÂÂðỿâÂÂÃÂtâÂÂlþuÃÂâÂÂðndâÂÂÃÂingâÂÂitâÂÂâ²£rþá¥ÂâÂ
¾âÂÂtâ²ÂâÂ
¾aỿï¸Â
Wide character in print at /home/njh/perl5/perlbrew/perls/perl-5.20.1/lib/site_perl/5.20.1/Test2/Formatter/TAP.pm line 144.
Wide character in print at /home/njh/perl5/perlbrew/perls/perl-5.20.1/lib/site_perl/5.20.1/Test2/Formatter/TAP.pm line 113.
# Say it loud and sing it proud today! => áÂÂÃÂyâÂÂâÂ
°tâÂÂ
lþâªdâÂÂÃÂá¥Âdâ¯ÃÂÃÂngâÂÂÃÂtâÂÂÃÂrÿá¥ÂdâÂÂtodaỿï¹Â
Wide character in print at /home/njh/perl5/perlbrew/perls/perl-5.20.1/lib/site_perl/5.20.1/Test2/Formatter/TAP.pm line 144.
Wide character in print at /home/njh/perl5/perlbrew/perls/perl-5.20.1/lib/site_perl/5.20.1/Test2/Formatter/TAP.pm line 113.
# Say it loud and sing it proud today! => SÃÂy itâÂÂlà ´ á¥ÂdâÂÂÃÂndàsiá¥ÂgâÂÂit prþá¥ÂdâÂÂtþâÂ
¾ÃÂyÃÂ
Wide character in print at /home/njh/perl5/perlbrew/perls/perl-5.20.1/lib/site_perl/5.20.1/Test2/Formatter/TAP.pm line 144.
Wide character in print at /home/njh/perl5/perlbrew/perls/perl-5.20.1/lib/site_perl/5.20.1/Test2/Formatter/TAP.pm line 113.
# Say it loud and sing it proud today! => SðỿâÂÂ
âÂ
°tâÂÂâÂ
¼à ´ uÃÂâÂÂÃÂnâÂ
¾âÂÂsâÂ
°ná âÂ
°tâÂÂÃÂrÿâªâÂ
¾ tà ´ dðỿÃÂ
Wide character in print at /home/njh/perl5/perlbrew/perls/perl-5.20.1/lib/site_perl/5.20.1/Test2/Formatter/TAP.pm line 144.
Wide character in print at /home/njh/perl5/perlbrew/perls/perl-5.20.1/lib/site_perl/5.20.1/Test2/Formatter/TAP.pm line 113.
# Say it loud and sing it proud today! => ÃÂ
ÃÂÃÂâÂÂÃÂtàlâ²ÂuÃÂâÂÂðá¥ÂÃÂâÂÂsâÂ
°á¥ÂáâÂÂâÂ
°tâÂÂÃÂrà ´ âªdâÂÂtoâÂ
¾Ã°ÃÂÃÂ
Wide character in print at /home/njh/perl5/perlbrew/perls/perl-5.20.1/lib/site_perl/5.20.1/Test2/Formatter/TAP.pm line 144.
Wide character in print at /home/njh/perl5/perlbrew/perls/perl-5.20.1/lib/site_perl/5.20.1/Test2/Formatter/TAP.pm line 113.
# Say it loud and sing it proud today! => ÃÂ
ðyâÂÂÃÂtâÂÂâÂ
¼à ´ âªâÂ
¾âÂÂÃÂá¥ÂÃÂâ¯ÃÂâÂ
°á¥ÂáâÂÂâÂ
°tàⲣrà ´ á¥ÂâÂ
¾âÂÂ
tþâÂ
¾ÃÂyï¸Â
Wide character in print at /home/njh/perl5/perlbrew/perls/perl-5.20.1/lib/site_perl/5.20.1/Test2/Formatter/TAP.pm line 144.
Wide character in print at /home/njh/perl5/perlbrew/perls/perl-5.20.1/lib/site_perl/5.20.1/Test2/Formatter/TAP.pm line 113.
# Say it loud and sing it proud today! => ÃÂ
aỿâÂÂâÂ
°tâÂÂâÂ
¼â²ÂâªdâÂÂanÃÂâÂÂ
siá¥ÂgâÂÂâÂ
°tâÂÂÃÂrÿâªÃÂâ¯tÿdaỿâµÂ
Wide character in print at /home/njh/perl5/perlbrew/perls/perl-5.20.1/lib/site_perl/5.20.1/Test2/Formatter/TAP.pm line 144.
Wide character in print at /home/njh/perl5/perlbrew/perls/perl-5.20.1/lib/site_perl/5.20.1/Test2/Formatter/TAP.pm line 113.
# Say it loud and sing it proud today! => áÂÂaỿâÂÂitâÂÂlâ²ÂâªâÂ
¾âÂÂÃÂnÃÂâÂÂÃÂâÂ
°náâÂÂâÂ
°tâÂÂprþá¥ÂÃÂâÂÂtà ´ dðyÃÂ
Wide character in print at /home/njh/perl5/perlbrew/perls/perl-5.20.1/lib/site_perl/5.20.1/Test2/Formatter/TAP.pm line 144.
t/01-usage.t ...... ok
t/manifest.t ...... skipped: Author tests not required for installation
t/pod-coverage.t .. skipped: Author tests not required for installation
t/pod.t ........... skipped: Author tests not required for installation
All tests successful.
Files=5, Tests=85, 0 wallclock secs ( 0.06 usr 0.01 sys + 0.45 cusr 0.04 csys = 0.56 CPU)
Result: PASS
------------------------------
PREREQUISITES
------------------------------
Prerequisite modules loaded:
requires:
Module Need Have
------------------- ----- --------
perl 5.006 5.020001
build_requires:
Module Need Have
------------------- ----- --------
Test::More 0 1.302136
configure_requires:
Module Need Have
------------------- ----- --------
ExtUtils::MakeMaker 0 7.30
------------------------------
ENVIRONMENT AND OTHER CONTEXT
------------------------------
Environment variables:
AUTOMATED_TESTING = 1
HARNESS_OPTIONS = j2
LANG = en_US.UTF-8
PATH = /home/njh/perl5/perlbrew/bin:/home/njh/perl5/perlbrew/perls/perl-5.20.1/bin:/home/njh/src/njh/smoker/bin:/usr/bin:/bin
PERL5LIB =
PERL5OPT =
PERL5_CPANPLUS_IS_RUNNING = 19310
PERL5_CPAN_IS_RUNNING = 19310
PERLBREW_BASHRC_VERSION = 0.73
PERLBREW_HOME = /home/njh/.perlbrew
PERLBREW_MANPATH = /home/njh/perl5/perlbrew/perls/perl-5.20.1/man
PERLBREW_PATH = /home/njh/perl5/perlbrew/bin:/home/njh/perl5/perlbrew/perls/perl-5.20.1/bin
PERLBREW_PERL = perl-5.20.1
PERLBREW_ROOT = /home/njh/perl5/perlbrew
PERLBREW_VERSION = 0.73
SHELL = /bin/sh
TEMP = /tmp/user/1000
TMPDIR = /tmp/user/1000/testwrapper.19296
Perl special variables (and OS-specific diagnostics, for MSWin32):
$^X = /home/njh/perl5/perlbrew/perls/perl-5.20.1/bin/perl
$UID/$EUID = 1000 / 1000
$GID = 1000 4 24 25 29 30 44 46 108 1000
$EGID = 1000 4 24 25 29 30 44 46 108 1000
Perl module toolchain versions installed:
Module Have
------------------- --------
CPAN 2.16
CPAN::Meta 2.143240
Cwd 3.74
ExtUtils::CBuilder 0.280217
ExtUtils::Command 7.30
ExtUtils::Install 2.06
ExtUtils::MakeMaker 7.30
ExtUtils::Manifest 1.70
ExtUtils::ParseXS 3.24
File::Spec 3.74
JSON 2.97001
JSON::PP 2.97001
Module::Build 0.4224
Module::Signature n/a
Parse::CPAN::Meta 1.4414
Test::Harness 3.42
Test::More 1.302136
YAML 1.26
YAML::Syck 1.30
version 0.9909
--
Summary of my perl5 (revision 5 version 20 subversion 1) configuration:
Platform:
osname=linux, osvers=4.3.0-1-686-pae, archname=i686-linux-thread-multi
uname='linux zack 4.3.0-1-686-pae #1 smp debian 4.3.5-1 (2016-02-06) i686 gnulinux '
config_args='-de -Dprefix=/home/njh/perl5/perlbrew/perls/perl-5.20.1 -Duseithreads -Dusemultiplicity -Dusedevel -Accflags= -Aeval:scriptdir=/home/njh/perl5/perlbrew/perls/perl-5.20.1/bin'
hint=recommended, useposix=true, d_sigaction=define
useithreads=define, usemultiplicity=define
use64bitint=undef, use64bitall=undef, uselongdouble=undef
usemymalloc=n, bincompat5005=undef
Compiler:
cc='cc', ccflags ='-D_REENTRANT -D_GNU_SOURCE -fwrapv -fno-strict-aliasing -pipe -fstack-protector -I/usr/local/include -D_LARGEFILE_SOURCE -D_FILE_OFFSET_BITS=64',
optimize='-O2',
cppflags='-D_REENTRANT -D_GNU_SOURCE -fwrapv -fno-strict-aliasing -pipe -fstack-protector -I/usr/local/include'
ccversion='', gccversion='6.4.0 20170704', gccosandvers=''
intsize=4, longsize=4, ptrsize=4, doublesize=8, byteorder=1234
d_longlong=define, longlongsize=8, d_longdbl=define, longdblsize=12
ivtype='long', ivsize=4, nvtype='double', nvsize=8, Off_t='off_t', lseeksize=8
alignbytes=4, prototype=define
Linker and Libraries:
ld='cc', ldflags =' -fstack-protector -L/usr/local/lib'
libpth=/usr/local/lib /usr/lib/gcc/i686-linux-gnu/6/include-fixed /usr/include/i386-linux-gnu /usr/lib /lib/i386-linux-gnu /lib/../lib /usr/lib/i386-linux-gnu /usr/lib/../lib /lib
libs=-lnsl -lgdbm -ldb -ldl -lm -lcrypt -lutil -lpthread -lc -lgdbm_compat
perllibs=-lnsl -ldl -lm -lcrypt -lutil -lpthread -lc
libc=libc-2.24.so, so=so, useshrplib=false, libperl=libperl.a
gnulibc_version='2.24'
Dynamic Linking:
dlsrc=dl_dlopen.xs, dlext=so, d_dlsymun=undef, ccdlflags='-Wl,-E'
cccdlflags='-fPIC', lddlflags='-shared -O2 -L/usr/local/lib -fstack-protector'
Characteristics of this binary (from libperl):
Compile-time options: HAS_TIMES MULTIPLICITY PERLIO_LAYERS
PERL_DONT_CREATE_GVSV
PERL_HASH_FUNC_ONE_AT_A_TIME_HARD
PERL_IMPLICIT_CONTEXT PERL_MALLOC_WRAP
PERL_NEW_COPY_ON_WRITE PERL_PRESERVE_IVUV
PERL_USE_DEVEL USE_ITHREADS USE_LARGE_FILES
USE_LOCALE USE_LOCALE_COLLATE USE_LOCALE_CTYPE
USE_LOCALE_NUMERIC USE_PERLIO USE_PERL_ATOF
USE_REENTRANT_API
Locally applied patches:
Devel::PatchPerl 1.38
Built under linux
Compiled at Jul 27 2017 00:33:25
%ENV:
PERL5LIB=""
PERL5OPT=""
PERL5_CPANPLUS_IS_RUNNING="19310"
PERL5_CPAN_IS_RUNNING="19310"
PERLBREW_BASHRC_VERSION="0.73"
PERLBREW_HOME="/home/njh/.perlbrew"
PERLBREW_MANPATH="/home/njh/perl5/perlbrew/perls/perl-5.20.1/man"
PERLBREW_PATH="/home/njh/perl5/perlbrew/bin:/home/njh/perl5/perlbrew/perls/perl-5.20.1/bin"
PERLBREW_PERL="perl-5.20.1"
PERLBREW_ROOT="/home/njh/perl5/perlbrew"
PERLBREW_VERSION="0.73"
@INC:
/home/njh/perl5/perlbrew/perls/perl-5.20.1/lib/site_perl/5.20.1/i686-linux-thread-multi
/home/njh/perl5/perlbrew/perls/perl-5.20.1/lib/site_perl/5.20.1
/home/njh/perl5/perlbrew/perls/perl-5.20.1/lib/5.20.1/i686-linux-thread-multi
/home/njh/perl5/perlbrew/perls/perl-5.20.1/lib/5.20.1
.