Net-Curl-Promiser v0.19 Perl 5 v5.30.3 amd64-freebsd

Status
Pass
From
Slaven Rezić
Dist
Net-Curl-Promiser v0.19
Platform
Perl 5 v5.30.3 amd64-freebsd
Date
2023-07-24 04:52:08
ID
d80c36f2-29dd-11ee-bc5c-31f56d8775ea
This distribution has been tested as part of the CPAN Testers
project, supporting the Perl programming language.  See
http://wiki.cpantesters.org/ for more information or email
questions to cpan-testers-discuss@perl.org


--
Dear Felipe Gasper,

This is a computer-generated report for Net-Curl-Promiser-0.19
on perl 5.30.3, created by CPAN-Reporter-1.2018.

Thank you for uploading your work to CPAN.  Congratulations!
All tests were successful.

Sections of this report:

    * Tester comments
    * Program output
    * Prerequisites
    * Environment and other context

------------------------------
TESTER COMMENTS
------------------------------

Additional comments from tester:

none provided

------------------------------
PROGRAM OUTPUT
------------------------------

Output from '/usr/bin/make test':

PERL_DL_NONLAZY=1 "/usr/perl5.30.3p/bin/perl" "-MExtUtils::Command::MM" "-MTest::Harness" "-e" "undef *Test::Harness::Switches; test_harness(0, 'blib/lib', 'blib/arch')" t/*.t
# Created listening socket on port 18452
*   Trying 127.0.0.1:18452...
* Connected to 127.0.0.1 (127.0.0.1) port 18452 (#0)
> GET / HTTP/1.1
Host: 127.0.0.1:18452
Accept: */*

# Curl told us to poll; continuing …
* Closing connection 0
# Created listening socket on port 18454
*   Trying 127.0.0.1:18454...
* Connected to 127.0.0.1 (127.0.0.1) port 18454 (#0)
> GET / HTTP/1.1
Host: 127.0.0.1:18454
Accept: */*

# Curl told us to poll; continuing …
* Closing connection 0
# Created listening socket on port 18456
*   Trying 127.0.0.1:18456...
* Connected to 127.0.0.1 (127.0.0.1) port 18456 (#0)
> GET / HTTP/1.1
Host: 127.0.0.1:18456
Accept: */*

# Curl told us to poll; continuing …
* Closing connection 0
t/cancel_fail.t ....................................... ok
# Using AnyEvent 7.17; backend: AnyEvent::Impl::Perl
# SERVER PORT: 18458
# SERVER PID: 58977
# libcurl libcurl/8.1.2 OpenSSL/1.1.1u zlib/1.2.13 libpsl/0.21.2 (+libidn2/2.3.4) libssh2/1.11.0 nghttp2/1.54.0 (524289)
# Testing cancellation …
# FINISHING SERVER: PID 58977 (from PID 58976)
# Server (58977) received request to shut down
# REAPED SERVER: PID 58977 (from PID 58976)
t/Net-Curl-Promiser-AnyEvent.t ........................ ok
# SERVER PORT: 18465
# SERVER PID: 58979
# FINISHING SERVER: PID 58979 (from PID 58978)
# Server (58979) received request to shut down
# REAPED SERVER: PID 58979 (from PID 58978)
t/Net-Curl-Promiser-AnyEvent_reuse.t .................. ok
# Using IO::Async::Loop 0.802
# SERVER PORT: 18468
# SERVER PID: 58981
# Using loop class IO::Async::Loop::Select 0.802
# libcurl libcurl/8.1.2 OpenSSL/1.1.1u zlib/1.2.13 libpsl/0.21.2 (+libidn2/2.3.4) libssh2/1.11.0 nghttp2/1.54.0 (524289)
# FINISHING SERVER: PID 58981 (from PID 58980)
# Server (58981) received request to shut down
# REAPED SERVER: PID 58981 (from PID 58980)
t/Net-Curl-Promiser-IOAsync.t ......................... ok
# SERVER PORT: 18475
# SERVER PID: 58983
# FINISHING SERVER: PID 58983 (from PID 58982)
# Server (58983) received request to shut down
# REAPED SERVER: PID 58983 (from PID 58982)
t/Net-Curl-Promiser-IOAsync_net_curl_easy_overload.t .. ok
# Mojolicious version: 9.33
# Using loop class Mojo::Reactor::Poll
# SERVER PORT: 18477
# SERVER PID: 58985
# libcurl libcurl/8.1.2 OpenSSL/1.1.1u zlib/1.2.13 libpsl/0.21.2 (+libidn2/2.3.4) libssh2/1.11.0 nghttp2/1.54.0 (524289)
# FINISHING SERVER: PID 58985 (from PID 58984)
# Server (58985) received request to shut down
# REAPED SERVER: PID 58985 (from PID 58984)
t/Net-Curl-Promiser-Mojo.t ............................ ok
# SERVER PORT: 18484
# SERVER PID: 58987
# libcurl libcurl/8.1.2 OpenSSL/1.1.1u zlib/1.2.13 libpsl/0.21.2 (+libidn2/2.3.4) libssh2/1.11.0 nghttp2/1.54.0 (524289)
# FINISHING SERVER: PID 58987 (from PID 58986)
# Server (58987) received request to shut down
# REAPED SERVER: PID 58987 (from PID 58986)
t/Net-Curl-Promiser-Select.t .......................... ok
t/Net-Curl-Promiser-Select_setopt_fail.t .............. ok
All tests successful.
Files=8, Tests=64,  2 wallclock secs ( 0.04 usr  0.00 sys +  0.90 cusr  0.20 csys =  1.13 CPU)
Result: PASS

------------------------------
PREREQUISITES
------------------------------

Prerequisite modules loaded:

requires:

    Module              Need  Have    
    ------------------- ----- --------
    Net::Curl           0.44  0.53    
    Promise::ES6        0.07  0.26    

build_requires:

    Module              Need  Have    
    ------------------- ----- --------
    autodie             0     2.35    
    ExtUtils::MakeMaker 0     7.70    
    FindBin             0     1.52    
    Test::Class::Tiny   0     0.03    
    Test::Deep          1.120 1.204   
    Test::FailWarnings  0     0.008   
    Test::Fatal         0     0.017   
    Test::More          0     1.302195

configure_requires:

    Module              Need  Have    
    ------------------- ----- --------
    ExtUtils::MakeMaker 0     7.70    


------------------------------
ENVIRONMENT AND OTHER CONTEXT
------------------------------

Environment variables:

    PATH = /usr/local/bin:/usr/bin:/bin:/usr/local/sbin:/usr/sbin:/sbin:/home/cpansand/bin/sh:/home/cpansand/bin:/usr/games:/home/cpansand/devel:/usr/home/eserte/src/srezic-misc/scripts
    PERL5LIB = 
    PERL5OPT = 
    PERL5_CPANPLUS_IS_RUNNING = 58899
    PERL5_CPAN_IS_RUNNING = 58899
    PERL5_CPAN_IS_RUNNING_IN_RECURSION = 58177,58899
    PERL_BATCH = yes
    PERL_CANARY_STABILITY_NOPROMPT = 1
    PERL_CPAN_REPORTER_CONFIG = /var/tmp/cpansmoker-1023/2023072404/cpanreporter_000_config.ini
    PERL_EXTUTILS_AUTOINSTALL = --defaultdeps
    PERL_USE_UNSAFE_INC = 1
    SHELL = /bin/sh
    TMPDIR = /var/tmp/cpansmoker-1023/2023072404

Perl special variables (and OS-specific diagnostics, for MSWin32):

    $^X = /usr/perl5.30.3p/bin/perl
    $UID/$EUID = 1023 / 1023
    $GID = 1023 1023
    $EGID = 1023 1023

Perl module toolchain versions installed:

    Module              Have    
    ------------------- --------
    CPAN                2.36    
    CPAN::Meta          2.150010
    Cwd                 3.78    
    ExtUtils::CBuilder  0.280236
    ExtUtils::Command   7.70    
    ExtUtils::Install   2.20    
    ExtUtils::MakeMaker 7.70    
    ExtUtils::Manifest  1.72    
    ExtUtils::ParseXS   3.40    
    File::Spec          3.78    
    JSON                4.10    
    JSON::PP            4.15    
    Module::Build       0.4231  
    Module::Signature   0.88    
    Parse::CPAN::Meta   2.150010
    Test::Harness       3.44    
    Test::More          1.302195
    YAML                1.30    
    YAML::Syck          1.34    
    version             0.9929  


--

Summary of my perl5 (revision 5 version 30 subversion 3) configuration:
   
  Platform:
    osname=freebsd
    osvers=13.0-stable
    archname=amd64-freebsd
    uname='freebsd cloud10.bbbike.org 13.0-stable freebsd 13.0-stable #0 stable13-n245623-e2872019983d: thu may 13 16:04:27 utc 2021 root@cloud10.bbbike.org:usrobjusrhomeprojectsfreebsdamd64.amd64sysgeneric amd64 '
    config_args='-ds -e -Dprefix=/usr/perl5.30.3p -Dcf_email=srezic@cpan.org -Doptimize=-O2 -pipe'
    hint=recommended
    useposix=true
    d_sigaction=define
    useithreads=undef
    usemultiplicity=undef
    use64bitint=define
    use64bitall=define
    uselongdouble=undef
    usemymalloc=n
    default_inc_excludes_dot=define
    bincompat5005=undef
  Compiler:
    cc='cc'
    ccflags ='-DHAS_FPSETMASK -DHAS_FLOATINGPOINT_H -fno-strict-aliasing -pipe -fstack-protector-strong -I/usr/local/include'
    optimize='-O2 -pipe'
    cppflags='-DHAS_FPSETMASK -DHAS_FLOATINGPOINT_H -fno-strict-aliasing -pipe -fstack-protector-strong -I/usr/local/include'
    ccversion=''
    gccversion='FreeBSD Clang 11.0.1 (git@github.com:llvm/llvm-project.git llvmorg-11.0.1-0-g43ff75f2c3fe)'
    gccosandvers=''
    intsize=4
    longsize=8
    ptrsize=8
    doublesize=8
    byteorder=12345678
    doublekind=3
    d_longlong=define
    longlongsize=8
    d_longdbl=define
    longdblsize=16
    longdblkind=3
    ivtype='long'
    ivsize=8
    nvtype='double'
    nvsize=8
    Off_t='off_t'
    lseeksize=8
    alignbytes=8
    prototype=define
  Linker and Libraries:
    ld='cc'
    ldflags ='-pthread -Wl,-E  -fstack-protector-strong -L/usr/local/lib'
    libpth=/usr/lib /usr/local/lib /usr/lib/clang/11.0.1/lib /usr/lib
    libs=-lpthread -lgdbm -ldl -lm -lcrypt -lutil -lc
    perllibs=-lpthread -ldl -lm -lcrypt -lutil -lc
    libc=
    so=so
    useshrplib=false
    libperl=libperl.a
    gnulibc_version=''
  Dynamic Linking:
    dlsrc=dl_dlopen.xs
    dlext=so
    d_dlsymun=undef
    ccdlflags=' '
    cccdlflags='-DPIC -fPIC'
    lddlflags='-shared  -L/usr/local/lib -fstack-protector-strong'


Characteristics of this binary (from libperl): 
  Compile-time options:
    HAS_TIMES
    PERLIO_LAYERS
    PERL_COPY_ON_WRITE
    PERL_DONT_CREATE_GVSV
    PERL_MALLOC_WRAP
    PERL_OP_PARENT
    PERL_PRESERVE_IVUV
    USE_64_BIT_ALL
    USE_64_BIT_INT
    USE_LARGE_FILES
    USE_LOCALE
    USE_LOCALE_COLLATE
    USE_LOCALE_CTYPE
    USE_LOCALE_NUMERIC
    USE_LOCALE_TIME
    USE_PERLIO
    USE_PERL_ATOF
  Built under freebsd
  Compiled at May 14 2021 19:47:18
  %ENV:
    PERL5LIB=""
    PERL5OPT=""
    PERL5_CPANPLUS_IS_RUNNING="58899"
    PERL5_CPAN_IS_RUNNING="58899"
    PERL5_CPAN_IS_RUNNING_IN_RECURSION="58177,58899"
    PERL_BATCH="yes"
    PERL_CANARY_STABILITY_NOPROMPT="1"
    PERL_CPAN_REPORTER_CONFIG="/var/tmp/cpansmoker-1023/2023072404/cpanreporter_000_config.ini"
    PERL_EXTUTILS_AUTOINSTALL="--defaultdeps"
    PERL_USE_UNSAFE_INC="1"
  @INC:
    /usr/perl5.30.3p/lib/site_perl/5.30.3/amd64-freebsd
    /usr/perl5.30.3p/lib/site_perl/5.30.3
    /usr/perl5.30.3p/lib/5.30.3/amd64-freebsd
    /usr/perl5.30.3p/lib/5.30.3
    .