Sub-HandlesVia v0.050002 Perl 5 v5.41.13 amd64-netbsd

Status
Pass
From
Carlos Guevara
Dist
Sub-HandlesVia v0.050002
Platform
Perl 5 v5.41.13 amd64-netbsd
Date
2025-05-09 16:44:15
ID
d80d5b74-2cf4-11f0-b5cd-e3e7e7fc8b08
This distribution has been tested as part of the CPAN Testers
project, supporting the Perl programming language.  See
http://wiki.cpantesters.org/ for more information or email
questions to cpan-testers-discuss@perl.org


--
Dear Toby Inkster,

This is a computer-generated report for Sub-HandlesVia-0.050002
on perl 5.41.13, created by CPAN-Reporter-1.2020.

Thank you for uploading your work to CPAN.  Congratulations!
All tests were successful.

Sections of this report:

    * Tester comments
    * Program output
    * Prerequisites
    * Environment and other context

------------------------------
TESTER COMMENTS
------------------------------

Additional comments from tester:

this report is from an automated smoke testing program
and was not reviewed by a human for accuracy

------------------------------
PROGRAM OUTPUT
------------------------------

Output from '/usr/bin/make test':

PERL_DL_NONLAZY=1 "/home/cpan/bin/perl/bin/perl5.41.13" "-MExtUtils::Command::MM" "-MTest::Harness" "-e" "undef *Test::Harness::Switches; test_harness(0, 'blib/lib', 'blib/arch')" t/*.t t/02moo/*.t t/03moo_mxtt/*.t t/04moose/*.t t/05moose_nativetypes/*.t t/06mouse/*.t t/07mouse_nativetypes/*.t t/30egpod/*.t t/40mite/*.t
# 
#   Perl                                        5.041013
#   Exporter::Tiny                              1.006002
#   Type::Tiny/Type::Tiny::XS                   2.008002/0.025
#   Scalar::Util/List::Util/Sub::Util           1.69/1.69/1.69
# 
#   Class::Tiny                                 1.008
#   Role::Tiny                                  2.002004
#   Class::Method::Modifiers                    2.15
#   Moo/MooX::TypeTiny/Class::XSAccessor        2.005005/undef/1.19
#   Moose                                       2.2207
#   Mouse                                       2.5
# 
#   Test::More/Test::Fatal/Test::Requires       1.302211/0.017/0.11
# 
#   $AUTOMATED_TESTING                          "1"
#   $NONINTERACTIVE_TESTING                     "1"
#   $EXTENDED_TESTING                           undef
#   $AUTHOR_TESTING                             undef
#   $RELEASE_TESTING                            undef
# 
# >>>> Type::Tiny is using Type::Tiny::XS
# 
t/00begin.t ............................ ok
t/01basic.t ............................ ok
t/02moo.t .............................. ok
t/02moo/ext_attr.t ..................... ok
t/02moo/role.t ......................... ok
t/02moo/roles-multiple.t ............... ok
t/02moo/trait_array.t .................. ok
t/02moo/trait_bool.t ................... ok
t/02moo/trait_code.t ................... ok
t/02moo/trait_counter.t ................ ok
t/02moo/trait_hash.t ................... ok
t/02moo/trait_number.t ................. ok
t/02moo/trait_string.t ................. ok
t/03moo_mxtt.t ......................... skipped: Test requires module 'MooX::TypeTiny' but it's not found
t/03moo_mxtt/role.t .................... skipped: Test requires module 'MooX::TypeTiny' but it's not found
t/03moo_mxtt/trait_array.t ............. skipped: Test requires module 'MooX::TypeTiny' but it's not found
t/03moo_mxtt/trait_bool.t .............. skipped: Test requires module 'MooX::TypeTiny' but it's not found
t/03moo_mxtt/trait_code.t .............. skipped: Test requires module 'MooX::TypeTiny' but it's not found
t/03moo_mxtt/trait_counter.t ........... skipped: Test requires module 'MooX::TypeTiny' but it's not found
t/03moo_mxtt/trait_hash.t .............. skipped: Test requires module 'MooX::TypeTiny' but it's not found
t/03moo_mxtt/trait_number.t ............ skipped: Test requires module 'MooX::TypeTiny' but it's not found
t/03moo_mxtt/trait_string.t ............ skipped: Test requires module 'MooX::TypeTiny' but it's not found
t/04moose.t ............................ ok
t/04moose/ext_attr.t ................... ok
t/04moose/role.t ....................... ok
t/04moose/roles-multiple.t ............. ok
t/04moose/trait_array.t ................ ok
t/04moose/trait_bool.t ................. ok
t/04moose/trait_code.t ................. ok
t/04moose/trait_counter.t .............. ok
t/04moose/trait_hash.t ................. ok
t/04moose/trait_number.t ............... ok
t/04moose/trait_string.t ............... ok
t/05moose_nativetypes.t ................ ok
t/05moose_nativetypes/role.t ........... ok
t/05moose_nativetypes/trait_array.t .... ok
t/05moose_nativetypes/trait_bool.t ..... ok
t/05moose_nativetypes/trait_code.t ..... ok
t/05moose_nativetypes/trait_counter.t .. ok
t/05moose_nativetypes/trait_hash.t ..... ok
t/05moose_nativetypes/trait_number.t ... ok
t/05moose_nativetypes/trait_string.t ... ok
t/06mouse.t ............................ ok
t/06mouse/ext_attr.t ................... ok
t/06mouse/role.t ....................... ok
t/06mouse/roles-multiple.t ............. skipped: TODO (issue #9)
t/06mouse/trait_array.t ................ ok
t/06mouse/trait_bool.t ................. ok
t/06mouse/trait_code.t ................. ok
t/06mouse/trait_counter.t .............. ok
t/06mouse/trait_hash.t ................. ok
t/06mouse/trait_number.t ............... ok
t/06mouse/trait_string.t ............... ok
t/07mouse_nativetypes.t ................ ok
t/07mouse_nativetypes/role.t ........... ok
t/07mouse_nativetypes/trait_array.t .... ok
t/07mouse_nativetypes/trait_bool.t ..... ok
t/07mouse_nativetypes/trait_code.t ..... ok
t/07mouse_nativetypes/trait_counter.t .. ok
t/07mouse_nativetypes/trait_hash.t ..... ok
t/07mouse_nativetypes/trait_number.t ... ok
t/07mouse_nativetypes/trait_string.t ... ok
t/08classtiny.t ........................ ok
t/09barebones.t ........................ ok
t/10barebones_eagerbuilder.t ........... ok
t/11delegation.t ....................... ok
t/12slotaccess.t ....................... skipped: Test requires module 'MooseX::InsideOut' but it's not found
t/14enum.t ............................. ok
t/15preludes.t ......................... ok
t/16stackqueue.t ....................... ok
t/20moosex_extended.t .................. skipped: test requires MooseX::Extended
t/30egpod/array.t ...................... ok
t/30egpod/bool.t ....................... ok
t/30egpod/code.t ....................... ok
t/30egpod/counter.t .................... ok
t/30egpod/hash.t ....................... ok
t/30egpod/number.t ..................... ok
t/30egpod/scalar.t ..................... ok
t/30egpod/string.t ..................... ok
t/31egpod_dummy.t ...................... ok
t/40mite/00-basic.t .................... ok
t/40mite/01-roles.t .................... ok
t/40mite/array.t ....................... ok
t/40mite/bool.t ........................ ok
t/40mite/code.t ........................ ok
t/40mite/counter.t ..................... ok
t/40mite/hash.t ........................ ok
t/40mite/number.t ...................... ok
t/40mite/scalar.t ...................... ok
t/40mite/string.t ...................... ok
t/50objectpad.t ........................ skipped: Test requires module 'Object::Pad' but it's not found
t/60detect.t ........................... ok
t/61moosemetagubbins.t ................. ok
t/62mousemetagubbins.t ................. ok
t/80beam.t ............................. skipped: Test requires module 'Beam::Wire' but it's not found
t/81mxpa.t ............................. skipped: Test requires module 'MooX::ProtectedAttributes' but it's not found
t/94cmp.t .............................. ok
t/95any.t .............................. ok
t/96foreach.t .......................... ok
t/97pickrandom.t ....................... ok
t/98apply.t ............................ ok
t/99headtail.t ......................... ok
All tests successful.
Files=102, Tests=8614, 24 wallclock secs ( 1.11 usr  0.43 sys + 18.51 cusr  3.61 csys = 23.66 CPU)
Result: PASS

------------------------------
PREREQUISITES
------------------------------

Prerequisite modules loaded:

requires:

    Module                   Need     Have    
    ------------------------ -------- --------
    Class::Method::Modifiers 0        2.15    
    Exporter::Shiny          0        1.006002
    List::Util               1.54     1.69    
    perl                     5.008001 5.041013
    Role::Hooks              0.008    0.008   
    Role::Tiny               0        2.002004
    Type::Tiny               1.004    2.008002

build_requires:

    Module                   Need     Have    
    ------------------------ -------- --------
    Test::Fatal              0        0.017   
    Test::More               0.96     1.302211
    Test::Requires           0        0.11    
    Try::Tiny                0        0.32    

configure_requires:

    Module                   Need     Have    
    ------------------------ -------- --------
    ExtUtils::MakeMaker      6.17     7.74    

opt_requires:

    Module                   Need     Have    
    ------------------------ -------- --------
    Sub::Util                0        1.69    

opt_build_requires:

    Module                   Need     Have    
    ------------------------ -------- --------
    Class::Tiny              0        1.008   
    Moo                      0        2.005005
    Moose                    0        2.2207  
  ! MooseX::Extended         0.22     n/a     
  ! MooX::TypeTiny           0        n/a     
    Mouse                    0        v2.5.11 
  ! Object::Pad              0.70     n/a     


------------------------------
ENVIRONMENT AND OTHER CONTEXT
------------------------------

Environment variables:

    AUTOMATED_TESTING = 1
    DATE_MANIP_TEST_DM5 = 1
    LC_ALL = C
    NONINTERACTIVE_TESTING = 1
    NO_NETWORK_TESTING = 1
    PATH = /home/cpan/bin/perl/bin:/home/cpan/bin:/home/cpan/bin:/bin:/sbin:/usr/bin:/usr/sbin:/usr/X11R7/bin:/usr/pkg/bin:/usr/pkg/sbin:/usr/games:/usr/local/bin:/usr/local/sbin
    PERL5LIB = 
    PERL5OPT = 
    PERL5_CPANPLUS_IS_RUNNING = 17590
    PERL5_CPAN_IS_RUNNING = 17590
    PERL_MM_USE_DEFAULT = 1
    PERL_USE_UNSAFE_INC = 1
    SHELL = /usr/pkg/bin/bash
    TERM = screen
    TMPDIR = /home/cpan/tmp

Perl special variables (and OS-specific diagnostics, for MSWin32):

    $^X = /home/cpan/bin/perl/bin/perl5.41.13
    $UID/$EUID = 1003 / 1003
    $GID = 100 100
    $EGID = 100 100

Perl module toolchain versions installed:

    Module              Have    
    ------------------- --------
    CPAN                2.38    
    CPAN::Meta          2.150010
    Cwd                 3.94    
    ExtUtils::CBuilder  0.280241
    ExtUtils::Command   7.74    
    ExtUtils::Install   2.22    
    ExtUtils::MakeMaker 7.74    
    ExtUtils::Manifest  1.75    
    ExtUtils::ParseXS   3.57    
    File::Spec          3.94    
    JSON                4.10    
    JSON::PP            4.16    
    Module::Build       0.4234  
    Module::Signature   0.89    
    Parse::CPAN::Meta   2.150010
    Test2               1.302211
    Test::Harness       3.50    
    Test::More          1.302211
    YAML                1.31    
    YAML::Syck          1.34    
    version             0.9933  


--

Summary of my perl5 (revision 5 version 41 subversion 13) configuration:
  Commit id: bdd2c794f79baa3bf919296f597a683a6eaa25ef
  Platform:
    osname=netbsd
    osvers=10.1
    archname=amd64-netbsd
    uname='netbsd cjg-netbsd10 10.1 netbsd 10.1 (generic) #0: mon dec 16 13:08:11 utc 2024 mkrepro@mkrepro.netbsd.org:usrsrcsysarchamd64compilegeneric amd64 '
    config_args='-des -Dprefix=/home/cpan/bin/perl -Dscriptdir=/home/cpan/bin/perl/bin -Dusedevel -Duse64bitall'
    hint=recommended
    useposix=true
    d_sigaction=define
    useithreads=undef
    usemultiplicity=undef
    use64bitint=define
    use64bitall=define
    uselongdouble=undef
    usemymalloc=n
    default_inc_excludes_dot=define
  Compiler:
    cc='cc'
    ccflags ='-fwrapv -fno-strict-aliasing -pipe -fstack-protector-strong -I/usr/pkg/include -D_FORTIFY_SOURCE=2'
    optimize='-O'
    cppflags='-fwrapv -fno-strict-aliasing -pipe -fstack-protector-strong -I/usr/pkg/include'
    ccversion=''
    gccversion='10.5.0'
    gccosandvers=''
    intsize=4
    longsize=8
    ptrsize=8
    doublesize=8
    byteorder=12345678
    doublekind=3
    d_longlong=define
    longlongsize=8
    d_longdbl=define
    longdblsize=16
    longdblkind=3
    ivtype='long'
    ivsize=8
    nvtype='double'
    nvsize=8
    Off_t='off_t'
    lseeksize=8
    alignbytes=8
    prototype=define
  Linker and Libraries:
    ld='cc'
    ldflags =' -Wl,-rpath,/usr/pkg/lib -Wl,-rpath,/usr/local/lib -fstack-protector-strong -L/usr/pkg/lib'
    libpth=/usr/lib /usr/pkg/lib /lib
    libs=-lpthread -lm -lcrypt -lutil -lc -lposix
    perllibs=-lpthread -lm -lcrypt -lutil -lc -lposix
    libc=/lib/libc.so
    so=so
    useshrplib=false
    libperl=libperl.a
    gnulibc_version=''
  Dynamic Linking:
    dlsrc=dl_dlopen.xs
    dlext=so
    d_dlsymun=undef
    ccdlflags='-Wl,-E '
    cccdlflags='-DPIC -fPIC '
    lddlflags='-shared  -L/usr/pkg/lib -fstack-protector-strong'


Characteristics of this binary (from libperl): 
  Compile-time options:
    HAS_LONG_DOUBLE
    HAS_STRTOLD
    HAS_TIMES
    PERLIO_LAYERS
    PERL_COPY_ON_WRITE
    PERL_DONT_CREATE_GVSV
    PERL_HASH_FUNC_SIPHASH13
    PERL_HASH_USE_SBOX32
    PERL_MALLOC_WRAP
    PERL_OP_PARENT
    PERL_PRESERVE_IVUV
    PERL_USE_DEVEL
    PERL_USE_SAFE_PUTENV
    USE_64_BIT_ALL
    USE_64_BIT_INT
    USE_LARGE_FILES
    USE_LOCALE
    USE_LOCALE_COLLATE
    USE_LOCALE_CTYPE
    USE_LOCALE_NUMERIC
    USE_LOCALE_TIME
    USE_PERLIO
    USE_PERL_ATOF
  Built under netbsd
  Compiled at May  9 2025 05:38:21
  %ENV:
    PERL5LIB=""
    PERL5OPT=""
    PERL5_CPANPLUS_IS_RUNNING="17590"
    PERL5_CPAN_IS_RUNNING="17590"
    PERL_MM_USE_DEFAULT="1"
    PERL_USE_UNSAFE_INC="1"
  @INC:
    /home/cpan/bin/perl/lib/site_perl/5.41.13/amd64-netbsd
    /home/cpan/bin/perl/lib/site_perl/5.41.13
    /home/cpan/bin/perl/lib/5.41.13/amd64-netbsd
    /home/cpan/bin/perl/lib/5.41.13
    .