Report for Rose-DB-Object-0.815

Back
From: metabase:user:30977d10-2aae-11df-837a-5e0a49663a4f
Subject: PASS Rose-DB-Object-0.815 v5.23.3 GNU/Linux
Date: 2015-11-09T21:57:17Z

This distribution has been tested as part of the CPAN Testers
project, supporting the Perl programming language.  See
http://wiki.cpantesters.org/ for more information or email
questions to cpan-testers-discuss@perl.org


--
Dear John Siracusa,

This is a computer-generated report for Rose-DB-Object-0.815
on perl 5.23.3, created by CPAN-Reporter-1.2015.

Thank you for uploading your work to CPAN.  Congratulations!
All tests were successful.

Sections of this report:

    * Tester comments
    * Program output
    * Prerequisites
    * Environment and other context

------------------------------
TESTER COMMENTS
------------------------------

Additional comments from tester:

this report is from an automated smoke testing program
and was not reviewed by a human for accuracy

------------------------------
PROGRAM OUTPUT
------------------------------

Output from '/usr/bin/make test':

PERL_DL_NONLAZY=1 "/home/stro/perl/5.23.3t/bin/perl" "-MExtUtils::Command::MM" "-MTest::Harness" "-e" "undef *Test::Harness::Switches; test_harness(0, 'blib/lib', 'blib/arch')" t/*.t

##
## DBI             1.634
## DBD::SQLite     1.48
## JSON            2.90
##
## WARNING: Almost all the tests in this module distribution need to connect
## to a database in order to run.  The tests need full privileges on this
## database: the ability to create and drop tables, insert, update, and delete
## rows, create schemas, sequences, functions, triggers, the works.
## 
## By default, the tests will try to connect to the database named "test"
## running on "localhost" using the default superuser username for each
## database type and an empty password.
## 
## If you have setup your database in a secure manner, these connection
## attempts will fail, and the tests will be skipped.  If you want to override
## these values, set the following environment variables before running tests.
## (The current values are shown in parentheses.)
## 
## PostgreSQL:
## 
##     RDBO_PG_DSN      (dbi:Pg:dbname=test;host=localhost)
##     RDBO_PG_USER     (postgres)
##     RDBO_PG_PASS     (<none>)
## 
## MySQL:
## 
##     RDBO_MYSQL_DSN   (dbi:mysql:database=test;host=localhost)
##     RDBO_MYSQL_USER  (root)
##     RDBO_MYSQL_PASS  (<none>)
##
## Oracle:
## 
##     RDBO_ORACLE_DSN  (dbi:Oracle:dbname=test)
##     RDBO_ORACLE_USER (<none>)
##     RDBO_ORACLE_PASS (<none>)
##
## Informix:
## 
##     RDBO_INFORMIX_DSN   (dbi:Informix:test@test)
##     RDBO_INFORMIX_USER  (<none>)
##     RDBO_INFORMIX_PASS  (<none>)
## 
## SQLite: To disable the SQLite tests, set this environment varible
##
##     RDBO_NO_SQLITE  (<undef>)
##
## Press return to continue (or wait 60 seconds)
t/00-warning.t ..................... ok
Subroutine DateTime::Format::Strptime::import redefined at /home/stro/perl/5.23.3t/lib/5.23.3/Exporter.pm line 33.
Unescaped left brace in regex is deprecated, passed through in regex; marked by <-- HERE in m/
                    (%{ <-- HERE \w+})
                / at /home/stro/perl/5.23.3t/lib/site_perl/5.23.3/Convert/NLS_DATE_FORMAT.pm line 116.
t/as-tree.t ........................ ok
Subroutine DateTime::Format::Strptime::import redefined at /home/stro/perl/5.23.3t/lib/5.23.3/Exporter.pm line 33.
Unescaped left brace in regex is deprecated, passed through in regex; marked by <-- HERE in m/
                    (%{ <-- HERE \w+})
                / at /home/stro/perl/5.23.3t/lib/site_perl/5.23.3/Convert/NLS_DATE_FORMAT.pm line 116.
t/auto-setup.t ..................... ok
Subroutine DateTime::Format::Strptime::import redefined at /home/stro/perl/5.23.3t/lib/5.23.3/Exporter.pm line 33.
Unescaped left brace in regex is deprecated, passed through in regex; marked by <-- HERE in m/
                    (%{ <-- HERE \w+})
                / at /home/stro/perl/5.23.3t/lib/site_perl/5.23.3/Convert/NLS_DATE_FORMAT.pm line 116.
t/bind-param.t ..................... ok
Subroutine DateTime::Format::Strptime::import redefined at /home/stro/perl/5.23.3t/lib/5.23.3/Exporter.pm line 33.
Unescaped left brace in regex is deprecated, passed through in regex; marked by <-- HERE in m/
                    (%{ <-- HERE \w+})
                / at /home/stro/perl/5.23.3t/lib/site_perl/5.23.3/Convert/NLS_DATE_FORMAT.pm line 116.
t/column-triggers.t ................ ok
Subroutine DateTime::Format::Strptime::import redefined at /home/stro/perl/5.23.3t/lib/5.23.3/Exporter.pm line 33.
Unescaped left brace in regex is deprecated, passed through in regex; marked by <-- HERE in m/
                    (%{ <-- HERE \w+})
                / at /home/stro/perl/5.23.3t/lib/site_perl/5.23.3/Convert/NLS_DATE_FORMAT.pm line 116.
t/column-values.t .................. ok
Subroutine DateTime::Format::Strptime::import redefined at /home/stro/perl/5.23.3t/lib/5.23.3/Exporter.pm line 33.
Unescaped left brace in regex is deprecated, passed through in regex; marked by <-- HERE in m/
                    (%{ <-- HERE \w+})
                / at /home/stro/perl/5.23.3t/lib/site_perl/5.23.3/Convert/NLS_DATE_FORMAT.pm line 116.
t/db-migration.t ................... ok
Subroutine DateTime::Format::Strptime::import redefined at /home/stro/perl/5.23.3t/lib/5.23.3/Exporter.pm line 33.
Unescaped left brace in regex is deprecated, passed through in regex; marked by <-- HERE in m/
                    (%{ <-- HERE \w+})
                / at /home/stro/perl/5.23.3t/lib/site_perl/5.23.3/Convert/NLS_DATE_FORMAT.pm line 116.
t/db-object-auto.t ................. ok
Subroutine DateTime::Format::Strptime::import redefined at /home/stro/perl/5.23.3t/lib/5.23.3/Exporter.pm line 33.
Unescaped left brace in regex is deprecated, passed through in regex; marked by <-- HERE in m/
                    (%{ <-- HERE \w+})
                / at /home/stro/perl/5.23.3t/lib/site_perl/5.23.3/Convert/NLS_DATE_FORMAT.pm line 116.
t/db-object-cached.t ............... ok
Subroutine DateTime::Format::Strptime::import redefined at /home/stro/perl/5.23.3t/lib/5.23.3/Exporter.pm line 33.
Unescaped left brace in regex is deprecated, passed through in regex; marked by <-- HERE in m/
                    (%{ <-- HERE \w+})
                / at /home/stro/perl/5.23.3t/lib/site_perl/5.23.3/Convert/NLS_DATE_FORMAT.pm line 116.
t/db-object-changes-only-1.t ....... ok
Subroutine DateTime::Format::Strptime::import redefined at /home/stro/perl/5.23.3t/lib/5.23.3/Exporter.pm line 33.
Unescaped left brace in regex is deprecated, passed through in regex; marked by <-- HERE in m/
                    (%{ <-- HERE \w+})
                / at /home/stro/perl/5.23.3t/lib/site_perl/5.23.3/Convert/NLS_DATE_FORMAT.pm line 116.
t/db-object-changes-only-2.t ....... ok
Subroutine DateTime::Format::Strptime::import redefined at /home/stro/perl/5.23.3t/lib/5.23.3/Exporter.pm line 33.
Unescaped left brace in regex is deprecated, passed through in regex; marked by <-- HERE in m/
                    (%{ <-- HERE \w+})
                / at /home/stro/perl/5.23.3t/lib/site_perl/5.23.3/Convert/NLS_DATE_FORMAT.pm line 116.
t/db-object-convention.t ........... ok
Subroutine DateTime::Format::Strptime::import redefined at /home/stro/perl/5.23.3t/lib/5.23.3/Exporter.pm line 33.
Unescaped left brace in regex is deprecated, passed through in regex; marked by <-- HERE in m/
                    (%{ <-- HERE \w+})
                / at /home/stro/perl/5.23.3t/lib/site_perl/5.23.3/Convert/NLS_DATE_FORMAT.pm line 116.
t/db-object-foreign-key-auto.t ..... ok
Subroutine DateTime::Format::Strptime::import redefined at /home/stro/perl/5.23.3t/lib/5.23.3/Exporter.pm line 33.
Unescaped left brace in regex is deprecated, passed through in regex; marked by <-- HERE in m/
                    (%{ <-- HERE \w+})
                / at /home/stro/perl/5.23.3t/lib/site_perl/5.23.3/Convert/NLS_DATE_FORMAT.pm line 116.
t/db-object-foreign-key.t .......... ok
Subroutine DateTime::Format::Strptime::import redefined at /home/stro/perl/5.23.3t/lib/5.23.3/Exporter.pm line 33.
Unescaped left brace in regex is deprecated, passed through in regex; marked by <-- HERE in m/
                    (%{ <-- HERE \w+})
                / at /home/stro/perl/5.23.3t/lib/site_perl/5.23.3/Convert/NLS_DATE_FORMAT.pm line 116.
t/db-object-helpers.t .............. ok
Subroutine DateTime::Format::Strptime::import redefined at /home/stro/perl/5.23.3t/lib/5.23.3/Exporter.pm line 33.
Unescaped left brace in regex is deprecated, passed through in regex; marked by <-- HERE in m/
                    (%{ <-- HERE \w+})
                / at /home/stro/perl/5.23.3t/lib/site_perl/5.23.3/Convert/NLS_DATE_FORMAT.pm line 116.
t/db-object-loader-2.t ............. ok
Subroutine DateTime::Format::Strptime::import redefined at /home/stro/perl/5.23.3t/lib/5.23.3/Exporter.pm line 33.
Unescaped left brace in regex is deprecated, passed through in regex; marked by <-- HERE in m/
                    (%{ <-- HERE \w+})
                / at /home/stro/perl/5.23.3t/lib/site_perl/5.23.3/Convert/NLS_DATE_FORMAT.pm line 116.
t/db-object-loader-3.t ............. ok
Subroutine DateTime::Format::Strptime::import redefined at /home/stro/perl/5.23.3t/lib/5.23.3/Exporter.pm line 33.
Unescaped left brace in regex is deprecated, passed through in regex; marked by <-- HERE in m/
                    (%{ <-- HERE \w+})
                / at /home/stro/perl/5.23.3t/lib/site_perl/5.23.3/Convert/NLS_DATE_FORMAT.pm line 116.
t/db-object-loader-4.t ............. ok
Subroutine DateTime::Format::Strptime::import redefined at /home/stro/perl/5.23.3t/lib/5.23.3/Exporter.pm line 33.
Unescaped left brace in regex is deprecated, passed through in regex; marked by <-- HERE in m/
                    (%{ <-- HERE \w+})
                / at /home/stro/perl/5.23.3t/lib/site_perl/5.23.3/Convert/NLS_DATE_FORMAT.pm line 116.
t/db-object-loader-5.t ............. ok
Subroutine DateTime::Format::Strptime::import redefined at /home/stro/perl/5.23.3t/lib/5.23.3/Exporter.pm line 33.
Unescaped left brace in regex is deprecated, passed through in regex; marked by <-- HERE in m/
                    (%{ <-- HERE \w+})
                / at /home/stro/perl/5.23.3t/lib/site_perl/5.23.3/Convert/NLS_DATE_FORMAT.pm line 116.
t/db-object-loader-6.t ............. ok
Subroutine DateTime::Format::Strptime::import redefined at /home/stro/perl/5.23.3t/lib/5.23.3/Exporter.pm line 33.
Unescaped left brace in regex is deprecated, passed through in regex; marked by <-- HERE in m/
                    (%{ <-- HERE \w+})
                / at /home/stro/perl/5.23.3t/lib/site_perl/5.23.3/Convert/NLS_DATE_FORMAT.pm line 116.
t/db-object-loader-7.t ............. ok
Subroutine DateTime::Format::Strptime::import redefined at /home/stro/perl/5.23.3t/lib/5.23.3/Exporter.pm line 33.
Unescaped left brace in regex is deprecated, passed through in regex; marked by <-- HERE in m/
                    (%{ <-- HERE \w+})
                / at /home/stro/perl/5.23.3t/lib/site_perl/5.23.3/Convert/NLS_DATE_FORMAT.pm line 116.
t/db-object-loader-8.t ............. ok
Subroutine DateTime::Format::Strptime::import redefined at /home/stro/perl/5.23.3t/lib/5.23.3/Exporter.pm line 33.
Unescaped left brace in regex is deprecated, passed through in regex; marked by <-- HERE in m/
                    (%{ <-- HERE \w+})
                / at /home/stro/perl/5.23.3t/lib/site_perl/5.23.3/Convert/NLS_DATE_FORMAT.pm line 116.
t/db-object-loader-9.t ............. ok
Subroutine DateTime::Format::Strptime::import redefined at /home/stro/perl/5.23.3t/lib/5.23.3/Exporter.pm line 33.
Unescaped left brace in regex is deprecated, passed through in regex; marked by <-- HERE in m/
                    (%{ <-- HERE \w+})
                / at /home/stro/perl/5.23.3t/lib/site_perl/5.23.3/Convert/NLS_DATE_FORMAT.pm line 116.
t/db-object-loader.t ............... ok
Subroutine DateTime::Format::Strptime::import redefined at /home/stro/perl/5.23.3t/lib/5.23.3/Exporter.pm line 33.
Unescaped left brace in regex is deprecated, passed through in regex; marked by <-- HERE in m/
                    (%{ <-- HERE \w+})
                / at /home/stro/perl/5.23.3t/lib/site_perl/5.23.3/Convert/NLS_DATE_FORMAT.pm line 116.
t/db-object-manager-bulk-ops.t ..... ok
Subroutine DateTime::Format::Strptime::import redefined at /home/stro/perl/5.23.3t/lib/5.23.3/Exporter.pm line 33.
Unescaped left brace in regex is deprecated, passed through in regex; marked by <-- HERE in m/
                    (%{ <-- HERE \w+})
                / at /home/stro/perl/5.23.3t/lib/site_perl/5.23.3/Convert/NLS_DATE_FORMAT.pm line 116.
t/db-object-manager.t .............. ok
Subroutine DateTime::Format::Strptime::import redefined at /home/stro/perl/5.23.3t/lib/5.23.3/Exporter.pm line 33.
Unescaped left brace in regex is deprecated, passed through in regex; marked by <-- HERE in m/
                    (%{ <-- HERE \w+})
                / at /home/stro/perl/5.23.3t/lib/site_perl/5.23.3/Convert/NLS_DATE_FORMAT.pm line 116.
t/db-object-mapper.t ............... ok
Subroutine DateTime::Format::Strptime::import redefined at /home/stro/perl/5.23.3t/lib/5.23.3/Exporter.pm line 33.
Unescaped left brace in regex is deprecated, passed through in regex; marked by <-- HERE in m/
                    (%{ <-- HERE \w+})
                / at /home/stro/perl/5.23.3t/lib/site_perl/5.23.3/Convert/NLS_DATE_FORMAT.pm line 116.
t/db-object-metadata.t ............. ok
Subroutine DateTime::Format::Strptime::import redefined at /home/stro/perl/5.23.3t/lib/5.23.3/Exporter.pm line 33.
Unescaped left brace in regex is deprecated, passed through in regex; marked by <-- HERE in m/
                    (%{ <-- HERE \w+})
                / at /home/stro/perl/5.23.3t/lib/site_perl/5.23.3/Convert/NLS_DATE_FORMAT.pm line 116.
t/db-object-relationship-auto-2.t .. ok
Subroutine DateTime::Format::Strptime::import redefined at /home/stro/perl/5.23.3t/lib/5.23.3/Exporter.pm line 33.
Unescaped left brace in regex is deprecated, passed through in regex; marked by <-- HERE in m/
                    (%{ <-- HERE \w+})
                / at /home/stro/perl/5.23.3t/lib/site_perl/5.23.3/Convert/NLS_DATE_FORMAT.pm line 116.
t/db-object-relationship-auto.t .... ok
Subroutine DateTime::Format::Strptime::import redefined at /home/stro/perl/5.23.3t/lib/5.23.3/Exporter.pm line 33.
Unescaped left brace in regex is deprecated, passed through in regex; marked by <-- HERE in m/
                    (%{ <-- HERE \w+})
                / at /home/stro/perl/5.23.3t/lib/site_perl/5.23.3/Convert/NLS_DATE_FORMAT.pm line 116.
t/db-object-relationship.t ......... ok
Subroutine DateTime::Format::Strptime::import redefined at /home/stro/perl/5.23.3t/lib/5.23.3/Exporter.pm line 33.
Unescaped left brace in regex is deprecated, passed through in regex; marked by <-- HERE in m/
                    (%{ <-- HERE \w+})
                / at /home/stro/perl/5.23.3t/lib/site_perl/5.23.3/Convert/NLS_DATE_FORMAT.pm line 116.
t/db-object-std-cached.t ........... ok
Subroutine DateTime::Format::Strptime::import redefined at /home/stro/perl/5.23.3t/lib/5.23.3/Exporter.pm line 33.
Unescaped left brace in regex is deprecated, passed through in regex; marked by <-- HERE in m/
                    (%{ <-- HERE \w+})
                / at /home/stro/perl/5.23.3t/lib/site_perl/5.23.3/Convert/NLS_DATE_FORMAT.pm line 116.
t/db-object-std.t .................. ok
Subroutine DateTime::Format::Strptime::import redefined at /home/stro/perl/5.23.3t/lib/5.23.3/Exporter.pm line 33.
Unescaped left brace in regex is deprecated, passed through in regex; marked by <-- HERE in m/
                    (%{ <-- HERE \w+})
                / at /home/stro/perl/5.23.3t/lib/site_perl/5.23.3/Convert/NLS_DATE_FORMAT.pm line 116.
t/db-object.t ...................... ok
Subroutine DateTime::Format::Strptime::import redefined at /home/stro/perl/5.23.3t/lib/5.23.3/Exporter.pm line 33.
Unescaped left brace in regex is deprecated, passed through in regex; marked by <-- HERE in m/
                    (%{ <-- HERE \w+})
                / at /home/stro/perl/5.23.3t/lib/site_perl/5.23.3/Convert/NLS_DATE_FORMAT.pm line 116.
t/deep-joins.t ..................... ok
Subroutine DateTime::Format::Strptime::import redefined at /home/stro/perl/5.23.3t/lib/5.23.3/Exporter.pm line 33.
Unescaped left brace in regex is deprecated, passed through in regex; marked by <-- HERE in m/
                    (%{ <-- HERE \w+})
                / at /home/stro/perl/5.23.3t/lib/site_perl/5.23.3/Convert/NLS_DATE_FORMAT.pm line 116.
t/inheritance.t .................... ok
Subroutine DateTime::Format::Strptime::import redefined at /home/stro/perl/5.23.3t/lib/5.23.3/Exporter.pm line 33.
Unescaped left brace in regex is deprecated, passed through in regex; marked by <-- HERE in m/
                    (%{ <-- HERE \w+})
                / at /home/stro/perl/5.23.3t/lib/site_perl/5.23.3/Convert/NLS_DATE_FORMAT.pm line 116.
t/lazy-columns.t ................... ok
Subroutine DateTime::Format::Strptime::import redefined at /home/stro/perl/5.23.3t/lib/5.23.3/Exporter.pm line 33.
Unescaped left brace in regex is deprecated, passed through in regex; marked by <-- HERE in m/
                    (%{ <-- HERE \w+})
                / at /home/stro/perl/5.23.3t/lib/site_perl/5.23.3/Convert/NLS_DATE_FORMAT.pm line 116.
t/leaks.t .......................... ok
Subroutine DateTime::Format::Strptime::import redefined at /home/stro/perl/5.23.3t/lib/5.23.3/Exporter.pm line 33.
Unescaped left brace in regex is deprecated, passed through in regex; marked by <-- HERE in m/
                    (%{ <-- HERE \w+})
                / at /home/stro/perl/5.23.3t/lib/site_perl/5.23.3/Convert/NLS_DATE_FORMAT.pm line 116.
Unescaped left brace in regex is deprecated, passed through in regex; marked by <-- HERE in m/
                    (%{ <-- HERE \w+})
                / at /home/stro/perl/5.23.3t/lib/site_perl/5.23.3/Convert/NLS_DATE_FORMAT.pm line 116.
t/make-modules.t ................... ok
Subroutine DateTime::Format::Strptime::import redefined at /home/stro/perl/5.23.3t/lib/5.23.3/Exporter.pm line 33.
Unescaped left brace in regex is deprecated, passed through in regex; marked by <-- HERE in m/
                    (%{ <-- HERE \w+})
                / at /home/stro/perl/5.23.3t/lib/site_perl/5.23.3/Convert/NLS_DATE_FORMAT.pm line 116.
t/makemethods-db.t ................. ok
Subroutine DateTime::Format::Strptime::import redefined at /home/stro/perl/5.23.3t/lib/5.23.3/Exporter.pm line 33.
Unescaped left brace in regex is deprecated, passed through in regex; marked by <-- HERE in m/
                    (%{ <-- HERE \w+})
                / at /home/stro/perl/5.23.3t/lib/site_perl/5.23.3/Convert/NLS_DATE_FORMAT.pm line 116.
t/makemethods.t .................... ok
Subroutine DateTime::Format::Strptime::import redefined at /home/stro/perl/5.23.3t/lib/5.23.3/Exporter.pm line 33.
Unescaped left brace in regex is deprecated, passed through in regex; marked by <-- HERE in m/
                    (%{ <-- HERE \w+})
                / at /home/stro/perl/5.23.3t/lib/site_perl/5.23.3/Convert/NLS_DATE_FORMAT.pm line 116.
t/multi-many-the-hard-way.t ........ ok
Subroutine DateTime::Format::Strptime::import redefined at /home/stro/perl/5.23.3t/lib/5.23.3/Exporter.pm line 33.
Unescaped left brace in regex is deprecated, passed through in regex; marked by <-- HERE in m/
                    (%{ <-- HERE \w+})
                / at /home/stro/perl/5.23.3t/lib/site_perl/5.23.3/Convert/NLS_DATE_FORMAT.pm line 116.
t/multi-pk-sequences.t ............. ok
Subroutine DateTime::Format::Strptime::import redefined at /home/stro/perl/5.23.3t/lib/5.23.3/Exporter.pm line 33.
Unescaped left brace in regex is deprecated, passed through in regex; marked by <-- HERE in m/
                    (%{ <-- HERE \w+})
                / at /home/stro/perl/5.23.3t/lib/site_perl/5.23.3/Convert/NLS_DATE_FORMAT.pm line 116.
t/nested-joins.t ................... ok
Subroutine DateTime::Format::Strptime::import redefined at /home/stro/perl/5.23.3t/lib/5.23.3/Exporter.pm line 33.
Unescaped left brace in regex is deprecated, passed through in regex; marked by <-- HERE in m/
                    (%{ <-- HERE \w+})
                / at /home/stro/perl/5.23.3t/lib/site_perl/5.23.3/Convert/NLS_DATE_FORMAT.pm line 116.
t/one-to-many-reset.t .............. ok
Subroutine DateTime::Format::Strptime::import redefined at /home/stro/perl/5.23.3t/lib/5.23.3/Exporter.pm line 33.
Unescaped left brace in regex is deprecated, passed through in regex; marked by <-- HERE in m/
                    (%{ <-- HERE \w+})
                / at /home/stro/perl/5.23.3t/lib/site_perl/5.23.3/Convert/NLS_DATE_FORMAT.pm line 116.
t/pk-fk-columns.t .................. ok
t/pod.t ............................ ok
Subroutine DateTime::Format::Strptime::import redefined at /home/stro/perl/5.23.3t/lib/5.23.3/Exporter.pm line 33.
Unescaped left brace in regex is deprecated, passed through in regex; marked by <-- HERE in m/
                    (%{ <-- HERE \w+})
                / at /home/stro/perl/5.23.3t/lib/site_perl/5.23.3/Convert/NLS_DATE_FORMAT.pm line 116.
t/query-builder.t .................. ok
Subroutine DateTime::Format::Strptime::import redefined at /home/stro/perl/5.23.3t/lib/5.23.3/Exporter.pm line 33.
Unescaped left brace in regex is deprecated, passed through in regex; marked by <-- HERE in m/
                    (%{ <-- HERE \w+})
                / at /home/stro/perl/5.23.3t/lib/site_perl/5.23.3/Convert/NLS_DATE_FORMAT.pm line 116.
t/rt-cpan-45836.t .................. ok
Subroutine DateTime::Format::Strptime::import redefined at /home/stro/perl/5.23.3t/lib/5.23.3/Exporter.pm line 33.
Unescaped left brace in regex is deprecated, passed through in regex; marked by <-- HERE in m/
                    (%{ <-- HERE \w+})
                / at /home/stro/perl/5.23.3t/lib/site_perl/5.23.3/Convert/NLS_DATE_FORMAT.pm line 116.
t/save-cascade.t ................... ok
Subroutine DateTime::Format::Strptime::import redefined at /home/stro/perl/5.23.3t/lib/5.23.3/Exporter.pm line 33.
Unescaped left brace in regex is deprecated, passed through in regex; marked by <-- HERE in m/
                    (%{ <-- HERE \w+})
                / at /home/stro/perl/5.23.3t/lib/site_perl/5.23.3/Convert/NLS_DATE_FORMAT.pm line 116.
t/schema-override.t ................ ok
Subroutine DateTime::Format::Strptime::import redefined at /home/stro/perl/5.23.3t/lib/5.23.3/Exporter.pm line 33.
Unescaped left brace in regex is deprecated, passed through in regex; marked by <-- HERE in m/
                    (%{ <-- HERE \w+})
                / at /home/stro/perl/5.23.3t/lib/site_perl/5.23.3/Convert/NLS_DATE_FORMAT.pm line 116.
t/spot-check-01.t .................. ok
Subroutine DateTime::Format::Strptime::import redefined at /home/stro/perl/5.23.3t/lib/5.23.3/Exporter.pm line 33.
Unescaped left brace in regex is deprecated, passed through in regex; marked by <-- HERE in m/
                    (%{ <-- HERE \w+})
                / at /home/stro/perl/5.23.3t/lib/site_perl/5.23.3/Convert/NLS_DATE_FORMAT.pm line 116.
t/spot-check-02.t .................. ok
t/spot-check-03.t .................. ok
Subroutine DateTime::Format::Strptime::import redefined at /home/stro/perl/5.23.3t/lib/5.23.3/Exporter.pm line 33.
Unescaped left brace in regex is deprecated, passed through in regex; marked by <-- HERE in m/
                    (%{ <-- HERE \w+})
                / at /home/stro/perl/5.23.3t/lib/site_perl/5.23.3/Convert/NLS_DATE_FORMAT.pm line 116.
t/spot-check-04.t .................. ok
Subroutine DateTime::Format::Strptime::import redefined at /home/stro/perl/5.23.3t/lib/5.23.3/Exporter.pm line 33.
Unescaped left brace in regex is deprecated, passed through in regex; marked by <-- HERE in m/
                    (%{ <-- HERE \w+})
                / at /home/stro/perl/5.23.3t/lib/site_perl/5.23.3/Convert/NLS_DATE_FORMAT.pm line 116.
t/spot-check-05.t .................. ok
Subroutine DateTime::Format::Strptime::import redefined at /home/stro/perl/5.23.3t/lib/5.23.3/Exporter.pm line 33.
Unescaped left brace in regex is deprecated, passed through in regex; marked by <-- HERE in m/
                    (%{ <-- HERE \w+})
                / at /home/stro/perl/5.23.3t/lib/site_perl/5.23.3/Convert/NLS_DATE_FORMAT.pm line 116.
t/spot-check-06.t .................. ok
Subroutine DateTime::Format::Strptime::import redefined at /home/stro/perl/5.23.3t/lib/5.23.3/Exporter.pm line 33.
Unescaped left brace in regex is deprecated, passed through in regex; marked by <-- HERE in m/
                    (%{ <-- HERE \w+})
                / at /home/stro/perl/5.23.3t/lib/site_perl/5.23.3/Convert/NLS_DATE_FORMAT.pm line 116.
t/spot-check-07.t .................. ok
Subroutine DateTime::Format::Strptime::import redefined at /home/stro/perl/5.23.3t/lib/5.23.3/Exporter.pm line 33.
Unescaped left brace in regex is deprecated, passed through in regex; marked by <-- HERE in m/
                    (%{ <-- HERE \w+})
                / at /home/stro/perl/5.23.3t/lib/site_perl/5.23.3/Convert/NLS_DATE_FORMAT.pm line 116.
t/spot-check-08.t .................. ok
Subroutine DateTime::Format::Strptime::import redefined at /home/stro/perl/5.23.3t/lib/5.23.3/Exporter.pm line 33.
Unescaped left brace in regex is deprecated, passed through in regex; marked by <-- HERE in m/
                    (%{ <-- HERE \w+})
                / at /home/stro/perl/5.23.3t/lib/site_perl/5.23.3/Convert/NLS_DATE_FORMAT.pm line 116.
t/spot-check-09.t .................. ok
Subroutine DateTime::Format::Strptime::import redefined at /home/stro/perl/5.23.3t/lib/5.23.3/Exporter.pm line 33.
Unescaped left brace in regex is deprecated, passed through in regex; marked by <-- HERE in m/
                    (%{ <-- HERE \w+})
                / at /home/stro/perl/5.23.3t/lib/site_perl/5.23.3/Convert/NLS_DATE_FORMAT.pm line 116.
t/spot-check-10.t .................. ok
Subroutine DateTime::Format::Strptime::import redefined at /home/stro/perl/5.23.3t/lib/5.23.3/Exporter.pm line 33.
Unescaped left brace in regex is deprecated, passed through in regex; marked by <-- HERE in m/
                    (%{ <-- HERE \w+})
                / at /home/stro/perl/5.23.3t/lib/site_perl/5.23.3/Convert/NLS_DATE_FORMAT.pm line 116.
t/spot-check-11.t .................. ok
Unescaped left brace in regex is deprecated, passed through in regex; marked by <-- HERE in m/
                    (%{ <-- HERE \w+})
                / at /home/stro/perl/5.23.3t/lib/site_perl/5.23.3/Convert/NLS_DATE_FORMAT.pm line 116.
t/spot-check-12.t .................. ok
Subroutine DateTime::Format::Strptime::import redefined at /home/stro/perl/5.23.3t/lib/5.23.3/Exporter.pm line 33.
Unescaped left brace in regex is deprecated, passed through in regex; marked by <-- HERE in m/
                    (%{ <-- HERE \w+})
                / at /home/stro/perl/5.23.3t/lib/site_perl/5.23.3/Convert/NLS_DATE_FORMAT.pm line 116.
t/spot-check-13.t .................. ok
Subroutine DateTime::Format::Strptime::import redefined at /home/stro/perl/5.23.3t/lib/5.23.3/Exporter.pm line 33.
Unescaped left brace in regex is deprecated, passed through in regex; marked by <-- HERE in m/
                    (%{ <-- HERE \w+})
                / at /home/stro/perl/5.23.3t/lib/site_perl/5.23.3/Convert/NLS_DATE_FORMAT.pm line 116.
t/spot-check-14.t .................. ok
Subroutine DateTime::Format::Strptime::import redefined at /home/stro/perl/5.23.3t/lib/5.23.3/Exporter.pm line 33.
Unescaped left brace in regex is deprecated, passed through in regex; marked by <-- HERE in m/
                    (%{ <-- HERE \w+})
                / at /home/stro/perl/5.23.3t/lib/site_perl/5.23.3/Convert/NLS_DATE_FORMAT.pm line 116.
t/undef-overrides-default.t ........ ok
Subroutine DateTime::Format::Strptime::import redefined at /home/stro/perl/5.23.3t/lib/5.23.3/Exporter.pm line 33.
Unescaped left brace in regex is deprecated, passed through in regex; marked by <-- HERE in m/
                    (%{ <-- HERE \w+})
                / at /home/stro/perl/5.23.3t/lib/site_perl/5.23.3/Convert/NLS_DATE_FORMAT.pm line 116.
t/unique-key-prefs.t ............... ok
All tests successful.
Files=67, Tests=15335, 39 wallclock secs ( 0.89 usr  0.06 sys + 18.36 cusr  1.10 csys = 20.41 CPU)
Result: PASS

------------------------------
PREREQUISITES
------------------------------

Prerequisite modules loaded:

requires:

    Module               Need     Have    
    -------------------- -------- --------
    Bit::Vector          0        7.4     
    Clone                0.29     0.38    
    Cwd                  0        3.58    
    Data::Dumper         2.121    2.158   
    DateTime             0        1.21    
    DBI                  1.40     1.634   
    File::Path           0        2.12    
    File::Spec           0        3.58    
    List::MoreUtils      0        0.413   
    Math::BigInt         1.77     1.999704
    perl                 5.006000 5.023003
    Rose::DateTime::Util 0.532    0.540   
    Rose::DB             0.763    0.777   
    Rose::Object         0.854    0.860   
    Scalar::Util         0        1.42_01 
    Test::More           0        1.001014
    Time::Clock          1.00     1.03    

build_requires:

    Module               Need     Have    
    -------------------- -------- --------
    ExtUtils::MakeMaker  0        7.10    

configure_requires:

    Module               Need     Have    
    -------------------- -------- --------
    ExtUtils::MakeMaker  0        7.10    


------------------------------
ENVIRONMENT AND OTHER CONTEXT
------------------------------

Environment variables:

    AUTOMATED_TESTING = 1
    LANG = en_US.UTF-8
    PATH = /usr/local/bin:/usr/bin:/bin:/usr/local/games:/usr/games
    PERL5LIB = 
    PERL5OPT = 
    PERL5_CPANPLUS_IS_RUNNING = 21148
    PERL5_CPAN_IS_RUNNING = 21148
    PERL5_CPAN_IS_RUNNING_IN_RECURSION = 16328,21148
    PERL_CR_SMOKER_CURRENT = Rose-Planter-0.37
    PERL_EXTUTILS_AUTOINSTALL = --defaultdeps
    PERL_MM_USE_DEFAULT = 1
    SHELL = /bin/bash
    TERM = xterm

Perl special variables (and OS-specific diagnostics, for MSWin32):

    $^X = /home/stro/perl/5.23.3t/bin/perl
    $UID/$EUID = 1000 / 1000
    $GID = 1000 24 25 29 30 44 46 108 114 1000
    $EGID = 1000 24 25 29 30 44 46 108 114 1000

Perl module toolchain versions installed:

    Module              Have    
    ------------------- --------
    CPAN                2.11    
    CPAN::Meta          2.150005
    Cwd                 3.58    
    ExtUtils::CBuilder  0.280224
    ExtUtils::Command   7.10    
    ExtUtils::Install   2.04    
    ExtUtils::MakeMaker 7.10    
    ExtUtils::Manifest  1.70    
    ExtUtils::ParseXS   3.30    
    File::Spec          3.58    
    JSON                2.90    
    JSON::PP            2.27300 
    Module::Build       0.4214  
    Module::Signature   n/a     
    Parse::CPAN::Meta   1.4417  
    Test::Harness       3.35    
    Test::More          1.001014
    YAML                1.15    
    YAML::Syck          1.29    
    version             0.9909  


--

Summary of my perl5 (revision 5 version 23 subversion 3) configuration:
   
  Platform:
    osname=linux, osvers=3.16.0-4-amd64, archname=x86_64-linux-thread-multi
    uname='linux vm-debian-001 3.16.0-4-amd64 #1 smp debian 3.16.7-ckt11-1 (2015-05-24) x86_64 gnulinux '
    config_args=''
    hint=recommended, useposix=true, d_sigaction=define
    useithreads=define, usemultiplicity=define
    use64bitint=define, use64bitall=define, uselongdouble=undef
    usemymalloc=n, bincompat5005=undef
  Compiler:
    cc='cc', ccflags ='-D_REENTRANT -D_GNU_SOURCE -fwrapv -fno-strict-aliasing -pipe -fstack-protector-strong -I/usr/local/include -D_LARGEFILE_SOURCE -D_FILE_OFFSET_BITS=64 -D_FORTIFY_SOURCE=2',
    optimize='-O2',
    cppflags='-D_REENTRANT -D_GNU_SOURCE -fwrapv -fno-strict-aliasing -pipe -fstack-protector-strong -I/usr/local/include'
    ccversion='', gccversion='4.9.2', gccosandvers=''
    intsize=4, longsize=8, ptrsize=8, doublesize=8, byteorder=12345678, doublekind=3
    d_longlong=define, longlongsize=8, d_longdbl=define, longdblsize=16, longdblkind=3
    ivtype='long', ivsize=8, nvtype='double', nvsize=8, Off_t='off_t', lseeksize=8
    alignbytes=8, prototype=define
  Linker and Libraries:
    ld='cc', ldflags =' -fstack-protector-strong -L/usr/local/lib'
    libpth=/usr/local/lib /usr/lib/gcc/x86_64-linux-gnu/4.9/include-fixed /usr/include/x86_64-linux-gnu /usr/lib /lib/x86_64-linux-gnu /lib/../lib /usr/lib/x86_64-linux-gnu /usr/lib/../lib /lib
    libs=-lpthread -lnsl -ldl -lm -lcrypt -lutil -lc
    perllibs=-lpthread -lnsl -ldl -lm -lcrypt -lutil -lc
    libc=libc-2.19.so, so=so, useshrplib=false, libperl=libperl.a
    gnulibc_version='2.19'
  Dynamic Linking:
    dlsrc=dl_dlopen.xs, dlext=so, d_dlsymun=undef, ccdlflags='-Wl,-E'
    cccdlflags='-fPIC', lddlflags='-shared -O2 -L/usr/local/lib -fstack-protector-strong'


Characteristics of this binary (from libperl): 
  Compile-time options: HAS_TIMES MULTIPLICITY PERLIO_LAYERS
                        PERL_COPY_ON_WRITE PERL_DONT_CREATE_GVSV
                        PERL_HASH_FUNC_ONE_AT_A_TIME_HARD
                        PERL_IMPLICIT_CONTEXT PERL_MALLOC_WRAP
                        PERL_PRESERVE_IVUV USE_64_BIT_ALL USE_64_BIT_INT
                        USE_ITHREADS USE_LARGE_FILES USE_LOCALE
                        USE_LOCALE_COLLATE USE_LOCALE_CTYPE
                        USE_LOCALE_NUMERIC USE_LOCALE_TIME USE_PERLIO
                        USE_PERL_ATOF USE_REENTRANT_API
  Built under linux
  Compiled at Sep 27 2015 12:47:02
  %ENV:
    PERL5LIB=""
    PERL5OPT=""
    PERL5_CPANPLUS_IS_RUNNING="21148"
    PERL5_CPAN_IS_RUNNING="21148"
    PERL5_CPAN_IS_RUNNING_IN_RECURSION="16328,21148"
    PERL_CR_SMOKER_CURRENT="Rose-Planter-0.37"
    PERL_EXTUTILS_AUTOINSTALL="--defaultdeps"
    PERL_MM_USE_DEFAULT="1"
  @INC:
    /home/stro/perl/5.23.3t/lib/site_perl/5.23.3/x86_64-linux-thread-multi
    /home/stro/perl/5.23.3t/lib/site_perl/5.23.3
    /home/stro/perl/5.23.3t/lib/5.23.3/x86_64-linux-thread-multi
    /home/stro/perl/5.23.3t/lib/5.23.3
    .