Back
From: metabase:user:314402c4-2aae-11df-837a-5e0a49663a4f
Subject: PASS Tapper-Remote-5.0.0 v5.16.3 FreeBSD
Date: 2016-02-15T13:48:50Z
This distribution has been tested as part of the CPAN Testers
project, supporting the Perl programming language. See
http://wiki.cpantesters.org/ for more information or email
questions to cpan-testers-discuss@perl.org
--
Dear Tapper Team,
This is a computer-generated report for Tapper-Remote-5.0.0
on perl 5.16.3, created by CPAN-Reporter-1.2015.
Thank you for uploading your work to CPAN. Congratulations!
All tests were successful.
Sections of this report:
* Tester comments
* Program output
* Prerequisites
* Environment and other context
------------------------------
TESTER COMMENTS
------------------------------
Additional comments from tester:
none provided
------------------------------
PROGRAM OUTPUT
------------------------------
Output from '/usr/bin/make test':
PERL_DL_NONLAZY=1 "/usr/perl5.16.3t/bin/perl5.16.3" "-MExtUtils::Command::MM" "-MTest::Harness" "-e" "undef *Test::Harness::Switches; test_harness(0, 'blib/lib', 'blib/arch')" t/*.t
t/00-load.t ................... ok
t/author-eol.t ................ skipped: these tests are for testing by the author
t/author-no-tabs.t ............ skipped: these tests are for testing by the author
t/author-pod-syntax.t ......... skipped: these tests are for testing by the author
t/release-pod-coverage.t ...... skipped: these tests are for release candidate testing
t/tapper-remote-config-prc.t .. ok
readline() on closed filehandle $FH at /usr/home/eserte/.cpan/build/2016021512/Tapper-Remote-5.0.0-lSbqWe/blib/lib/Tapper/Remote/Config.pm line 23.
Use of uninitialized value $cmd_line in pattern match (m//) at /usr/home/eserte/.cpan/build/2016021512/Tapper-Remote-5.0.0-lSbqWe/blib/lib/Tapper/Remote/Config.pm line 25.
Use of uninitialized value $cmd_line in pattern match (m//) at /usr/home/eserte/.cpan/build/2016021512/Tapper-Remote-5.0.0-lSbqWe/blib/lib/Tapper/Remote/Config.pm line 28.
t/tapper-remote-config.t ...... ok
# /var/tmp/cpansmoker-1023/2016021512/bNxm3iUHiK
t/tapper-remote-net.t ......... ok
All tests successful.
Files=8, Tests=14, 6 wallclock secs ( 0.12 usr 0.05 sys + 4.20 cusr 0.87 csys = 5.24 CPU)
Result: PASS
------------------------------
PREREQUISITES
------------------------------
Prerequisite modules loaded:
requires:
Module Need Have
------------------- ---- --------
Getopt::Long 0 2.48
IO::Socket::INET 0 1.33
Moose 0 2.1604
Moose::Role 0 2.1604
Net::TFTP 0 0.19
Socket 0 2.021
strict 0 1.07
Sys::Hostname 0 1.16
Tapper::Base 0 4.1.4
URI::Escape 0 3.31
warnings 0 1.13
YAML::Syck 0 1.29
build_requires:
Module Need Have
------------------- ---- --------
ExtUtils::MakeMaker 0 7.10
File::Temp 0 0.2304
Log::Log4perl 0 1.46
POSIX 0 1.30
Test::MockModule 0 0.11
Test::More 0 1.001014
configure_requires:
Module Need Have
------------------- ---- --------
ExtUtils::MakeMaker 0 7.10
------------------------------
ENVIRONMENT AND OTHER CONTEXT
------------------------------
Environment variables:
LC_ALL = de_DE.ISO8859-1
PATH = /usr/local/bin:/usr/bin:/bin:/usr/local/sbin:/usr/sbin:/sbin:/home/cpansand/bin/freebsd9.3:/home/cpansand/bin/sh:/home/cpansand/bin:/usr/games:/home/cpansand/devel:/usr/home/eserte/src/srezic-misc/scripts
PERL5LIB = /home/eserte/.cpan/build/2016021512/Net-TFTP-0.19-fg3Ufw/blib/arch:/home/eserte/.cpan/build/2016021512/Net-TFTP-0.19-fg3Ufw/blib/lib:/home/eserte/.cpan/build/2016021512/Dist-Iller-Config-Author-CSSON-0.0304-MMHFVE/blib/arch:/home/eserte/.cpan/build/2016021512/Dist-Iller-Config-Author-CSSON-0.0304-MMHFVE/blib/lib:/home/eserte/.cpan/build/2016021512/Mojo-mysql-0.14-wQxSu8/blib/arch:/home/eserte/.cpan/build/2016021512/Mojo-mysql-0.14-wQxSu8/blib/lib:/home/eserte/.cpan/build/2016021512/Swagger2-0.73-t4qNa8/blib/arch:/home/eserte/.cpan/build/2016021512/Swagger2-0.73-t4qNa8/blib/lib
PERL5OPT =
PERL5_CPANPLUS_IS_RUNNING = 59095
PERL5_CPAN_IS_RUNNING = 59095
PERL5_CPAN_IS_RUNNING_IN_RECURSION = 59043,59095
PERLDOC = -MPod::Perldoc::ToTextOverstrike
PERL_BATCH = yes
PERL_CANARY_STABILITY_NOPROMPT = 1
PERL_CPAN_REPORTER_CONFIG = /var/tmp/cpansmoker-1023/2016021512/cpanreporter_000_config.ini
PERL_EXTUTILS_AUTOINSTALL = --defaultdeps
SHELL = /usr/local/bin/zsh
TERM = screen
TMPDIR = /var/tmp/cpansmoker-1023/2016021512
Perl special variables (and OS-specific diagnostics, for MSWin32):
$^X = /usr/perl5.16.3t/bin/perl5.16.3
$UID/$EUID = 1023 / 1023
$GID = 1023 1023
$EGID = 1023 1023
Perl module toolchain versions installed:
Module Have
------------------- --------
CPAN 1.9800
CPAN::Meta 2.150005
Cwd 3.62
ExtUtils::CBuilder 0.280224
ExtUtils::Command 7.10
ExtUtils::Install 1.68
ExtUtils::MakeMaker 7.10
ExtUtils::Manifest 1.70
ExtUtils::ParseXS 3.30
File::Spec 3.62
JSON 2.90
JSON::PP 2.27300
Module::Build 0.4214
Module::Signature 0.79
Parse::CPAN::Meta 1.4417
Test::Harness 3.36
Test::More 1.001014
YAML 1.15
YAML::Syck 1.29
version 0.9912
--
Summary of my perl5 (revision 5 version 16 subversion 3) configuration:
Platform:
osname=freebsd, osvers=9.2-release-p4, archname=amd64-freebsd-thread-multi
uname='freebsd cvrsnica-freebsd-92 9.2-release-p4 freebsd 9.2-release-p4 #0: tue apr 8 18:08:22 utc 2014 root@amd64-builder.daemonology.net:usrobjusrsrcsysgeneric amd64 '
config_args='-ds -e -Dprefix=/usr/perl5.16.3t -Dusethreads'
hint=recommended, useposix=true, d_sigaction=define
useithreads=define, usemultiplicity=define
useperlio=define, d_sfio=undef, uselargefiles=define, usesocks=undef
use64bitint=define, use64bitall=define, uselongdouble=undef
usemymalloc=n, bincompat5005=undef
Compiler:
cc='cc', ccflags ='-DHAS_FPSETMASK -DHAS_FLOATINGPOINT_H -fno-strict-aliasing -pipe -fstack-protector -I/usr/local/include',
optimize='-O',
cppflags='-DHAS_FPSETMASK -DHAS_FLOATINGPOINT_H -fno-strict-aliasing -pipe -fstack-protector -I/usr/local/include'
ccversion='', gccversion='4.2.1 20070831 patched [FreeBSD]', gccosandvers=''
intsize=4, longsize=8, ptrsize=8, doublesize=8, byteorder=12345678
d_longlong=define, longlongsize=8, d_longdbl=define, longdblsize=16
ivtype='long', ivsize=8, nvtype='double', nvsize=8, Off_t='off_t', lseeksize=8
alignbytes=8, prototype=define
Linker and Libraries:
ld='cc', ldflags ='-pthread -Wl,-E -fstack-protector -L/usr/local/lib'
libpth=/usr/lib /usr/local/lib
libs=-lgdbm -lm -lcrypt
perllibs=-lm -lcrypt
libc=, so=so, useshrplib=false, libperl=libperl.a
gnulibc_version=''
Dynamic Linking:
dlsrc=dl_dlopen.xs, dlext=so, d_dlsymun=undef, ccdlflags=' '
cccdlflags='-DPIC -fPIC', lddlflags='-shared -L/usr/local/lib -fstack-protector'
Characteristics of this binary (from libperl):
Compile-time options: HAS_TIMES MULTIPLICITY PERLIO_LAYERS
PERL_DONT_CREATE_GVSV PERL_IMPLICIT_CONTEXT
PERL_MALLOC_WRAP PERL_PRESERVE_IVUV USE_64_BIT_ALL
USE_64_BIT_INT USE_ITHREADS USE_LARGE_FILES
USE_LOCALE USE_LOCALE_COLLATE USE_LOCALE_CTYPE
USE_LOCALE_NUMERIC USE_PERLIO USE_PERL_ATOF
USE_REENTRANT_API
Built under freebsd
Compiled at May 16 2014 07:49:48
%ENV:
PERL5LIB="/home/eserte/.cpan/build/2016021512/Net-TFTP-0.19-fg3Ufw/blib/arch:/home/eserte/.cpan/build/2016021512/Net-TFTP-0.19-fg3Ufw/blib/lib:/home/eserte/.cpan/build/2016021512/Dist-Iller-Config-Author-CSSON-0.0304-MMHFVE/blib/arch:/home/eserte/.cpan/build/2016021512/Dist-Iller-Config-Author-CSSON-0.0304-MMHFVE/blib/lib:/home/eserte/.cpan/build/2016021512/Mojo-mysql-0.14-wQxSu8/blib/arch:/home/eserte/.cpan/build/2016021512/Mojo-mysql-0.14-wQxSu8/blib/lib:/home/eserte/.cpan/build/2016021512/Swagger2-0.73-t4qNa8/blib/arch:/home/eserte/.cpan/build/2016021512/Swagger2-0.73-t4qNa8/blib/lib"
PERL5OPT=""
PERL5_CPANPLUS_IS_RUNNING="59095"
PERL5_CPAN_IS_RUNNING="59095"
PERL5_CPAN_IS_RUNNING_IN_RECURSION="59043,59095"
PERLDOC="-MPod::Perldoc::ToTextOverstrike"
PERL_BATCH="yes"
PERL_CANARY_STABILITY_NOPROMPT="1"
PERL_CPAN_REPORTER_CONFIG="/var/tmp/cpansmoker-1023/2016021512/cpanreporter_000_config.ini"
PERL_EXTUTILS_AUTOINSTALL="--defaultdeps"
@INC:
/home/eserte/.cpan/build/2016021512/Net-TFTP-0.19-fg3Ufw/blib/arch
/home/eserte/.cpan/build/2016021512/Net-TFTP-0.19-fg3Ufw/blib/lib
/home/eserte/.cpan/build/2016021512/Dist-Iller-Config-Author-CSSON-0.0304-MMHFVE/blib/arch
/home/eserte/.cpan/build/2016021512/Dist-Iller-Config-Author-CSSON-0.0304-MMHFVE/blib/lib
/home/eserte/.cpan/build/2016021512/Mojo-mysql-0.14-wQxSu8/blib/arch
/home/eserte/.cpan/build/2016021512/Mojo-mysql-0.14-wQxSu8/blib/lib
/home/eserte/.cpan/build/2016021512/Swagger2-0.73-t4qNa8/blib/arch
/home/eserte/.cpan/build/2016021512/Swagger2-0.73-t4qNa8/blib/lib
/usr/perl5.16.3t/lib/site_perl/5.16.3/amd64-freebsd-thread-multi
/usr/perl5.16.3t/lib/site_perl/5.16.3
/usr/perl5.16.3t/lib/5.16.3/amd64-freebsd-thread-multi
/usr/perl5.16.3t/lib/5.16.3
.