XML-XPath v1.48 Perl 5 v5.42.0 darwin-2level

Status
Pass
From
Stanislaw Pusep
Dist
XML-XPath v1.48
Platform
Perl 5 v5.42.0 darwin-2level
Date
2025-07-06 15:42:38
ID
d843a4fa-5a7f-11f0-8ad1-e8a3f7431862
This distribution has been tested as part of the CPAN Testers
project, supporting the Perl programming language.  See
http://wiki.cpantesters.org/ for more information or email
questions to cpan-testers-discuss@perl.org


--
Dear MANWAR,

This is a computer-generated report for XML-XPath-1.48
on perl 5.42.0, created by App::cpanminus::reporter 0.22 (1.7047).

Thank you for uploading your work to CPAN.  Congratulations!
All tests were successful.

Sections of this report:

    * Tester comments
    * Program output
    * Prerequisites
    * Environment and other context

------------------------------
TESTER COMMENTS
------------------------------

Additional comments from tester:

none provided

------------------------------
PROGRAM OUTPUT
------------------------------

Output from '':

Building and testing XML-XPath-1.48
cp lib/XML/XPath.pm blib/lib/XML/XPath.pm
cp lib/XML/XPath/Parser.pm blib/lib/XML/XPath/Parser.pm
cp lib/XML/XPath/Builder.pm blib/lib/XML/XPath/Builder.pm
cp lib/XML/XPath/Boolean.pm blib/lib/XML/XPath/Boolean.pm
cp lib/XML/XPath/NodeSet.pm blib/lib/XML/XPath/NodeSet.pm
cp lib/XML/XPath/XMLParser.pm blib/lib/XML/XPath/XMLParser.pm
cp lib/XML/XPath/Number.pm blib/lib/XML/XPath/Number.pm
cp lib/XML/XPath/LocationPath.pm blib/lib/XML/XPath/LocationPath.pm
cp lib/XML/XPath/Function.pm blib/lib/XML/XPath/Function.pm
cp lib/XML/XPath/PerlSAX.pm blib/lib/XML/XPath/PerlSAX.pm
cp lib/XML/XPath/Node.pm blib/lib/XML/XPath/Node.pm
cp lib/XML/XPath/Node/Attribute.pm blib/lib/XML/XPath/Node/Attribute.pm
cp lib/XML/XPath/Node/Element.pm blib/lib/XML/XPath/Node/Element.pm
cp lib/XML/XPath/Node/Text.pm blib/lib/XML/XPath/Node/Text.pm
cp lib/XML/XPath/Node/Comment.pm blib/lib/XML/XPath/Node/Comment.pm
cp lib/XML/XPath/Expr.pm blib/lib/XML/XPath/Expr.pm
cp lib/XML/XPath/Step.pm blib/lib/XML/XPath/Step.pm
cp lib/XML/XPath/Variable.pm blib/lib/XML/XPath/Variable.pm
cp lib/XML/XPath/Node/Namespace.pm blib/lib/XML/XPath/Node/Namespace.pm
cp lib/XML/XPath/Literal.pm blib/lib/XML/XPath/Literal.pm
cp lib/XML/XPath/Root.pm blib/lib/XML/XPath/Root.pm
cp lib/XML/XPath/Node/PI.pm blib/lib/XML/XPath/Node/PI.pm
cp examples/xpath blib/script/xpath
"/Users/stan/perl5/perlbrew/perls/perl-5.42.0/bin/perl" -MExtUtils::MY -e 'MY->fixin(shift)' -- blib/script/xpath
PERL_DL_NONLAZY=1 "/Users/stan/perl5/perlbrew/perls/perl-5.42.0/bin/perl" "-MExtUtils::Command::MM" "-MTest::Harness" "-e" "undef *Test::Harness::Switches; test_harness(0, 'blib/lib', 'blib/arch')" t/*.t
# Testing XML::XPath 1.48, Perl 5.042000, /Users/stan/perl5/perlbrew/perls/perl-5.42.0/bin/perl
t/00load.t .................... ok
t/01basic.t ................... ok
t/02descendant.t .............. ok
t/03star.t .................... ok
t/04pos.t ..................... ok
t/05attrib.t .................. ok
t/06attrib_val.t .............. ok
t/07count.t ................... ok
t/08name.t .................... ok
t/09a_string_length.t ......... ok
t/09string_length.t ........... ok
t/10pipe.t .................... ok
t/11axischild.t ............... ok
t/12axisdescendant.t .......... ok
t/13axisparent.t .............. ok
t/14axisancestor.t ............ ok
t/15axisfol_sib.t ............. ok
t/16axisprec_sib.t ............ ok
t/17axisfollowing.t ........... ok
t/18axispreceding.t ........... ok
t/19axisd_or_s.t .............. ok
t/20axisa_or_s.t .............. ok
t/21allnodes.t ................ ok
t/22name_select.t ............. ok
t/23func.t .................... ok
t/24namespaces.t .............. ok
t/25scope.t ................... ok
t/26predicate.t ............... ok
t/27asxml.t ................... ok
t/28ancestor2.t ............... ok
t/29desc_with_predicate.t ..... ok
t/30lang.t .................... ok
t/31dots.t .................... ok
t/32duplicate_nodes.t ......... ok
t/33getnodetext.t ............. ok
t/34non_abbreviated_attrib.t .. ok
t/35namespace_uri.t ........... ok
t/36substring.t ............... ok
t/37concat.t .................. ok
t/38starts_with.t ............. ok
t/39contains.t ................ ok
t/40substring_before.t ........ ok
t/41substring_after.t ......... ok
t/42create_node.t ............. ok
t/43op_div.t .................. ok
t/44test_compare.t ............ ok
t/45cmp_nodeset.t ............. ok
t/46context.t ................. ok
t/47position.t ................ ok
t/48translate.t ............... ok
t/49literal.t ................. ok
t/50xmlxpathparsercache.t ..... ok
t/51elementname.t ............. ok
t/52matches.t ................. ok
t/cleanup.t ................... ok
t/insert.t .................... ok
t/manifest.t .................. skipped: Test::CheckManifest 0.9 required
t/meta-json.t ................. ok
t/meta-yml.t .................. ok
t/rdf.t ....................... ok
t/remove.t .................... ok
t/stress.t .................... ok
All tests successful.
Files=62, Tests=426,  4 wallclock secs ( 0.13 usr  0.09 sys +  3.34 cusr  0.59 csys =  4.15 CPU)
Result: PASS

------------------------------
PREREQUISITES
------------------------------

Prerequisite modules loaded:

    No requirements found

------------------------------
ENVIRONMENT AND OTHER CONTEXT
------------------------------

Environment variables:

    LANG = en_US.UTF-8
    LC_ALL = en_US.UTF-8
    LDFLAGS = -L/usr/local/opt/curl/lib
    PATH = /Users/stan/perl5/perlbrew/bin:/Users/stan/perl5/perlbrew/perls/perl-5.42.0/bin:/usr/local/opt/mysql-client/bin:/usr/local/opt/curl/bin:/usr/local/bin:/usr/local/sbin:/usr/local/bin:/System/Cryptexes/App/usr/bin:/usr/bin:/bin:/usr/sbin:/sbin:/Applications/Little Snitch.app/Contents/Components:/opt/X11/bin:/Applications/Wireshark.app/Contents/MacOS:/var/run/com.apple.security.cryptexd/codex.system/bootstrap/usr/local/bin:/var/run/com.apple.security.cryptexd/codex.system/bootstrap/usr/bin:/var/run/com.apple.security.cryptexd/codex.system/bootstrap/usr/appleinternal/bin:/Users/stan/.vim/bin:/Users/stan/bin:/Users/stan/.local/bin:/Users/stan/node_modules/.bin:/usr/local/sbin:/usr/local/opt/mysql-client/bin:/usr/local/opt/curl/bin:/Applications/kitty.app/Contents/MacOS
    PERLBREW_HOME = /Users/stan/.perlbrew
    PERLBREW_MANPATH = /Users/stan/perl5/perlbrew/perls/perl-5.42.0/man
    PERLBREW_PATH = /Users/stan/perl5/perlbrew/bin:/Users/stan/perl5/perlbrew/perls/perl-5.42.0/bin
    PERLBREW_PERL = perl-5.42.0
    PERLBREW_ROOT = /Users/stan/perl5/perlbrew
    PERLBREW_SHELLRC_VERSION = 0.99
    PERLBREW_VERSION = 0.99
    PERL_MM_USE_DEFAULT = 1
    SHELL = /usr/local/bin/zsh
    TERM = screen-256color
    TMPDIR = /var/folders/tk/hx6fvpsj3yzbyd1k1br945mc0000gn/T/

Perl special variables (and OS-specific diagnostics, for MSWin32):

    EGID = 20 20 103 12 61 79 80 81 98 701 33 100 204 250 395 398 101
    EUID = 501
    EXECUTABLE_NAME = /Users/stan/perl5/perlbrew/perls/perl-5.42.0/bin/perl
    GID = 20 20 103 12 61 79 80 81 98 701 33 100 204 250 395 398 101
    UID = 501

Perl module toolchain versions installed:

    Module              Have    
    ------------------- --------
    CPAN                2.38    
    CPAN::Meta          2.150010
    Cwd                 3.94    
    ExtUtils::CBuilder  0.280242
    ExtUtils::Command   7.76    
    ExtUtils::Install   2.22    
    ExtUtils::MakeMaker 7.76    
    ExtUtils::Manifest  1.75    
    ExtUtils::ParseXS   3.57    
    File::Spec          3.94    
    JSON                4.10    
    JSON::PP            4.16    
    Module::Build       0.4234  
    Module::Signature   0.93    
    Parse::CPAN::Meta   2.150010
    Test::Harness       3.52    
    Test::More          1.302214
    YAML                1.31    
    YAML::Syck          n/a     
    version             0.9933  


--

Summary of my perl5 (revision 5 version 42 subversion 0) configuration:
   
  Platform:
    osname=darwin
    osvers=22.6.0
    archname=darwin-2level
    uname='darwin imac.home 22.6.0 darwin kernel version 22.6.0: thu apr 24 20:25:14 pdt 2025; root:xnu-8796.141.3.712.2~1release_x86_64 x86_64 '
    config_args='-de -Dprefix=/Users/stan/perl5/perlbrew/perls/perl-5.42.0 -Aeval:scriptdir=/Users/stan/perl5/perlbrew/perls/perl-5.42.0/bin'
    hint=recommended
    useposix=true
    d_sigaction=define
    useithreads=undef
    usemultiplicity=undef
    use64bitint=define
    use64bitall=define
    uselongdouble=undef
    usemymalloc=n
    default_inc_excludes_dot=define
  Compiler:
    cc='cc'
    ccflags ='-fno-common -DPERL_DARWIN -DNO_THREAD_SAFE_QUERYLOCALE -DNO_POSIX_2008_LOCALE -DHAS_BROKEN_LANGINFO_CODESET -fno-strict-aliasing -pipe -fstack-protector-strong -I/usr/local/include'
    optimize='-O3'
    cppflags='-fno-common -DPERL_DARWIN -DNO_THREAD_SAFE_QUERYLOCALE -DNO_POSIX_2008_LOCALE -DHAS_BROKEN_LANGINFO_CODESET -fno-strict-aliasing -pipe -fstack-protector-strong -I/usr/local/include'
    ccversion=''
    gccversion='Apple LLVM 15.0.0 (clang-1500.1.0.2.5)'
    gccosandvers=''
    intsize=4
    longsize=8
    ptrsize=8
    doublesize=8
    byteorder=12345678
    doublekind=3
    d_longlong=define
    longlongsize=8
    d_longdbl=define
    longdblsize=16
    longdblkind=3
    ivtype='long'
    ivsize=8
    nvtype='double'
    nvsize=8
    Off_t='off_t'
    lseeksize=8
    alignbytes=8
    prototype=define
  Linker and Libraries:
    ld='cc'
    ldflags =' -fstack-protector-strong -L/usr/local/lib'
    libpth=/usr/local/lib /Library/Developer/CommandLineTools/usr/lib/clang/15.0.0/lib /Library/Developer/CommandLineTools/SDKs/MacOSX14.2.sdk/usr/lib /Library/Developer/CommandLineTools/usr/lib /usr/lib
    libs= 
    perllibs=
    libc=
    so=dylib
    useshrplib=false
    libperl=libperl.a
    gnulibc_version=''
  Dynamic Linking:
    dlsrc=dl_dlopen.xs
    dlext=bundle
    d_dlsymun=undef
    ccdlflags=' '
    cccdlflags=' '
    lddlflags='-bundle -undefined dynamic_lookup -L/usr/local/lib -fstack-protector-strong'


Characteristics of this binary (from libperl): 
  Compile-time options:
    HAS_LONG_DOUBLE
    HAS_STRTOLD
    HAS_TIMES
    PERLIO_LAYERS
    PERL_COPY_ON_WRITE
    PERL_DONT_CREATE_GVSV
    PERL_HASH_FUNC_SIPHASH13
    PERL_HASH_USE_SBOX32
    PERL_MALLOC_WRAP
    PERL_OP_PARENT
    PERL_PRESERVE_IVUV
    PERL_USE_SAFE_PUTENV
    USE_64_BIT_ALL
    USE_64_BIT_INT
    USE_LARGE_FILES
    USE_LOCALE
    USE_LOCALE_COLLATE
    USE_LOCALE_CTYPE
    USE_LOCALE_NUMERIC
    USE_LOCALE_TIME
    USE_PERLIO
    USE_PERL_ATOF
  Built under darwin
  Compiled at Jul  6 2025 15:11:04
  %ENV:
    PERLBREW_HOME="/Users/stan/.perlbrew"
    PERLBREW_MANPATH="/Users/stan/perl5/perlbrew/perls/perl-5.42.0/man"
    PERLBREW_PATH="/Users/stan/perl5/perlbrew/bin:/Users/stan/perl5/perlbrew/perls/perl-5.42.0/bin"
    PERLBREW_PERL="perl-5.42.0"
    PERLBREW_ROOT="/Users/stan/perl5/perlbrew"
    PERLBREW_SHELLRC_VERSION="0.99"
    PERLBREW_VERSION="0.99"
    PERL_MM_USE_DEFAULT="1"
  @INC:
    /Users/stan/perl5/perlbrew/perls/perl-5.42.0/lib/site_perl/5.42.0/darwin-2level
    /Users/stan/perl5/perlbrew/perls/perl-5.42.0/lib/site_perl/5.42.0
    /Users/stan/perl5/perlbrew/perls/perl-5.42.0/lib/5.42.0/darwin-2level
    /Users/stan/perl5/perlbrew/perls/perl-5.42.0/lib/5.42.0