HTTP-Message v6.45 Perl 5 v5.38.0 armv6l-linux
- Status
- Pass
- From
- gregor herrmann
- Dist
-
HTTP-Message v6.45
- Platform
- Perl 5 v5.38.0 armv6l-linux
- Date
- 2023-09-27 23:37:39
- ID
- d8499d0a-5d8e-11ee-a8dc-1d256ff45d46
This distribution has been tested as part of the CPAN Testers
project, supporting the Perl programming language. See
http://wiki.cpantesters.org/ for more information or email
questions to cpan-testers-discuss@perl.org
--
Dear Olaf Alders,
This is a computer-generated report for HTTP-Message-6.45
on perl 5.38.0, created by CPAN-Reporter-1.2019.
Thank you for uploading your work to CPAN. Congratulations!
All tests were successful.
Sections of this report:
* Tester comments
* Program output
* Prerequisites
* Environment and other context
------------------------------
TESTER COMMENTS
------------------------------
Additional comments from tester:
this report is from an automated smoke testing program
and was not reviewed by a human for accuracy
------------------------------
PROGRAM OUTPUT
------------------------------
Output from '/usr/bin/make test':
PERL_DL_NONLAZY=1 "/srv/smoker/perl5/perlbrew/perls/perl-5.38.0/bin/perl" "-MExtUtils::Command::MM" "-MTest::Harness" "-e" "undef *Test::Harness::Switches; test_harness(0, 'blib/lib', 'blib/arch')" t/*.t
#
# Versions for all modules listed in MYMETA.json (including optional ones):
#
# === Configure Requires ===
#
# Module Want Have
# ------------------- ----- --------
# ExtUtils::MakeMaker any 7.70
# perl 5.006 5.038000
#
# === Configure Suggests ===
#
# Module Want Have
# -------- ------- ----
# JSON::PP 2.27300 4.16
#
# === Build Requires ===
#
# Module Want Have
# ------------------- ---- ----
# ExtUtils::MakeMaker any 7.70
#
# === Test Requires ===
#
# Module Want Have
# ------------------- -------- --------
# ExtUtils::MakeMaker any 7.70
# File::Spec any 3.88
# File::Temp any 0.2311
# PerlIO::encoding any 0.30
# Test::More 0.88 1.302195
# Test::Needs any 0.002010
# Time::Local any 1.30
# Try::Tiny any 0.31
# URI::URL any 5.21
# lib any 0.65
# overload any 1.37
# perl 5.008001 5.038000
#
# === Test Recommends ===
#
# Module Want Have
# ---------------------- -------- --------
# CPAN::Meta 2.120900 2.150010
# IO::Compress::Brotli 0.004001 missing
# IO::Uncompress::Brotli 0.004001 missing
#
# === Runtime Requires ===
#
# Module Want Have
# -------------------------- -------- ---------
# Carp any 1.54
# Clone 0.46 0.46
# Compress::Raw::Bzip2 any 2.204_001
# Compress::Raw::Zlib 2.062 2.204_001
# Encode 3.01 3.19
# Encode::Locale 1 1.05
# Exporter 5.57 5.77
# File::Spec any 3.88
# HTTP::Date 6 6.06
# IO::Compress::Bzip2 2.021 2.204
# IO::Compress::Deflate any 2.204
# IO::Compress::Gzip any 2.204
# IO::HTML any 1.004
# IO::Uncompress::Inflate any 2.204
# IO::Uncompress::RawInflate any 2.204
# LWP::MediaTypes 6 6.04
# MIME::Base64 2.1 3.16_01
# MIME::QuotedPrint any 3.16_01
# URI 1.10 5.21
# parent any 0.241
# perl 5.008001 5.038000
# strict any 1.12
# warnings any 1.65
#
# === Runtime Recommends ===
#
# Module Want Have
# ---------------------- -------- -------
# IO::Compress::Brotli 0.004001 missing
# IO::Uncompress::Brotli 0.004001 missing
#
t/00-report-prereqs.t .......... ok
t/common-req.t ................. ok
t/headers-auth.t ............... ok
t/headers-etag.t ............... ok
t/headers-util.t ............... ok
t/headers.t .................... ok
t/http-config.t ................ ok
t/message-brotli.t ............. skipped: Need IO::Compress::Brotli, IO::Uncompress::Brotli
t/message-charset.t ............ ok
t/message-decode-brotlibomb.t .. skipped: Need IO::Compress::Brotli, IO::Uncompress::Brotli
t/message-decode-bzipbomb.t .... ok
t/message-decode-xml.t ......... ok
t/message-decode-zipbomb.t ..... ok
t/message-old.t ................ ok
t/message-parts.t .............. ok
t/message.t .................... ok
t/request.t .................... ok
t/request_type_with_data.t ..... ok
t/response.t ................... ok
t/status-old.t ................. ok
t/status.t ..................... ok
All tests successful.
Files=21, Tests=837, 239 wallclock secs ( 2.82 usr 0.37 sys + 83.43 cusr 4.64 csys = 91.26 CPU)
Result: PASS
------------------------------
PREREQUISITES
------------------------------
Prerequisite modules loaded:
requires:
Module Need Have
-------------------------- -------- ---------
Carp 0 1.54
Clone 0.46 0.46
Compress::Raw::Bzip2 0 2.204_001
Compress::Raw::Zlib 2.062 2.204_001
Encode 3.01 3.19
Encode::Locale 1 1.05
Exporter 5.57 5.77
File::Spec 0 3.88
HTTP::Date 6 6.06
IO::Compress::Bzip2 2.021 2.204
IO::Compress::Deflate 0 2.204
IO::Compress::Gzip 0 2.204
IO::HTML 0 1.004
IO::Uncompress::Inflate 0 2.204
IO::Uncompress::RawInflate 0 2.204
LWP::MediaTypes 6 6.04
MIME::Base64 2.1 3.16_01
MIME::QuotedPrint 0 3.16_01
parent 0 0.241
perl 5.008001 5.038000
strict 0 1.12
URI 1.10 5.21
warnings 0 1.65
build_requires:
Module Need Have
-------------------------- -------- ---------
ExtUtils::MakeMaker 0 7.70
File::Spec 0 3.88
File::Temp 0 0.2311
lib 0 0.65
overload 0 1.37
PerlIO::encoding 0 0.30
Test::More 0.88 1.302195
Test::Needs 0 0.002010
Time::Local 0 1.30
Try::Tiny 0 0.31
URI::URL 0 5.21
configure_requires:
Module Need Have
-------------------------- -------- ---------
ExtUtils::MakeMaker 0 7.70
perl 5.006 5.038000
------------------------------
ENVIRONMENT AND OTHER CONTEXT
------------------------------
Environment variables:
AUTOMATED_TESTING = 1
LC_CTYPE = de_AT.utf8
LD_LIBRARY_PATH = /usr/lib/libeatmydata
NONINTERACTIVE_TESTING = 1
PATH = /srv/smoker/bin:/usr/lib/ccache:/srv/smoker/perl5/perlbrew/bin:/srv/smoker/perl5/perlbrew/perls/perl-5.38.0/bin:/usr/local/bin:/usr/bin:/bin:/usr/local/games:/usr/games
PERL5LIB =
PERL5OPT =
PERL5_CPANPLUS_IS_RUNNING = 5389
PERL5_CPAN_IS_RUNNING = 5389
PERL5_CPAN_IS_RUNNING_IN_RECURSION = 6208,5389
PERLBREW_HOME = /srv/smoker/.perlbrew
PERLBREW_MANPATH = /srv/smoker/perl5/perlbrew/perls/perl-5.38.0/man
PERLBREW_PATH = /srv/smoker/perl5/perlbrew/bin:/srv/smoker/perl5/perlbrew/perls/perl-5.38.0/bin
PERLBREW_PERL = perl-5.38.0
PERLBREW_ROOT = /srv/smoker/perl5/perlbrew
PERLBREW_SHELLRC_VERSION = 0.98
PERLBREW_VERSION = 0.98
PERL_CPANM_OPT = --prompt --configure-timeout 300 --build-timeout 18000 --test-timeout 18000 --from https://www.cpan.org
PERL_CR_SMOKER_CURRENT = HTTP-Message-6.45
PERL_EXTUTILS_AUTOINSTALL = --defaultdeps
PERL_LOCAL_LIB_ROOT = /srv/smoker/perl5
PERL_MM_USE_DEFAULT = 1
PERL_TEST_TIME_OUT_FACTOR = 3
PERL_TEST_TIME_OUT_FACTOR = 3
PERL_USE_UNSAFE_INC = 1
SHELL = /bin/bash
TERM = screen-256color
Perl special variables (and OS-specific diagnostics, for MSWin32):
$^X = /srv/smoker/perl5/perlbrew/perls/perl-5.38.0/bin/perl
$UID/$EUID = 1111 / 1111
$GID = 65534 65534
$EGID = 65534 65534
Perl module toolchain versions installed:
Module Have
------------------- --------
CPAN 2.36
CPAN::Meta 2.150010
Cwd 3.89
ExtUtils::CBuilder 0.280238
ExtUtils::Command 7.70
ExtUtils::Install 2.22
ExtUtils::MakeMaker 7.70
ExtUtils::Manifest 1.73
ExtUtils::ParseXS 3.51
File::Spec 3.88
JSON 4.10
JSON::PP 4.16
Module::Build 0.4234
Module::Signature n/a
Parse::CPAN::Meta 2.150010
Test2 1.302195
Test::Harness 3.44
Test::More 1.302195
YAML 1.30
YAML::Syck n/a
version 0.9930
--
Summary of my perl5 (revision 5 version 38 subversion 0) configuration:
Platform:
osname=linux
osvers=5.10.103+
archname=armv6l-linux
uname='linux smoker 5.10.103+ #1529 tue mar 8 12:19:18 gmt 2022 armv6l gnulinux '
config_args='-de -Dprefix=/srv/smoker/perl5/perlbrew/perls/perl-5.38.0 -Aeval:scriptdir=/srv/smoker/perl5/perlbrew/perls/perl-5.38.0/bin'
hint=recommended
useposix=true
d_sigaction=define
useithreads=undef
usemultiplicity=undef
use64bitint=undef
use64bitall=undef
uselongdouble=undef
usemymalloc=n
default_inc_excludes_dot=define
Compiler:
cc='cc'
ccflags ='-fwrapv -fno-strict-aliasing -pipe -fstack-protector-strong -I/usr/local/include -D_LARGEFILE_SOURCE -D_FILE_OFFSET_BITS=64 -D_FORTIFY_SOURCE=2'
optimize='-O2'
cppflags='-fwrapv -fno-strict-aliasing -pipe -fstack-protector-strong -I/usr/local/include'
ccversion=''
gccversion='12.2.0'
gccosandvers=''
intsize=4
longsize=4
ptrsize=4
doublesize=8
byteorder=1234
doublekind=3
d_longlong=define
longlongsize=8
d_longdbl=define
longdblsize=8
longdblkind=0
ivtype='long'
ivsize=4
nvtype='double'
nvsize=8
Off_t='off_t'
lseeksize=8
alignbytes=8
prototype=define
Linker and Libraries:
ld='cc'
ldflags =' -fstack-protector-strong -L/usr/local/lib'
libpth=/usr/local/lib /usr/lib/arm-linux-gnueabihf /usr/lib
libs=-lpthread -ldb -ldl -lm -lcrypt -lutil -lc
perllibs=-lpthread -ldl -lm -lcrypt -lutil -lc
libc=/lib/arm-linux-gnueabihf/libc.so.6
so=so
useshrplib=false
libperl=libperl.a
gnulibc_version='2.36'
Dynamic Linking:
dlsrc=dl_dlopen.xs
dlext=so
d_dlsymun=undef
ccdlflags='-Wl,-E'
cccdlflags='-fPIC'
lddlflags='-shared -O2 -L/usr/local/lib -fstack-protector-strong'
Characteristics of this binary (from libperl):
Compile-time options:
HAS_LONG_DOUBLE
HAS_STRTOLD
HAS_TIMES
PERLIO_LAYERS
PERL_COPY_ON_WRITE
PERL_DONT_CREATE_GVSV
PERL_HASH_FUNC_ZAPHOD32
PERL_HASH_USE_SBOX32
PERL_MALLOC_WRAP
PERL_OP_PARENT
PERL_PRESERVE_IVUV
PERL_USE_SAFE_PUTENV
USE_LARGE_FILES
USE_LOCALE
USE_LOCALE_COLLATE
USE_LOCALE_CTYPE
USE_LOCALE_NUMERIC
USE_LOCALE_TIME
USE_PERLIO
USE_PERL_ATOF
Built under linux
Compiled at Sep 11 2023 16:58:07
%ENV:
PERL5LIB=""
PERL5OPT=""
PERL5_CPANPLUS_IS_RUNNING="5389"
PERL5_CPAN_IS_RUNNING="5389"
PERL5_CPAN_IS_RUNNING_IN_RECURSION="6208,5389"
PERLBREW_HOME="/srv/smoker/.perlbrew"
PERLBREW_MANPATH="/srv/smoker/perl5/perlbrew/perls/perl-5.38.0/man"
PERLBREW_PATH="/srv/smoker/perl5/perlbrew/bin:/srv/smoker/perl5/perlbrew/perls/perl-5.38.0/bin"
PERLBREW_PERL="perl-5.38.0"
PERLBREW_ROOT="/srv/smoker/perl5/perlbrew"
PERLBREW_SHELLRC_VERSION="0.98"
PERLBREW_VERSION="0.98"
PERL_CPANM_OPT="--prompt --configure-timeout 300 --build-timeout 18000 --test-timeout 18000 --from https://www.cpan.org"
PERL_CR_SMOKER_CURRENT="HTTP-Message-6.45"
PERL_EXTUTILS_AUTOINSTALL="--defaultdeps"
PERL_LOCAL_LIB_ROOT="/srv/smoker/perl5"
PERL_MM_USE_DEFAULT="1"
PERL_TEST_TIME_OUT_FACTOR="3"
PERL_USE_UNSAFE_INC="1"
@INC:
/srv/smoker/perl5/perlbrew/perls/perl-5.38.0/lib/site_perl/5.38.0/armv6l-linux
/srv/smoker/perl5/perlbrew/perls/perl-5.38.0/lib/site_perl/5.38.0
/srv/smoker/perl5/perlbrew/perls/perl-5.38.0/lib/5.38.0/armv6l-linux
/srv/smoker/perl5/perlbrew/perls/perl-5.38.0/lib/5.38.0
.