Report for Regexp-Common-2016053101

Back
From: metabase:user:314402c4-2aae-11df-837a-5e0a49663a4f
Subject: PASS Regexp-Common-2016053101 v5.18.2 FreeBSD
Date: 2016-05-31T04:40:47Z

This distribution has been tested as part of the CPAN Testers
project, supporting the Perl programming language.  See
http://wiki.cpantesters.org/ for more information or email
questions to cpan-testers-discuss@perl.org


--
Dear Abigail,

This is a computer-generated report for Regexp-Common-2016053101
on perl 5.18.2, created by CPAN-Reporter-1.2015.

Thank you for uploading your work to CPAN.  Congratulations!
All tests were successful.

Sections of this report:

    * Tester comments
    * Program output
    * Prerequisites
    * Environment and other context

------------------------------
TESTER COMMENTS
------------------------------

Additional comments from tester:

none provided

------------------------------
PROGRAM OUTPUT
------------------------------

Output from '/usr/bin/make test':

PERL_DL_NONLAZY=1 "/usr/perl5.18.2/bin/perl" "-MExtUtils::Command::MM" "-MTest::Harness" "-e" "undef *Test::Harness::Switches; test_harness(0, 'blib/lib', 'blib/arch')" t/*.t t/*/*.t
t/comment/delimited.t .................. ok
t/comment/html.t ....................... ok
t/comment/nested.t ..................... ok
t/comment/pascal.t ..................... ok
t/comment/single_line.t ................ ok
t/comment/single_or_multiline.t ........ ok
t/delimited/101_delimited.t ............ ok
t/delimited/111_bquoted.t .............. ok
t/net/101_ipv4.t ....................... ok
t/net/102_ipv4_strict.t ................ ok
t/net/111_ipv6.t ....................... ok
t/net/121_mac.t ........................ ok
t/net/131_domain.t ..................... ok
t/number/101_integer.t ................. ok
t/number/111_integer_base.t ............ ok
t/number/121_integer_places.t .......... ok
t/number/122_integer_places.t .......... ok
t/number/123_integer_places.t .......... ok
t/number/131_integer_sep.t ............. ok
t/number/141_integer_group.t ........... ok
t/number/801_roman.t ................... ok
t/number/decimal.t ..................... ok
t/number/number.t ...................... ok
t/SEN/usa_ssn.t ........................ ok
t/test___luhn.t ........................ ok
t/test_balanced.t ...................... ok
t/test_bases.t ......................... ok
t/test_bases_sep.t ..................... ok
t/test_comments.t ...................... ok
t/test_curry.t ......................... ok
t/test_i.t ............................. ok
t/test_keep.t .......................... ok
t/test_lingua_palindrome.t ............. ok
t/test_list.t .......................... ok
t/test_no_import.t ..................... ok
t/test_profanity.t ..................... ok
t/test_squares.t ....................... ok
t/test_sub.t ........................... ok
t/test_sub_named.t ..................... ok
t/test_ws.t ............................ ok
t/URI/any.t ............................ ok
t/URI/fax.t ............................ ok
t/URI/file.t ........................... ok
t/URI/ftp.t ............................ ok
t/URI/gopher.t ......................... ok
t/URI/http.t ........................... ok
t/URI/news.t ........................... ok
t/URI/nntp.t ........................... ok
t/URI/pop.t ............................ ok
t/URI/prospero.t ....................... ok
t/URI/tel.t ............................ ok
t/URI/telnet.t ......................... ok
t/URI/tv.t ............................. ok
t/URI/wais.t ........................... ok
t/zip/101_austria.t .................... ok
t/zip/102_austria.t .................... ok
t/zip/australia.t ...................... ok
t/zip/belgium.t ........................ ok
t/zip/denmark.t ........................ ok
t/zip/france.t ......................... ok
t/zip/germany.t ........................ ok
t/zip/greenland.t ...................... ok
t/zip/italy.t .......................... ok
t/zip/netherlands.t .................... ok
t/zip/norway.t ......................... ok
t/zip/spain.t .......................... ok
t/zip/us.t ............................. ok
t/zip/zip.t ............................ ok
t/zzz_author_tests/101_pod.t ........... skipped: AUTHOR test
t/zzz_author_tests/102_pod_coverage.t .. skipped: AUTHOR test
t/zzz_author_tests/120_versions.t ...... skipped: AUTHOR test
t/zzz_author_tests/130_permissions.t ... skipped: AUTHOR test
t/zzz_author_tests/140_git.t ........... skipped: AUTHOR test
All tests successful.
Files=73, Tests=483906, 2494 wallclock secs (552.02 usr 111.59 sys + 1220.29 cusr 376.56 csys = 2260.45 CPU)
Result: PASS

------------------------------
PREREQUISITES
------------------------------

Prerequisite modules loaded:

requires:

    Module              Need    Have    
    ------------------- ------- --------
    perl                5.00473 5.018002
    strict              0       1.07    
    vars                0       1.03    

build_requires:

    Module              Need    Have    
    ------------------- ------- --------
    ExtUtils::MakeMaker 0       7.18    

configure_requires:

    Module              Need    Have    
    ------------------- ------- --------
    ExtUtils::MakeMaker 0       7.18    
    strict              0       1.07    


------------------------------
ENVIRONMENT AND OTHER CONTEXT
------------------------------

Environment variables:

    LC_ALL = de_DE.ISO8859-1
    PATH = /usr/local/bin:/usr/bin:/bin:/usr/local/sbin:/usr/sbin:/sbin:/home/cpansand/bin/freebsd9.3:/home/cpansand/bin/sh:/home/cpansand/bin:/usr/games:/home/cpansand/devel:/usr/home/eserte/src/srezic-misc/scripts
    PERL5LIB = /home/eserte/.cpan/build/2016053103/LaTeXML-Plugin-latexmls-1.4.3-JIvtvy/blib/arch:/home/eserte/.cpan/build/2016053103/LaTeXML-Plugin-latexmls-1.4.3-JIvtvy/blib/lib:/home/eserte/.cpan/build/2016053103/fotofix-1.80-UrJSdJ/blib/arch:/home/eserte/.cpan/build/2016053103/fotofix-1.80-UrJSdJ/blib/lib
    PERL5OPT = 
    PERL5_CPANPLUS_IS_RUNNING = 71137
    PERL5_CPAN_IS_RUNNING = 71137
    PERL5_CPAN_IS_RUNNING_IN_RECURSION = 71085,71137
    PERLDOC = -MPod::Perldoc::ToTextOverstrike
    PERL_BATCH = yes
    PERL_CANARY_STABILITY_NOPROMPT = 1
    PERL_CPAN_REPORTER_CONFIG = /var/tmp/cpansmoker-1023/2016053103/cpanreporter_000_config.ini
    PERL_EXTUTILS_AUTOINSTALL = --defaultdeps
    SHELL = /usr/local/bin/zsh
    TERM = screen
    TMPDIR = /var/tmp/cpansmoker-1023/2016053103

Perl special variables (and OS-specific diagnostics, for MSWin32):

    $^X = /usr/perl5.18.2/bin/perl
    $UID/$EUID = 1023 / 1023
    $GID = 1023 1023
    $EGID = 1023 1023

Perl module toolchain versions installed:

    Module              Have    
    ------------------- --------
    CPAN                2.10    
    CPAN::Meta          2.150005
    Cwd                 3.62    
    ExtUtils::CBuilder  0.280223
    ExtUtils::Command   7.18    
    ExtUtils::Install   2.04    
    ExtUtils::MakeMaker 7.18    
    ExtUtils::Manifest  1.70    
    ExtUtils::ParseXS   3.30    
    File::Spec          3.62    
    JSON                2.90    
    JSON::PP            2.27300 
    Module::Build       0.4218  
    Module::Signature   0.79    
    Parse::CPAN::Meta   1.4417  
    Test::Harness       3.36    
    Test::More          1.302022
    YAML                1.15    
    YAML::Syck          1.29    
    version             0.9917  


--

Summary of my perl5 (revision 5 version 18 subversion 2) configuration:
   
  Platform:
    osname=freebsd, osvers=9.2-release-p4, archname=amd64-freebsd
    uname='freebsd cvrsnica-freebsd-92 9.2-release-p4 freebsd 9.2-release-p4 #0: tue apr 8 18:08:22 utc 2014 root@amd64-builder.daemonology.net:usrobjusrsrcsysgeneric amd64 '
    config_args='-ds -e -Dprefix=/usr/perl5.18.2'
    hint=recommended, useposix=true, d_sigaction=define
    useithreads=undef, usemultiplicity=undef
    useperlio=define, d_sfio=undef, uselargefiles=define, usesocks=undef
    use64bitint=define, use64bitall=define, uselongdouble=undef
    usemymalloc=n, bincompat5005=undef
  Compiler:
    cc='cc', ccflags ='-DHAS_FPSETMASK -DHAS_FLOATINGPOINT_H -fno-strict-aliasing -pipe -fstack-protector -I/usr/local/include',
    optimize='-O',
    cppflags='-DHAS_FPSETMASK -DHAS_FLOATINGPOINT_H -fno-strict-aliasing -pipe -fstack-protector -I/usr/local/include'
    ccversion='', gccversion='4.2.1 20070831 patched [FreeBSD]', gccosandvers=''
    intsize=4, longsize=8, ptrsize=8, doublesize=8, byteorder=12345678
    d_longlong=define, longlongsize=8, d_longdbl=define, longdblsize=16
    ivtype='long', ivsize=8, nvtype='double', nvsize=8, Off_t='off_t', lseeksize=8
    alignbytes=8, prototype=define
  Linker and Libraries:
    ld='cc', ldflags ='-Wl,-E  -fstack-protector -L/usr/local/lib'
    libpth=/usr/lib /usr/local/lib
    libs=-lgdbm -lm -lcrypt -lutil -lc
    perllibs=-lm -lcrypt -lutil -lc
    libc=, so=so, useshrplib=false, libperl=libperl.a
    gnulibc_version=''
  Dynamic Linking:
    dlsrc=dl_dlopen.xs, dlext=so, d_dlsymun=undef, ccdlflags=' '
    cccdlflags='-DPIC -fPIC', lddlflags='-shared  -L/usr/local/lib -fstack-protector'


Characteristics of this binary (from libperl): 
  Compile-time options: HAS_TIMES PERLIO_LAYERS PERL_DONT_CREATE_GVSV
                        PERL_HASH_FUNC_ONE_AT_A_TIME_HARD PERL_MALLOC_WRAP
                        PERL_PRESERVE_IVUV PERL_SAWAMPERSAND USE_64_BIT_ALL
                        USE_64_BIT_INT USE_LARGE_FILES USE_LOCALE
                        USE_LOCALE_COLLATE USE_LOCALE_CTYPE
                        USE_LOCALE_NUMERIC USE_PERLIO USE_PERL_ATOF
  Built under freebsd
  Compiled at May 16 2014 01:27:28
  %ENV:
    PERL5LIB="/home/eserte/.cpan/build/2016053103/LaTeXML-Plugin-latexmls-1.4.3-JIvtvy/blib/arch:/home/eserte/.cpan/build/2016053103/LaTeXML-Plugin-latexmls-1.4.3-JIvtvy/blib/lib:/home/eserte/.cpan/build/2016053103/fotofix-1.80-UrJSdJ/blib/arch:/home/eserte/.cpan/build/2016053103/fotofix-1.80-UrJSdJ/blib/lib"
    PERL5OPT=""
    PERL5_CPANPLUS_IS_RUNNING="71137"
    PERL5_CPAN_IS_RUNNING="71137"
    PERL5_CPAN_IS_RUNNING_IN_RECURSION="71085,71137"
    PERLDOC="-MPod::Perldoc::ToTextOverstrike"
    PERL_BATCH="yes"
    PERL_CANARY_STABILITY_NOPROMPT="1"
    PERL_CPAN_REPORTER_CONFIG="/var/tmp/cpansmoker-1023/2016053103/cpanreporter_000_config.ini"
    PERL_EXTUTILS_AUTOINSTALL="--defaultdeps"
  @INC:
    /home/eserte/.cpan/build/2016053103/LaTeXML-Plugin-latexmls-1.4.3-JIvtvy/blib/arch
    /home/eserte/.cpan/build/2016053103/LaTeXML-Plugin-latexmls-1.4.3-JIvtvy/blib/lib
    /home/eserte/.cpan/build/2016053103/fotofix-1.80-UrJSdJ/blib/arch
    /home/eserte/.cpan/build/2016053103/fotofix-1.80-UrJSdJ/blib/lib
    /usr/perl5.18.2/lib/site_perl/5.18.2/amd64-freebsd
    /usr/perl5.18.2/lib/site_perl/5.18.2
    /usr/perl5.18.2/lib/5.18.2/amd64-freebsd
    /usr/perl5.18.2/lib/5.18.2
    .