Net-LDAP-SimpleServer v0.0.21 Perl 5 v5.27.5 x86_64-linux

Status
Pass
From
Slaven Rezić (SREZIC)
Dist
Net-LDAP-SimpleServer v0.0.21
Platform
Perl 5 v5.27.5 x86_64-linux
Date
2017-11-12 06:08:04
ID
d85d622e-c76f-11e7-a1df-c0525c8447e6
This distribution has been tested as part of the CPAN Testers
project, supporting the Perl programming language.  See
http://wiki.cpantesters.org/ for more information or email
questions to cpan-testers-discuss@perl.org


--
Dear Alexei Znamensky,

This is a computer-generated report for Net-LDAP-SimpleServer-0.0.21
on perl 5.27.5, created by CPAN-Reporter-1.2018.

Thank you for uploading your work to CPAN.  Congratulations!
All tests were successful.

Sections of this report:

    * Tester comments
    * Program output
    * Prerequisites
    * Environment and other context

------------------------------
TESTER COMMENTS
------------------------------

Additional comments from tester:

none provided

------------------------------
PROGRAM OUTPUT
------------------------------

Output from '/usr/bin/make test':

PERL_DL_NONLAZY=1 "/bbbike/perl-5.27.5/bin/perl5.27.5" "-MExtUtils::Command::MM" "-MTest::Harness" "-e" "undef *Test::Harness::Switches; test_harness(0, 'blib/lib', 'blib/arch')" t/*.t
t/00-compile.t ............... ok
t/00-load.t .................. ok
# 
# Versions for all modules listed in MYMETA.json (including optional ones):
# 
# === Configure Requires ===
# 
#     Module              Want Have
#     ------------------- ---- ----
#     ExtUtils::MakeMaker  any 7.30
# 
# === Build Requires ===
# 
#     Module              Want Have
#     ------------------- ---- ----
#     ExtUtils::MakeMaker  any 7.30
# 
# === Test Requires ===
# 
#     Module              Want     Have
#     ------------------- ---- --------
#     Authen::SASL         any     2.16
#     ExtUtils::MakeMaker  any     7.30
#     File::Spec           any     3.68
#     IO::Handle           any     1.36
#     IO::Pipe             any     1.15
#     IPC::Open3           any     1.20
#     Net::LDAP            any     0.65
#     Proc::Fork           any    0.804
#     Test::Deep           any    1.127
#     Test::More           any 1.302106
#     Test::UseAllModules  any     0.17
#     Try::Tiny            any     0.28
#     lib                  any     0.64
# 
# === Test Recommends ===
# 
#     Module         Want     Have
#     ---------- -------- --------
#     CPAN::Meta 2.120900 2.150010
# 
# === Runtime Requires ===
# 
#     Module                  Want       Have
#     ---------------------- ----- ----------
#     Carp                     any       1.43
#     Digest::MD5              any       2.55
#     Exporter                 any       5.72
#     File::Basename           any       2.85
#     File::HomeDir            any      1.002
#     File::Path              2.08       2.15
#     File::Spec               any       3.68
#     MIME::Base64             any       3.15
#     Net::LDAP::Constant      any       0.23
#     Net::LDAP::Filter        any       0.20
#     Net::LDAP::FilterMatch   any       0.27
#     Net::LDAP::LDIF          any       0.26
#     Net::LDAP::Server        any       0.43
#     Net::LDAP::Util          any       0.19
#     Net::Server            2.003      2.009
#     Scalar::Util             any       1.49
#     UNIVERSAL::isa           any 1.20171012
#     base                     any       2.26
#     constant                 any       1.33
#     fields                   any       2.23
#     strict                   any       1.11
#     warnings                 any       1.37
# 
t/00-report-prereqs.t ........ ok
t/10-store.t ................. ok
Use of uninitialized value in scalar chomp at /tmpfs/.cpan-build-cpansand/2017111200/Net-LDAP-SimpleServer-0.0.21-7/blib/lib/Net/LDAP/SimpleServer/ProtocolHandler.pm line 73.
Use of uninitialized value in string eq at /tmpfs/.cpan-build-cpansand/2017111200/Net-LDAP-SimpleServer-0.0.21-7/blib/lib/Net/LDAP/SimpleServer/ProtocolHandler.pm line 52.
t/20-handler.t ............... ok
Couldn't open conf "/no/such/file.conf" [No such file or directory]
t/30-param.t ................. ok
t/40-bind.t .................. ok
t/41-bind-user.t ............. ok
t/50-search.t ................ ok
t/51-search-pw_attr.t ........ ok
t/author-critic.t ............ skipped: these tests are for testing by the author
t/author-eol.t ............... skipped: these tests are for testing by the author
t/author-mojibake.t .......... skipped: these tests are for testing by the author
t/author-no-tabs.t ........... skipped: these tests are for testing by the author
t/author-pod-coverage.t ...... skipped: these tests are for testing by the author
t/author-pod-linkcheck.t ..... skipped: these tests are for testing by the author
t/author-pod-syntax.t ........ skipped: these tests are for testing by the author
t/author-portability.t ....... skipped: these tests are for testing by the author
t/author-test-version.t ...... skipped: these tests are for testing by the author
t/release-dist-manifest.t .... skipped: these tests are for release candidate testing
t/release-distmeta.t ......... skipped: these tests are for release candidate testing
t/release-kwalitee.t ......... skipped: these tests are for release candidate testing
t/release-meta-json.t ........ skipped: these tests are for release candidate testing
t/release-minimum-version.t .. skipped: these tests are for release candidate testing
t/release-unused-vars.t ...... skipped: these tests are for release candidate testing
All tests successful.
Files=25, Tests=77, 63 wallclock secs ( 0.06 usr  0.06 sys +  1.20 cusr  0.33 csys =  1.65 CPU)
Result: PASS

------------------------------
PREREQUISITES
------------------------------

Prerequisite modules loaded:

requires:

    Module                 Need  Have      
    ---------------------- ----- ----------
    base                   0     2.26      
    Carp                   0     1.43      
    constant               0     1.33      
    Digest::MD5            0     2.55      
    Exporter               0     5.72      
    fields                 0     2.23      
    File::Basename         0     2.85      
    File::HomeDir          0     1.002     
    File::Path             2.08  2.15      
    File::Spec             0     3.68      
    MIME::Base64           0     3.15      
    Net::LDAP::Constant    0     0.23      
    Net::LDAP::Filter      0     0.20      
    Net::LDAP::FilterMatch 0     0.27      
    Net::LDAP::LDIF        0     0.26      
    Net::LDAP::Server      0     0.43      
    Net::LDAP::Util        0     0.19      
    Net::Server            2.003 2.009     
    perl                   5.014 5.027005  
    Scalar::Util           0     1.49      
    strict                 0     1.11      
    UNIVERSAL::isa         0     1.20171012
    warnings               0     1.37      

build_requires:

    Module                 Need  Have      
    ---------------------- ----- ----------
    Authen::SASL           0     2.16      
    ExtUtils::MakeMaker    0     7.30      
    File::Spec             0     3.68      
    IO::Handle             0     1.36      
    IO::Pipe               0     1.15      
    IPC::Open3             0     1.20      
    lib                    0     0.64      
    Net::LDAP              0     0.65      
    Proc::Fork             0     0.804     
    Test::Deep             0     1.127     
    Test::More             0     1.302106  
    Test::UseAllModules    0     0.17      
    Try::Tiny              0     0.28      

configure_requires:

    Module                 Need  Have      
    ---------------------- ----- ----------
    ExtUtils::MakeMaker    0     7.30      


------------------------------
ENVIRONMENT AND OTHER CONTEXT
------------------------------

Environment variables:

    LANG = C
    LC_ALL = de_DE.UTF-8
    PATH = /usr/local/bin:/usr/bin:/bin:/usr/local/sbin:/usr/sbin:/sbin:/home/cpansand/bin/linux-gnu:/home/cpansand/bin/sh:/home/cpansand/bin:/usr/games:/home/cpansand/devel:/home/eserte/src/srezic-misc/scripts
    PERL5LIB = /home/cpansand/.cpan/build/2017111200/HollyGame-0-7/blib/arch:/home/cpansand/.cpan/build/2017111200/HollyGame-0-7/blib/lib
    PERL5OPT = 
    PERL5_CPANPLUS_IS_RUNNING = 10607
    PERL5_CPAN_IS_RUNNING = 10607
    PERL5_CPAN_IS_RUNNING_IN_RECURSION = 10548,10607
    PERLDOC = -MPod::Perldoc::ToTextOverstrike
    PERL_BATCH = yes
    PERL_CANARY_STABILITY_NOPROMPT = 1
    PERL_CPAN_REPORTER_CONFIG = /var/tmp/cpansmoker-1023/2017111200/cpanreporter_000_config.ini
    PERL_EXTUTILS_AUTOINSTALL = --defaultdeps
    PERL_PARALLEL_SMOKER = yes
    PERL_USE_UNSAFE_INC = 1
    SHELL = /bin/zsh
    TERM = screen
    TMPDIR = /var/tmp/cpansmoker-1023/2017111200

Perl special variables (and OS-specific diagnostics, for MSWin32):

    $^X = /bbbike/perl-5.27.5/bin/perl5.27.5
    $UID/$EUID = 1023 / 1023
    $GID = 1023 1023
    $EGID = 1023 1023

Perl module toolchain versions installed:

    Module              Have    
    ------------------- --------
    CPAN                2.18    
    CPAN::Meta          2.150010
    Cwd                 3.68    
    ExtUtils::CBuilder  0.280228
    ExtUtils::Command   7.30    
    ExtUtils::Install   2.14    
    ExtUtils::MakeMaker 7.30    
    ExtUtils::Manifest  1.70    
    ExtUtils::ParseXS   3.35    
    File::Spec          3.68    
    JSON                2.94    
    JSON::PP            2.94    
    Module::Build       0.4224  
    Module::Signature   0.81    
    Parse::CPAN::Meta   2.150010
    Test::Harness       3.39    
    Test::More          1.302106
    YAML                1.23    
    YAML::Syck          1.30    
    version             0.9918  


--

Summary of my perl5 (revision 5 version 27 subversion 5) configuration:
   
  Platform:
    osname=linux
    osvers=3.16.0-4-amd64
    archname=x86_64-linux
    uname='linux eserte 3.16.0-4-amd64 #1 smp debian 3.16.43-2+deb8u5 (2017-09-19) x86_64 gnulinux '
    config_args='-ds -e -Dprefix=/opt/perl-5.27.5 -Dusedevel -Dusemallocwrap=no -Dcf_email=srezic@cpan.org'
    hint=recommended
    useposix=true
    d_sigaction=define
    useithreads=undef
    usemultiplicity=undef
    use64bitint=define
    use64bitall=define
    uselongdouble=undef
    usemymalloc=n
    default_inc_excludes_dot=define
    bincompat5005=undef
  Compiler:
    cc='cc'
    ccflags ='-fwrapv -fno-strict-aliasing -pipe -fstack-protector-strong -I/usr/local/include -D_LARGEFILE_SOURCE -D_FILE_OFFSET_BITS=64 -D_FORTIFY_SOURCE=2'
    optimize='-O2'
    cppflags='-fwrapv -fno-strict-aliasing -pipe -fstack-protector-strong -I/usr/local/include'
    ccversion=''
    gccversion='4.9.2'
    gccosandvers=''
    intsize=4
    longsize=8
    ptrsize=8
    doublesize=8
    byteorder=12345678
    doublekind=3
    d_longlong=define
    longlongsize=8
    d_longdbl=define
    longdblsize=16
    longdblkind=3
    ivtype='long'
    ivsize=8
    nvtype='double'
    nvsize=8
    Off_t='off_t'
    lseeksize=8
    alignbytes=8
    prototype=define
  Linker and Libraries:
    ld='cc'
    ldflags =' -fstack-protector-strong -L/usr/local/lib'
    libpth=/usr/local/lib /usr/lib/gcc/x86_64-linux-gnu/4.9/include-fixed /usr/include/x86_64-linux-gnu /usr/lib /lib/x86_64-linux-gnu /lib/../lib /usr/lib/x86_64-linux-gnu /usr/lib/../lib /lib
    libs=-lpthread -lnsl -lgdbm -ldb -ldl -lm -lcrypt -lutil -lc -lgdbm_compat
    perllibs=-lpthread -lnsl -ldl -lm -lcrypt -lutil -lc
    libc=libc-2.19.so
    so=so
    useshrplib=false
    libperl=libperl.a
    gnulibc_version='2.19'
  Dynamic Linking:
    dlsrc=dl_dlopen.xs
    dlext=so
    d_dlsymun=undef
    ccdlflags='-Wl,-E'
    cccdlflags='-fPIC'
    lddlflags='-shared -O2 -L/usr/local/lib -fstack-protector-strong'


Characteristics of this binary (from libperl): 
  Compile-time options:
    HAS_TIMES
    PERLIO_LAYERS
    PERL_COPY_ON_WRITE
    PERL_DONT_CREATE_GVSV
    PERL_OP_PARENT
    PERL_PRESERVE_IVUV
    PERL_USE_DEVEL
    USE_64_BIT_ALL
    USE_64_BIT_INT
    USE_LARGE_FILES
    USE_LOCALE
    USE_LOCALE_COLLATE
    USE_LOCALE_CTYPE
    USE_LOCALE_NUMERIC
    USE_LOCALE_TIME
    USE_PERLIO
    USE_PERL_ATOF
  Built under linux
  Compiled at Oct 25 2017 16:04:43
  %ENV:
    PERL5LIB="/home/cpansand/.cpan/build/2017111200/HollyGame-0-7/blib/arch:/home/cpansand/.cpan/build/2017111200/HollyGame-0-7/blib/lib"
    PERL5OPT=""
    PERL5_CPANPLUS_IS_RUNNING="10607"
    PERL5_CPAN_IS_RUNNING="10607"
    PERL5_CPAN_IS_RUNNING_IN_RECURSION="10548,10607"
    PERLDOC="-MPod::Perldoc::ToTextOverstrike"
    PERL_BATCH="yes"
    PERL_CANARY_STABILITY_NOPROMPT="1"
    PERL_CPAN_REPORTER_CONFIG="/var/tmp/cpansmoker-1023/2017111200/cpanreporter_000_config.ini"
    PERL_EXTUTILS_AUTOINSTALL="--defaultdeps"
    PERL_PARALLEL_SMOKER="yes"
    PERL_USE_UNSAFE_INC="1"
  @INC:
    /home/cpansand/.cpan/build/2017111200/HollyGame-0-7/blib/arch
    /home/cpansand/.cpan/build/2017111200/HollyGame-0-7/blib/lib
    /opt/perl-5.27.5/lib/site_perl/5.27.5/x86_64-linux
    /opt/perl-5.27.5/lib/site_perl/5.27.5
    /opt/perl-5.27.5/lib/5.27.5/x86_64-linux
    /opt/perl-5.27.5/lib/5.27.5
    .