HTTP-Message v6.46 Perl 5 v5.24.0 x86_64-linux
- Status
- Pass
- From
- Slaven Rezić
- Dist
-
HTTP-Message v6.46
- Platform
- Perl 5 v5.24.0 x86_64-linux
- Date
- 2024-05-27 20:36:50
- ID
- d85fcb7c-1c68-11ef-b4fc-c84a6e8775ea
This distribution has been tested as part of the CPAN Testers
project, supporting the Perl programming language. See
http://wiki.cpantesters.org/ for more information or email
questions to cpan-testers-discuss@perl.org
--
Dear Olaf Alders,
This is a computer-generated report for HTTP-Message-6.46
on perl 5.24.0, created by CPAN-Reporter-1.2018.
Thank you for uploading your work to CPAN. Congratulations!
All tests were successful.
Sections of this report:
* Tester comments
* Program output
* Prerequisites
* Environment and other context
------------------------------
TESTER COMMENTS
------------------------------
Additional comments from tester:
none provided
------------------------------
PROGRAM OUTPUT
------------------------------
Output from '/usr/bin/make test':
PERL_DL_NONLAZY=1 "/opt/perl-5.24.0/bin/perl" "-MExtUtils::Command::MM" "-MTest::Harness" "-e" "undef *Test::Harness::Switches; test_harness(0, 'blib/lib', 'blib/arch')" t/*.t
#
# Versions for all modules listed in MYMETA.json (including optional ones):
#
# === Configure Requires ===
#
# Module Want Have
# ------------------- ----- --------
# ExtUtils::MakeMaker any 7.24
# perl 5.006 5.024000
#
# === Configure Suggests ===
#
# Module Want Have
# -------- ------- -------
# JSON::PP 2.27300 2.27300
#
# === Build Requires ===
#
# Module Want Have
# ------------------- ---- ----
# ExtUtils::MakeMaker any 7.24
#
# === Test Requires ===
#
# Module Want Have
# ------------------- -------- --------
# ExtUtils::MakeMaker any 7.24
# File::Spec any 3.63
# File::Temp any 0.2304
# PerlIO::encoding any 0.24
# Test::More 0.88 1.302052
# Test::Needs any 0.002004
# Time::Local any 1.24
# Try::Tiny any 0.27
# URI::URL any 5.04
# lib any 0.63
# overload any 1.26
# perl 5.008001 5.024000
#
# === Test Recommends ===
#
# Module Want Have
# ---------------------- -------- --------
# CPAN::Meta 2.120900 2.150010
# IO::Compress::Brotli 0.004001 0.004
# IO::Uncompress::Brotli 0.004001 0.004
#
# === Runtime Requires ===
#
# Module Want Have
# -------------------------- -------- --------
# Carp any 1.40
# Clone 0.46 0.46
# Compress::Raw::Bzip2 any 2.069
# Compress::Raw::Zlib 2.062 2.069
# Encode 3.01 3.21
# Encode::Locale 1 1.05
# Exporter 5.57 5.72
# File::Spec any 3.63
# HTTP::Date 6 6.02
# IO::Compress::Bzip2 2.021 2.069
# IO::Compress::Deflate any 2.069
# IO::Compress::Gzip any 2.069
# IO::HTML any 1.001
# IO::Uncompress::Inflate any 2.069
# IO::Uncompress::RawInflate any 2.069
# LWP::MediaTypes 6 6.02
# MIME::Base64 2.1 3.15
# MIME::QuotedPrint any 3.13
# URI 1.10 1.71
# parent any 0.234
# perl 5.008001 5.024000
# strict any 1.11
# warnings any 1.36
#
# === Runtime Recommends ===
#
# Module Want Have
# ---------------------- -------- -----
# IO::Compress::Brotli 0.004001 0.004
# IO::Uncompress::Brotli 0.004001 0.004
#
t/00-report-prereqs.t .......... ok
t/common-req.t ................. ok
t/headers-auth.t ............... ok
t/headers-etag.t ............... ok
t/headers-util.t ............... ok
t/headers.t .................... ok
t/http-config.t ................ ok
t/message-brotli.t ............. ok
t/message-charset.t ............ ok
t/message-decode-brotlibomb.t .. ok
t/message-decode-bzipbomb.t .... ok
t/message-decode-xml.t ......... ok
t/message-decode-zipbomb.t ..... ok
t/message-old.t ................ ok
t/message-parts.t .............. ok
t/message.t .................... ok
t/request.t .................... ok
t/request_type_with_data.t ..... ok
t/response.t ................... ok
t/status-old.t ................. ok
t/status.t ..................... ok
All tests successful.
Files=21, Tests=852, 5 wallclock secs ( 0.04 usr 0.05 sys + 4.88 cusr 0.40 csys = 5.37 CPU)
Result: PASS
------------------------------
PREREQUISITES
------------------------------
Prerequisite modules loaded:
requires:
Module Need Have
-------------------------- -------- --------
Carp 0 1.40
Clone 0.46 0.46
Compress::Raw::Bzip2 0 2.069
Compress::Raw::Zlib 2.062 2.069
Encode 3.01 3.21
Encode::Locale 1 1.05
Exporter 5.57 5.72
File::Spec 0 3.63
HTTP::Date 6 6.02
IO::Compress::Bzip2 2.021 2.069
IO::Compress::Deflate 0 2.069
IO::Compress::Gzip 0 2.069
IO::HTML 0 1.001
IO::Uncompress::Inflate 0 2.069
IO::Uncompress::RawInflate 0 2.069
LWP::MediaTypes 6 6.02
MIME::Base64 2.1 3.15
MIME::QuotedPrint 0 3.13
parent 0 0.234
perl 5.008001 5.024000
strict 0 1.11
URI 1.10 1.71
warnings 0 1.36
build_requires:
Module Need Have
-------------------------- -------- --------
ExtUtils::MakeMaker 0 7.24
File::Spec 0 3.63
File::Temp 0 0.2304
lib 0 0.63
overload 0 1.26
PerlIO::encoding 0 0.24
Test::More 0.88 1.302052
Test::Needs 0 0.002004
Time::Local 0 1.24
Try::Tiny 0 0.27
URI::URL 0 5.04
configure_requires:
Module Need Have
-------------------------- -------- --------
ExtUtils::MakeMaker 0 7.24
perl 5.006 5.024000
------------------------------
ENVIRONMENT AND OTHER CONTEXT
------------------------------
Environment variables:
LANG = en_US.UTF-8
LANGUAGE = en_US:en
LC_ALL = en_US.UTF-8
PATH = /usr/local/bin:/usr/bin:/bin:/usr/local/sbin:/usr/sbin:/sbin:/home/cpansand/bin/linux-gnu:/home/cpansand/bin/sh:/home/cpansand/bin:/usr/games:/home/cpansand/devel:/home/eserte/src/srezic-misc/scripts
PERL5LIB = /home/cpansand/.cpan/build/2024052722/Encode-3.21-1/blib/arch:/home/cpansand/.cpan/build/2024052722/Encode-3.21-1/blib/lib:/home/cpansand/.cpan/build/2024052722/Clone-0.46-1/blib/arch:/home/cpansand/.cpan/build/2024052722/Clone-0.46-1/blib/lib:/home/cpansand/.cpan/build/2024052722/B-COW-0.007-1/blib/arch:/home/cpansand/.cpan/build/2024052722/B-COW-0.007-1/blib/lib
PERL5OPT =
PERL5_CPANPLUS_IS_RUNNING = 16016
PERL5_CPAN_IS_RUNNING = 16016
PERL5_CPAN_IS_RUNNING_IN_RECURSION = 22409,16016
PERLDOC = -MPod::Perldoc::ToTextOverstrike
PERL_BATCH = yes
PERL_CANARY_STABILITY_NOPROMPT = 1
PERL_CPAN_REPORTER_CONFIG = /var/tmp/cpansmoker-1023/2024052721/cpanreporter_000_config.ini
PERL_EXTUTILS_AUTOINSTALL = --defaultdeps
PERL_USE_UNSAFE_INC = 1
SHELL = /bin/zsh
TERM = screen
TMPDIR = /var/tmp/cpansmoker-1023/2024052721
Perl special variables (and OS-specific diagnostics, for MSWin32):
$^X = /opt/perl-5.24.0/bin/perl
$UID/$EUID = 1023 / 1023
$GID = 1023 1023
$EGID = 1023 1023
Perl module toolchain versions installed:
Module Have
------------------- --------
CPAN 2.28
CPAN::Meta 2.150010
Cwd 3.63
ExtUtils::CBuilder 0.280225
ExtUtils::Command 7.24
ExtUtils::Install 2.04
ExtUtils::MakeMaker 7.24
ExtUtils::Manifest 1.70
ExtUtils::ParseXS 3.31
File::Spec 3.63
JSON 2.90
JSON::PP 2.27300
Module::Build 0.4220
Module::Signature 0.80
Parse::CPAN::Meta 2.150010
Test::Harness 3.36
Test::More 1.302052
YAML 1.17
YAML::Syck 1.29
version 0.9916
--
Summary of my perl5 (revision 5 version 24 subversion 0) configuration:
Platform:
osname=linux, osvers=3.2.0-4-amd64, archname=x86_64-linux
uname='linux cvrsnica-wheezy 3.2.0-4-amd64 #1 smp debian 3.2.54-2 x86_64 gnulinux '
config_args='-ds -e -Dprefix=/opt/perl-5.24.0 -Dcf_email=srezic@cpan.org'
hint=recommended, useposix=true, d_sigaction=define
useithreads=undef, usemultiplicity=undef
use64bitint=define, use64bitall=define, uselongdouble=undef
usemymalloc=n, bincompat5005=undef
Compiler:
cc='cc', ccflags ='-fwrapv -fno-strict-aliasing -pipe -fstack-protector -I/usr/local/include -D_LARGEFILE_SOURCE -D_FILE_OFFSET_BITS=64 -D_FORTIFY_SOURCE=2',
optimize='-O2',
cppflags='-fwrapv -fno-strict-aliasing -pipe -fstack-protector -I/usr/local/include'
ccversion='', gccversion='4.7.2', gccosandvers=''
intsize=4, longsize=8, ptrsize=8, doublesize=8, byteorder=12345678, doublekind=3
d_longlong=define, longlongsize=8, d_longdbl=define, longdblsize=16, longdblkind=3
ivtype='long', ivsize=8, nvtype='double', nvsize=8, Off_t='off_t', lseeksize=8
alignbytes=8, prototype=define
Linker and Libraries:
ld='cc', ldflags =' -fstack-protector -L/usr/local/lib'
libpth=/usr/local/lib /usr/lib/gcc/x86_64-linux-gnu/4.7/include-fixed /usr/include/x86_64-linux-gnu /usr/lib /lib/x86_64-linux-gnu /lib/../lib /usr/lib/x86_64-linux-gnu /usr/lib/../lib /lib
libs=-lpthread -lnsl -ldb -ldl -lm -lcrypt -lutil -lc
perllibs=-lpthread -lnsl -ldl -lm -lcrypt -lutil -lc
libc=libc-2.13.so, so=so, useshrplib=false, libperl=libperl.a
gnulibc_version='2.13'
Dynamic Linking:
dlsrc=dl_dlopen.xs, dlext=so, d_dlsymun=undef, ccdlflags='-Wl,-E'
cccdlflags='-fPIC', lddlflags='-shared -O2 -L/usr/local/lib -fstack-protector'
Characteristics of this binary (from libperl):
Compile-time options: HAS_TIMES PERLIO_LAYERS PERL_COPY_ON_WRITE
PERL_DONT_CREATE_GVSV
PERL_HASH_FUNC_ONE_AT_A_TIME_HARD PERL_MALLOC_WRAP
PERL_PRESERVE_IVUV USE_64_BIT_ALL USE_64_BIT_INT
USE_LARGE_FILES USE_LOCALE USE_LOCALE_COLLATE
USE_LOCALE_CTYPE USE_LOCALE_NUMERIC USE_LOCALE_TIME
USE_PERLIO USE_PERL_ATOF
Built under linux
Compiled at May 30 2016 08:43:25
%ENV:
PERL5LIB="/home/cpansand/.cpan/build/2024052722/Encode-3.21-1/blib/arch:/home/cpansand/.cpan/build/2024052722/Encode-3.21-1/blib/lib:/home/cpansand/.cpan/build/2024052722/Clone-0.46-1/blib/arch:/home/cpansand/.cpan/build/2024052722/Clone-0.46-1/blib/lib:/home/cpansand/.cpan/build/2024052722/B-COW-0.007-1/blib/arch:/home/cpansand/.cpan/build/2024052722/B-COW-0.007-1/blib/lib"
PERL5OPT=""
PERL5_CPANPLUS_IS_RUNNING="16016"
PERL5_CPAN_IS_RUNNING="16016"
PERL5_CPAN_IS_RUNNING_IN_RECURSION="22409,16016"
PERLDOC="-MPod::Perldoc::ToTextOverstrike"
PERL_BATCH="yes"
PERL_CANARY_STABILITY_NOPROMPT="1"
PERL_CPAN_REPORTER_CONFIG="/var/tmp/cpansmoker-1023/2024052721/cpanreporter_000_config.ini"
PERL_EXTUTILS_AUTOINSTALL="--defaultdeps"
PERL_USE_UNSAFE_INC="1"
@INC:
/home/cpansand/.cpan/build/2024052722/Encode-3.21-1/blib/arch
/home/cpansand/.cpan/build/2024052722/Encode-3.21-1/blib/lib
/home/cpansand/.cpan/build/2024052722/Clone-0.46-1/blib/arch
/home/cpansand/.cpan/build/2024052722/Clone-0.46-1/blib/lib
/home/cpansand/.cpan/build/2024052722/B-COW-0.007-1/blib/arch
/home/cpansand/.cpan/build/2024052722/B-COW-0.007-1/blib/lib
/opt/perl-5.24.0/lib/site_perl/5.24.0/x86_64-linux
/opt/perl-5.24.0/lib/site_perl/5.24.0
/opt/perl-5.24.0/lib/5.24.0/x86_64-linux
/opt/perl-5.24.0/lib/5.24.0
.