Perl-Critic v1.140 Perl 5 v5.32.1 i386-openbsd

Status
Pass
From
Alceu Rodrigues de Freitas Junior
Dist
Perl-Critic v1.140
Platform
Perl 5 v5.32.1 i386-openbsd
Date
2022-06-16 05:19:07
ID
d8669d1e-ed33-11ec-b737-db65ffa5fe2c
This distribution has been tested as part of the CPAN Testers
project, supporting the Perl programming language.  See
http://wiki.cpantesters.org/ for more information or email
questions to cpan-testers-discuss@perl.org


--
Dear Andy Lester,

This is a computer-generated report for Perl-Critic-1.140
on perl 5.32.1, created by CPAN-Reporter-1.2018.

Thank you for uploading your work to CPAN.  Congratulations!
All tests were successful.

Sections of this report:

    * Tester comments
    * Program output
    * Prerequisites
    * Environment and other context

------------------------------
TESTER COMMENTS
------------------------------

Additional comments from tester:

this report is from an automated smoke testing program
and was not reviewed by a human for accuracy

------------------------------
PROGRAM OUTPUT
------------------------------

Output from './Build test':

# Testing Perl::Critic 1.140 with PPI 1.274 under Perl 5.032001, /usr/bin/perl
t/00_modules.t ................................ ok
t/00_versions.t ............................... ok
t/01_config.t ................................. ok
t/01_config_bad_perlcriticrc.t ................ ok
t/01_policy_config.t .......................... ok
t/02_policy.t ................................. ok
t/03_annotations.t ............................ ok
t/03_pragmas.t ................................ ok
t/04_options_processor.t ...................... ok
t/05_utils.t .................................. ok
t/05_utils_perl.t ............................. ok
t/05_utils_pod.t .............................. ok
t/05_utils_ppi.t .............................. ok
t/06_violation.t .............................. ok
t/07_command.t ................................ ok
t/07_perlcritic.t ............................. ok
t/08_document.t ............................... ok
t/09_theme.t .................................. ok
t/10_user_profile.t ........................... ok
t/11_policy_factory.t ......................... ok
t/12_policy_listing.t ......................... ok
t/12_theme_listing.t .......................... ok
t/13_bundled_policies.t ....................... ok
t/14_policy_parameter_behavior_boolean.t ...... ok
t/14_policy_parameter_behavior_enumeration.t .. ok
t/14_policy_parameter_behavior_integer.t ...... ok
t/14_policy_parameter_behavior_list_string.t .. ok
t/14_policy_parameter_behavior_string.t ....... ok
t/14_policy_parameters.t ...................... ok
t/15_statistics.t ............................. ok
t/16_roundtrip_defaults.t ..................... ok
t/20_policies.t ............................... ok
t/20_policy_pod_spelling.t .................... ok
t/20_policy_prohibit_evil_modules.t ........... ok
t/20_policy_prohibit_hard_tabs.t .............. ok
t/20_policy_prohibit_trailing_whitespace.t .... ok
t/20_policy_require_consistent_newlines.t ..... ok
t/20_policy_require_tidy_code.t ............... ok
Unhandled type: REGEXP at /usr/local/libdata/perl5/site_perl/Devel/Cycle.pm line 107.
t/92_memory_leaks.t ........................... ok
t/gh-734.t .................................... ok
All tests successful.
Files=40, Tests=8090, 110 wallclock secs ( 1.06 usr  0.42 sys + 87.00 cusr 19.42 csys = 107.90 CPU)
Result: PASS

------------------------------
PREREQUISITES
------------------------------

Prerequisite modules loaded:

requires:

    Module                     Need     Have    
    -------------------------- -------- --------
    B::Keywords                1.05     1.24    
    base                       0        2.27    
    Carp                       0        1.50    
    charnames                  0        1.48    
    Config::Tiny               2        2.28    
    English                    0        1.11    
    Exception::Class           1.23     1.45    
    Exporter                   5.63     5.74    
    Fatal                      0        2.32    
    File::Basename             0        2.85    
    File::Find                 0        1.37    
    File::Path                 0        2.18    
    File::Spec                 0        3.78    
    File::Spec::Unix           0        3.78    
    File::Temp                 0        0.2311  
    File::Which                0        1.27    
    Getopt::Long               0        2.52    
    IO::String                 0        1.08    
    IPC::Open2                 1        1.05    
    List::MoreUtils            0.19     0.430   
    List::Util                 0        1.62    
    Module::Build              0.4204   0.4231  
    Module::Pluggable          3.1      5.2     
    overload                   0        1.31    
    perl                       5.006001 5.032001
    Perl::Tidy                 0        20220217
    Pod::Parser                0        1.65    
    Pod::PlainText             0        2.07    
    Pod::Select                0        1.65    
    Pod::Spell                 1        1.20    
    Pod::Usage                 0        2.03    
    PPI                        1.265    1.274   
    PPI::Document              1.265    1.274   
    PPI::Document::File        1.265    1.274   
    PPI::Node                  1.265    1.274   
    PPI::Token::Quote::Single  1.265    1.274   
    PPI::Token::Whitespace     1.265    1.274   
    PPIx::QuoteLike            0        0.022   
    PPIx::Regexp               0.027    0.085   
    PPIx::Regexp::Util         0.068    0.085   
    PPIx::Utilities::Node      1.001    1.001000
    PPIx::Utilities::Statement 1.001    1.001000
    Readonly                   2        2.05    
    Scalar::Util               0        1.62    
    strict                     0        1.11    
    String::Format             1.18     1.18    
    Task::Weaken               0        1.06    
    Term::ANSIColor            2.02     5.01    
    Test::Builder              0.92     1.302190
    Text::ParseWords           3        3.31    
    version                    0.77     0.9929  
    warnings                   0        1.47    

build_requires:

    Module                     Need     Have    
    -------------------------- -------- --------
    lib                        0        0.65    
    Test::Deep                 0        1.130   
    Test::More                 0        1.302190

configure_requires:

    Module                     Need     Have    
    -------------------------- -------- --------
    Module::Build              0.4204   0.4231  


------------------------------
ENVIRONMENT AND OTHER CONTEXT
------------------------------

Environment variables:

    AUTOMATED_TESTING = 1
    PATH = /home/goku/perl5/bin:/usr/bin:/bin:/usr/sbin:/sbin:/usr/X11R6/bin:/usr/local/bin:/usr/local/sbin
    PERL5LIB = /home/goku/perl5/lib/perl5
    PERL5OPT = 
    PERL5_CPANPLUS_IS_RUNNING = 55579
    PERL5_CPAN_IS_RUNNING = 55579
    PERL5_CPAN_IS_RUNNING_IN_RECURSION = 6441,55579
    PERL_CR_SMOKER_CURRENT = Perl-Critic-1.140
    PERL_EXTUTILS_AUTOINSTALL = --defaultdeps
    PERL_LOCAL_LIB_ROOT = /home/goku/perl5
    PERL_MB_OPT = --install_base "/home/goku/perl5"
    PERL_MM_OPT = INSTALL_BASE=/home/goku/perl5
    PERL_MM_USE_DEFAULT = 1
    PERL_USE_UNSAFE_INC = 1
    SHELL = /bin/ksh
    TERM = xterm-256color

Perl special variables (and OS-specific diagnostics, for MSWin32):

    $^X = /usr/bin/perl
    $UID/$EUID = 1001 / 1001
    $GID = 1002 1002 1001
    $EGID = 1002 1002 1001

Perl module toolchain versions installed:

    Module              Have    
    ------------------- --------
    CPAN                2.34    
    CPAN::Meta          2.150010
    Cwd                 3.78    
    ExtUtils::CBuilder  0.280236
    ExtUtils::Command   7.65_01 
    ExtUtils::Install   2.20    
    ExtUtils::MakeMaker 7.65_01 
    ExtUtils::Manifest  1.72    
    ExtUtils::ParseXS   3.44    
    File::Spec          3.78    
    JSON                4.06    
    JSON::PP            4.09    
    Module::Build       0.4231  
    Module::Signature   n/a     
    Parse::CPAN::Meta   2.150010
    Test::Harness       3.44    
    Test::More          1.302190
    YAML                1.30    
    YAML::Syck          1.34    
    version             0.9929  


--

Summary of my perl5 (revision 5 version 32 subversion 1) configuration:
   
  Platform:
    osname=openbsd
    osvers=7.1
    archname=i386-openbsd
    uname='openbsd'
    config_args='-dse -Dopenbsd_distribution=defined -Dmksymlinks'
    hint=recommended
    useposix=true
    d_sigaction=define
    useithreads=undef
    usemultiplicity=undef
    use64bitint=undef
    use64bitall=undef
    uselongdouble=undef
    usemymalloc=n
    default_inc_excludes_dot=define
    bincompat5005=undef
  Compiler:
    cc='cc'
    ccflags ='-DNO_LOCALE_NUMERIC -DNO_LOCALE_COLLATE -fno-strict-aliasing -fno-delete-null-pointer-checks -pipe -fstack-protector-strong -I/usr/local/include'
    optimize='-O2'
    cppflags='-DBIG_TIME -DNO_LOCALE_NUMERIC -DNO_LOCALE_COLLATE -fno-strict-aliasing -fno-delete-null-pointer-checks -pipe -fstack-protector-strong -I/usr/local/include'
    ccversion=''
    gccversion='OpenBSD Clang 13.0.0'
    gccosandvers=''
    intsize=4
    longsize=4
    ptrsize=4
    doublesize=8
    byteorder=1234
    doublekind=3
    d_longlong=define
    longlongsize=8
    d_longdbl=define
    longdblsize=12
    longdblkind=3
    ivtype='long'
    ivsize=4
    nvtype='double'
    nvsize=8
    Off_t='off_t'
    lseeksize=8
    alignbytes=4
    prototype=define
  Linker and Libraries:
    ld='cc'
    ldflags ='-Wl,-E  -fstack-protector-strong -L/usr/local/lib'
    libpth=/usr/lib /usr/lib/clang/13.0.0/lib /usr/lib
    libs=-lm -lc
    perllibs=-lm -lc
    libc=/usr/lib/libc.so.96.1
    so=so
    useshrplib=true
    libperl=libperl.so.22.0
    gnulibc_version=''
  Dynamic Linking:
    dlsrc=dl_dlopen.xs
    dlext=so
    d_dlsymun=undef
    ccdlflags='-Wl,-R/usr/libdata/perl5/i386-openbsd/CORE'
    cccdlflags='-DPIC -fpic '
    lddlflags='-shared -fpic  -fstack-protector-strong -L/usr/local/lib'


Characteristics of this binary (from libperl): 
  Compile-time options:
    HAS_TIMES
    PERLIO_LAYERS
    PERL_COPY_ON_WRITE
    PERL_DONT_CREATE_GVSV
    PERL_MALLOC_WRAP
    PERL_OP_PARENT
    PERL_PRESERVE_IVUV
    USE_LARGE_FILES
    USE_LOCALE
    USE_LOCALE_CTYPE
    USE_LOCALE_TIME
    USE_PERLIO
    USE_PERL_ATOF
  Built under openbsd
  %ENV:
    PERL5LIB="/home/goku/perl5/lib/perl5"
    PERL5OPT=""
    PERL5_CPANPLUS_IS_RUNNING="55579"
    PERL5_CPAN_IS_RUNNING="55579"
    PERL5_CPAN_IS_RUNNING_IN_RECURSION="6441,55579"
    PERL_CR_SMOKER_CURRENT="Perl-Critic-1.140"
    PERL_EXTUTILS_AUTOINSTALL="--defaultdeps"
    PERL_LOCAL_LIB_ROOT="/home/goku/perl5"
    PERL_MB_OPT="--install_base "/home/goku/perl5""
    PERL_MM_OPT="INSTALL_BASE=/home/goku/perl5"
    PERL_MM_USE_DEFAULT="1"
    PERL_USE_UNSAFE_INC="1"
  @INC:
    /home/goku/perl5/lib/perl5/i386-openbsd
    /home/goku/perl5/lib/perl5
    /usr/local/libdata/perl5/site_perl/i386-openbsd
    /usr/local/libdata/perl5/site_perl
    /usr/libdata/perl5/i386-openbsd
    /usr/libdata/perl5
    .