Report for Dancer-Plugin-PageHistory-0.004

Back
From: metabase:user:30f4dfbe-2aae-11df-837a-5e0a49663a4f
Subject: PASS Dancer-Plugin-PageHistory-0.004 v5.12.5 Mac OS X
Date: 2015-05-28T00:59:51Z

This distribution has been tested as part of the CPAN Testers
project, supporting the Perl programming language.  See
http://wiki.cpantesters.org/ for more information or email
questions to cpan-testers-discuss@perl.org


--
Dear Peter Mottram,

This is a computer-generated report for Dancer-Plugin-PageHistory-0.004
on perl 5.12.5, created by CPAN-Reporter-1.2014.

Thank you for uploading your work to CPAN.  Congratulations!
All tests were successful.

Sections of this report:

    * Tester comments
    * Program output
    * Prerequisites
    * Environment and other context

------------------------------
TESTER COMMENTS
------------------------------

Additional comments from tester:

this report is from an automated smoke testing program
and was not reviewed by a human for accuracy

------------------------------
PROGRAM OUTPUT
------------------------------

Output from '/sw/bin/make test':

PERL_DL_NONLAZY=1 "/Users/hornenj/perl5/perlbrew/perls/perl-5.12.5/bin/perl" "-MExtUtils::Command::MM" "-MTest::Harness" "-e" "undef *Test::Harness::Switches; test_harness(0, 'blib/lib', 'blib/arch')" t/*.t
# Testing Dancer::Plugin::PageHistory 0.004, Perl 5.012005, /Users/hornenj/perl5/perlbrew/perls/perl-5.12.5/bin/perl
t/00-load.t ....... ok
t/manifest.t ...... skipped: Author tests not required for installation
t/page.t .......... ok
t/pageset.t ....... ok
# Dancer::Session::CHI missing so not testing this session engine
# Dancer::Session::Cookie missing so not testing this session engine
# Dancer::Session::DBIC missing so not testing this session engine
# Dancer::Session::JSON missing so not testing this session engine
# Dancer::Session::Memcached missing so not testing this session engine
# Dancer::Session::Memcached::Fast missing so not testing this session engine
# Dancer::Session::MongoDB missing so not testing this session engine
# Dancer::Session::PSGI missing so not testing this session engine
# Dancer::Session::Storable missing so not testing this session engine
t/plugin.t ........ ok
t/pod-coverage.t .. skipped: Author tests not required for installation
t/pod-spelling.t .. skipped: Author tests not required for installation
t/pod.t ........... skipped: Author tests not required for installation
All tests successful.
Files=8, Tests=136,  1 wallclock secs ( 0.02 usr  0.02 sys +  0.41 cusr  0.10 csys =  0.55 CPU)
Result: PASS

------------------------------
PREREQUISITES
------------------------------

Prerequisite modules loaded:

requires:

    Module                Need   Have    
    --------------------- ------ --------
    Dancer                1.3136 1.3136  
    Data::Structure::Util 0.16   0.16    
    Moo                   2.000  2.000001
    namespace::clean      0      0.25    
    perl                  5.006  5.012005
    Scalar::Util          0      1.42    
    Sub::Quote            0      2.000001
    Type::Tiny            0      1.000005
    URI                   0      1.67    

build_requires:

    Module                Need   Have    
    --------------------- ------ --------
    Class::Load           0      0.22    
    File::Spec            0      3.47    
    File::Temp            0      0.2304  
    HTTP::Cookies         0      6.01    
    HTTP::Request::Common 0      6.04    
    JSON                  0      2.90    
    Plack::Builder        0      0       
    Plack::Test           0      0       
    Test::Exception       0      0.38    
    Test::More            0      1.001014

configure_requires:

    Module                Need   Have    
    --------------------- ------ --------
    ExtUtils::MakeMaker   0      7.04    


------------------------------
ENVIRONMENT AND OTHER CONTEXT
------------------------------

Environment variables:

    AUTOMATED_TESTING = 1
    LANG = en_US.UTF-8
    LC_ALL = POSIX
    LD_LIBRARY_PATH = :/net/traces01.be-md.ncbi.nlm.nih.gov/trace_software/vdb/mac/release/x86_64/lib
    PATH = /Users/hornenj/perl5/perlbrew/bin:/Users/hornenj/perl5/perlbrew/perls/perl-5.12.5/bin:/Users/hornenj/perl5/perlbrew/bin:/Users/hornenj/bin:/sw/lib/perl5/ExtUtils:/sw/bin:/am/ncbiapdata/bin:/usr/bin:/bin:/usr/X11R6/bin:/netopt/ncbi_tools/bin:/usr/local/ncbi/blast/bin:/net/traces01.be-md.ncbi.nlm.nih.gov/trace_software/vdb/mac/release/x86_64/bin
    PERL5LIB = /Users/hornenj/.cpan/build/Dancer-1.3136-wKwWgs/blib/arch:/Users/hornenj/.cpan/build/Dancer-1.3136-wKwWgs/blib/lib:/Users/hornenj/.cpan/build/HTTP-Server-Simple-PSGI-0.16-UIpytg/blib/arch:/Users/hornenj/.cpan/build/HTTP-Server-Simple-PSGI-0.16-UIpytg/blib/lib:/Users/hornenj/.cpan/build/Hash-Merge-Simple-0.051-VSKxwB/blib/arch:/Users/hornenj/.cpan/build/Hash-Merge-Simple-0.051-VSKxwB/blib/lib:/Users/hornenj/.cpan/build/Data-Structure-Util-0.16-jgGaUD/blib/arch:/Users/hornenj/.cpan/build/Data-Structure-Util-0.16-jgGaUD/blib/lib
    PERL5OPT = 
    PERL5_CPANPLUS_IS_RUNNING = 7739
    PERL5_CPAN_IS_RUNNING = 7739
    PERL5_MINISMOKEBOX = 0.58
    PERLBREW_BASHRC_VERSION = 0.73
    PERLBREW_HOME = /Users/hornenj/.perlbrew
    PERLBREW_LIB = 
    PERLBREW_MANPATH = /Users/hornenj/perl5/perlbrew/perls/perl-5.12.5/man
    PERLBREW_PATH = /Users/hornenj/perl5/perlbrew/bin:/Users/hornenj/perl5/perlbrew/perls/perl-5.12.5/bin
    PERLBREW_PERL = perl-5.12.5
    PERLBREW_ROOT = /Users/hornenj/perl5/perlbrew
    PERLBREW_VERSION = 0.73
    PERL_EXTUTILS_AUTOINSTALL = --defaultdeps
    PERL_LOCAL_LIB_ROOT = 
    PERL_MM_USE_DEFAULT = 1
    SHELL = /bin/bash
    TERM = xterm-256color
    TMPDIR = /var/folders/pz/pd7y1qjs6s3cbk170cw50fjc000c61/T/
    VERSIONER_PERL_PREFER_32_BIT = no
    VERSIONER_PERL_VERSION = 5.18
    ac_cv_path_INTLTOOL_PERL = /usr/bin/perl

Perl special variables (and OS-specific diagnostics, for MSWin32):

    $^X = /Users/hornenj/perl5/perlbrew/perls/perl-5.12.5/bin/perl
    $UID/$EUID = 12481 / 12481
    $GID = 14 14 5344 37103 527 241
    $EGID = 14 14 5344 37103 527 241

Perl module toolchain versions installed:

    Module              Have    
    ------------------- --------
    CPAN                2.10    
    CPAN::Meta          2.150001
    Cwd                 3.47    
    ExtUtils::CBuilder  0.280220
    ExtUtils::Command   1.20    
    ExtUtils::Install   2.04    
    ExtUtils::MakeMaker 7.04    
    ExtUtils::Manifest  1.70    
    ExtUtils::ParseXS   3.24    
    File::Spec          3.47    
    JSON                2.90    
    JSON::PP            2.27300 
    Module::Build       0.4212  
    Module::Signature   n/a     
    Parse::CPAN::Meta   1.4414  
    Test::Harness       3.35    
    Test::More          1.001014
    YAML                1.15    
    YAML::Syck          1.29    
    version             0.9912  


--

Summary of my perl5 (revision 5 version 12 subversion 5) configuration:
   
  Platform:
    osname=darwin, osvers=12.2.1, archname=darwin-2level
    uname='darwin ncbimac2008.ncbi.nlm.nih.gov 12.2.1 darwin kernel version 12.2.1: thu oct 18 12:13:47 pdt 2012; root:xnu-2050.20.9~1release_x86_64 x86_64 '
    config_args='-de -Dprefix=/Users/hornenj/perl5/perlbrew/perls/perl-5.12.5'
    hint=recommended, useposix=true, d_sigaction=define
    useithreads=undef, usemultiplicity=undef
    useperlio=define, d_sfio=undef, uselargefiles=define, usesocks=undef
    use64bitint=define, use64bitall=define, uselongdouble=undef
    usemymalloc=n, bincompat5005=undef
  Compiler:
    cc='cc', ccflags ='-fno-common -DPERL_DARWIN -no-cpp-precomp -fno-strict-aliasing -pipe -fstack-protector',
    optimize='-O3',
    cppflags='-no-cpp-precomp -fno-common -DPERL_DARWIN -no-cpp-precomp -fno-strict-aliasing -pipe -fstack-protector'
    ccversion='', gccversion='4.2.1 Compatible Apple LLVM 4.2 (clang-425.0.24)', gccosandvers=''
    intsize=4, longsize=8, ptrsize=8, doublesize=8, byteorder=12345678
    d_longlong=define, longlongsize=8, d_longdbl=define, longdblsize=16
    ivtype='long', ivsize=8, nvtype='double', nvsize=8, Off_t='off_t', lseeksize=8
    alignbytes=8, prototype=define
  Linker and Libraries:
    ld='env MACOSX_DEPLOYMENT_TARGET=10.3 cc', ldflags =' -fstack-protector'
    libpth=/usr/lib
    libs=-ldbm -ldl -lm -lutil -lc
    perllibs=-ldl -lm -lutil -lc
    libc=, so=dylib, useshrplib=false, libperl=libperl.a
    gnulibc_version=''
  Dynamic Linking:
    dlsrc=dl_dlopen.xs, dlext=bundle, d_dlsymun=undef, ccdlflags=' '
    cccdlflags=' ', lddlflags=' -bundle -undefined dynamic_lookup -fstack-protector'


Characteristics of this binary (from libperl): 
  Compile-time options: PERL_DONT_CREATE_GVSV PERL_MALLOC_WRAP USE_64_BIT_ALL
                        USE_64_BIT_INT USE_LARGE_FILES USE_PERLIO
                        USE_PERL_ATOF
  Built under darwin
  Compiled at Mar  5 2013 11:08:14
  %ENV:
    PERL5LIB="/Users/hornenj/.cpan/build/Dancer-1.3136-wKwWgs/blib/arch:/Users/hornenj/.cpan/build/Dancer-1.3136-wKwWgs/blib/lib:/Users/hornenj/.cpan/build/HTTP-Server-Simple-PSGI-0.16-UIpytg/blib/arch:/Users/hornenj/.cpan/build/HTTP-Server-Simple-PSGI-0.16-UIpytg/blib/lib:/Users/hornenj/.cpan/build/Hash-Merge-Simple-0.051-VSKxwB/blib/arch:/Users/hornenj/.cpan/build/Hash-Merge-Simple-0.051-VSKxwB/blib/lib:/Users/hornenj/.cpan/build/Data-Structure-Util-0.16-jgGaUD/blib/arch:/Users/hornenj/.cpan/build/Data-Structure-Util-0.16-jgGaUD/blib/lib"
    PERL5OPT=""
    PERL5_CPANPLUS_IS_RUNNING="7739"
    PERL5_CPAN_IS_RUNNING="7739"
    PERL5_MINISMOKEBOX="0.58"
    PERLBREW_BASHRC_VERSION="0.73"
    PERLBREW_HOME="/Users/hornenj/.perlbrew"
    PERLBREW_LIB=""
    PERLBREW_MANPATH="/Users/hornenj/perl5/perlbrew/perls/perl-5.12.5/man"
    PERLBREW_PATH="/Users/hornenj/perl5/perlbrew/bin:/Users/hornenj/perl5/perlbrew/perls/perl-5.12.5/bin"
    PERLBREW_PERL="perl-5.12.5"
    PERLBREW_ROOT="/Users/hornenj/perl5/perlbrew"
    PERLBREW_VERSION="0.73"
    PERL_EXTUTILS_AUTOINSTALL="--defaultdeps"
    PERL_LOCAL_LIB_ROOT=""
    PERL_MM_USE_DEFAULT="1"
  @INC:
    /Users/hornenj/.cpan/build/Dancer-1.3136-wKwWgs/blib/arch
    /Users/hornenj/.cpan/build/Dancer-1.3136-wKwWgs/blib/lib
    /Users/hornenj/.cpan/build/HTTP-Server-Simple-PSGI-0.16-UIpytg/blib/arch
    /Users/hornenj/.cpan/build/HTTP-Server-Simple-PSGI-0.16-UIpytg/blib/lib
    /Users/hornenj/.cpan/build/Hash-Merge-Simple-0.051-VSKxwB/blib/arch
    /Users/hornenj/.cpan/build/Hash-Merge-Simple-0.051-VSKxwB/blib/lib
    /Users/hornenj/.cpan/build/Data-Structure-Util-0.16-jgGaUD/blib/arch
    /Users/hornenj/.cpan/build/Data-Structure-Util-0.16-jgGaUD/blib/lib
    /Users/hornenj/perl5/perlbrew/perls/perl-5.12.5/lib/site_perl/5.12.5/darwin-2level
    /Users/hornenj/perl5/perlbrew/perls/perl-5.12.5/lib/site_perl/5.12.5
    /Users/hornenj/perl5/perlbrew/perls/perl-5.12.5/lib/5.12.5/darwin-2level
    /Users/hornenj/perl5/perlbrew/perls/perl-5.12.5/lib/5.12.5
    .