Report for Task-Dancer-0.39

Back
From: metabase:user:314402c4-2aae-11df-837a-5e0a49663a4f
Subject: PASS Task-Dancer-0.39 v5.10.1 FreeBSD
Date: 2015-08-31T15:06:24Z

This distribution has been tested as part of the CPAN Testers
project, supporting the Perl programming language.  See
http://wiki.cpantesters.org/ for more information or email
questions to cpan-testers-discuss@perl.org


--
Dear Alberto Manuel Brandao Simoes,

This is a computer-generated report for Task-Dancer-0.39
on perl 5.10.1, created by CPAN-Reporter-1.2015.

Thank you for uploading your work to CPAN.  Congratulations!
All tests were successful.

Sections of this report:

    * Tester comments
    * Program output
    * Prerequisites
    * Environment and other context

------------------------------
TESTER COMMENTS
------------------------------

Additional comments from tester:

none provided

------------------------------
PROGRAM OUTPUT
------------------------------

Output from '/usr/bin/make test':

PERL_DL_NONLAZY=1 "/usr/perl5.10.1/bin/perl" "-MExtUtils::Command::MM" "-MTest::Harness" "-e" "undef *Test::Harness::Switches; test_harness(0, 'inc', 'blib/lib', 'blib/arch')" t/00-load.t t/manifest.t t/release-pod-coverage.t t/release-pod-syntax.t
# Testing Task::Dancer 0.39, Perl 5.010001, /usr/perl5.10.1/bin/perl
t/00-load.t ............... ok
t/manifest.t .............. skipped: Author tests not required for installation
t/release-pod-coverage.t .. skipped: these tests are for release candidate testing
t/release-pod-syntax.t .... skipped: these tests are for release candidate testing
All tests successful.
Files=4, Tests=1,  0 wallclock secs ( 0.17 usr  0.06 sys +  0.45 cusr  0.10 csys =  0.79 CPU)
Result: PASS

------------------------------
PREREQUISITES
------------------------------

Prerequisite modules loaded:

requires:

    Module                                Need     Have    
    ------------------------------------- -------- --------
    Dancer                                0        1.3125  
    Dancer::Debug                         0        0.03    
    Dancer::Logger::ColorConsole          0        0.0005  
    Dancer::Logger::Log4perl              0        0.9.0   
    Dancer::Logger::Pipe                  0        0.01    
    Dancer::Logger::PSGI                  0        v1.0.1  
    Dancer::Logger::Spinner               0        0.02    
    Dancer::Logger::Syslog                0        0.6     
    Dancer::Middleware::Rebase            0        0.8.0   
    Dancer::Plugin::Async                 0        0.1     
    Dancer::Plugin::Auth::Basic           0.011    0.030   
    Dancer::Plugin::Auth::Extensible      0        0.40    
    Dancer::Plugin::Auth::Htpasswd        0.011    0.020   
    Dancer::Plugin::Auth::Tiny            0        0.002   
    Dancer::Plugin::Auth::Twitter         0        0.07    
    Dancer::Plugin::Bcrypt                0        0.4.1   
  ! Dancer::Plugin::Browser               0        n/a     
    Dancer::Plugin::Cache::CHI            0        1.4.0   
    Dancer::Plugin::Database              0        2.10    
    Dancer::Plugin::DBIC                  0        0.2102  
    Dancer::Plugin::DebugDump             0        0.03    
    Dancer::Plugin::DebugToolbar          0        0.016   
    Dancer::Plugin::DirectoryView         0        0.02    
    Dancer::Plugin::Email                 0        1.0400  
    Dancer::Plugin::EncodeID              0        0.02    
    Dancer::Plugin::EscapeHTML            0        0.22    
    Dancer::Plugin::Feed                  0        1.131470
    Dancer::Plugin::FlashMessage          0        0.314   
    Dancer::Plugin::FlashNote             0        1.0.4   
    Dancer::Plugin::FormattedOutput       0        0.01    
    Dancer::Plugin::FormValidator         0        1.131620
    Dancer::Plugin::Hosts                 0        0.01    
    Dancer::Plugin::LibraryThing          0        0.0003  
    Dancer::Plugin::Memcached             0        0.02    
  ! Dancer::Plugin::MemcachedFast         0        broken  
    Dancer::Plugin::MobileDevice          0.03     0.05    
    Dancer::Plugin::Mongo                 0        0.03    
  ! Dancer::Plugin::Nitesi                0        n/a     
  ! Dancer::Plugin::NYTProf               0.04     broken  
    Dancer::Plugin::Params::Normalization 0        0.52    
    Dancer::Plugin::Passphrase            0        2.0.1   
    Dancer::Plugin::Preprocess::Sass      0        0.031   
    Dancer::Plugin::Progress              0        0.1     
    Dancer::Plugin::ProxyPath             0        0.03    
    Dancer::Plugin::Redis                 0        0.8     
    Dancer::Plugin::REST                  0.05     0.11    
    Dancer::Plugin::SimpleCRUD            0.02     0.94    
    Dancer::Plugin::SiteMap               0        0.14    
    Dancer::Plugin::SMS                   0        0.02    
    Dancer::Plugin::Stomp                 0        1.0302  
    Dancer::Plugin::TimeRequests          0        0.06    
    Dancer::Plugin::ValidateTiny          0        0.06    
    Dancer::Plugin::XML::RSS              0        0.01    
    Dancer::Serializer::UUEncode          0        0.02    
    Dancer::Session::CHI                  0.001001 v0.1.6  
    Dancer::Session::Cookie               0        0.25    
    Dancer::Session::KiokuDB              0.04     0.05    
    Dancer::Session::Memcached            0        0.202   
    Dancer::Session::MongoDB              0        1.000000
    Dancer::Session::PSGI                 0        0.01    
    Dancer::Session::Storable             0        0.06    
    Dancer::Template::Alloy               0        1.02    
    Dancer::Template::Haml                0        0.01    
    Dancer::Template::HtmlTemplate        0.02     0.07    
    Dancer::Template::Mason               0        0.004001
    Dancer::Template::Mason2              0.02     0.05    
    Dancer::Template::MicroTemplate       0        1.0.0   
    Dancer::Template::MojoTemplate        0        0       
    Dancer::Template::TemplateFlute       0        0.0140  
    Dancer::Template::TemplateSandbox     0        1.00    
    Dancer::Template::Tenjin              0        0.5     
    Dancer::Template::Tiny                0.02     0.03    
    Dancer::Template::Xslate              0        0.03    

build_requires:

    Module                                Need     Have    
    ------------------------------------- -------- --------
    ExtUtils::MakeMaker                   6.36     7.04    


------------------------------
ENVIRONMENT AND OTHER CONTEXT
------------------------------

Environment variables:

    DBIC_NO_WARN_BAD_PERL = 1
    LC_ALL = de_DE.ISO8859-1
    PATH = /usr/local/bin:/usr/bin:/bin:/usr/local/sbin:/usr/sbin:/sbin:/home/cpansand/bin/freebsd9.3:/home/cpansand/bin/sh:/home/cpansand/bin:/usr/games:/home/cpansand/devel:/usr/home/eserte/src/srezic-misc/scripts
    PERL5LIB = 
    PERL5OPT = 
    PERL5_CPANPLUS_IS_RUNNING = 9303
    PERL5_CPAN_IS_RUNNING = 9303
    PERL5_CPAN_IS_RUNNING_IN_RECURSION = 21412,9303
    PERLDOC = -MPod::Perldoc::ToTextOverstrike
    PERL_BATCH = yes
    PERL_CANARY_STABILITY_NOPROMPT = 1
    PERL_CPAN_REPORTER_CONFIG = /var/tmp/cpansmoker-1023/2015083109/cpanreporter_000_config.ini
    PERL_EXTUTILS_AUTOINSTALL = --defaultdeps
    PERL_HTML_DISPLAY_CLASS = HTML::Display::Mozilla
    SHELL = /usr/local/bin/zsh
    TERM = screen
    TMPDIR = /var/tmp/cpansmoker-1023/2015083109

Perl special variables (and OS-specific diagnostics, for MSWin32):

    $^X = /usr/perl5.10.1/bin/perl
    $UID/$EUID = 1023 / 1023
    $GID = 1023 1023
    $EGID = 1023 1023

Perl module toolchain versions installed:

    Module              Have    
    ------------------- --------
    CPAN                2.10    
    CPAN::Meta          2.150005
    Cwd                 3.47    
    ExtUtils::CBuilder  0.280223
    ExtUtils::Command   1.20    
    ExtUtils::Install   2.04    
    ExtUtils::MakeMaker 7.04    
    ExtUtils::Manifest  1.69    
    ExtUtils::ParseXS   3.24    
    File::Spec          3.47    
    JSON                2.90    
    JSON::PP            2.27203 
    Module::Build       0.4214  
    Module::Signature   0.79    
    Parse::CPAN::Meta   1.4417  
    Test::Harness       3.34    
    Test::More          1.001014
    YAML                1.15    
    YAML::Syck          1.29    
    version             0.9912  


--

Summary of my perl5 (revision 5 version 10 subversion 1) configuration:
   
  Platform:
    osname=freebsd, osvers=9.2-release-p4, archname=amd64-freebsd
    uname='freebsd cvrsnica-freebsd-92 9.2-release-p4 freebsd 9.2-release-p4 #0: tue apr 8 18:08:22 utc 2014 root@amd64-builder.daemonology.net:usrobjusrsrcsysgeneric amd64 '
    config_args='-ds -e -Dprefix=/usr/perl5.10.1'
    hint=recommended, useposix=true, d_sigaction=define
    useithreads=undef, usemultiplicity=undef
    useperlio=define, d_sfio=undef, uselargefiles=define, usesocks=undef
    use64bitint=define, use64bitall=define, uselongdouble=undef
    usemymalloc=n, bincompat5005=undef
  Compiler:
    cc='cc', ccflags ='-DHAS_FPSETMASK -DHAS_FLOATINGPOINT_H -fno-strict-aliasing -pipe -fstack-protector -I/usr/local/include',
    optimize='-O',
    cppflags='-DHAS_FPSETMASK -DHAS_FLOATINGPOINT_H -fno-strict-aliasing -pipe -fstack-protector -I/usr/local/include'
    ccversion='', gccversion='4.2.1 20070831 patched [FreeBSD]', gccosandvers=''
    intsize=4, longsize=8, ptrsize=8, doublesize=8, byteorder=12345678
    d_longlong=define, longlongsize=8, d_longdbl=define, longdblsize=16
    ivtype='long', ivsize=8, nvtype='double', nvsize=8, Off_t='off_t', lseeksize=8
    alignbytes=8, prototype=define
  Linker and Libraries:
    ld='cc', ldflags ='-Wl,-E  -fstack-protector -L/usr/local/lib'
    libpth=/usr/lib /usr/local/lib
    libs=-lgdbm -lm -lcrypt -lutil -lc
    perllibs=-lm -lcrypt -lutil -lc
    libc=, so=so, useshrplib=false, libperl=libperl.a
    gnulibc_version=''
  Dynamic Linking:
    dlsrc=dl_dlopen.xs, dlext=so, d_dlsymun=undef, ccdlflags=' '
    cccdlflags='-DPIC -fPIC', lddlflags='-shared  -L/usr/local/lib -fstack-protector'


Characteristics of this binary (from libperl): 
  Compile-time options: PERL_DONT_CREATE_GVSV PERL_MALLOC_WRAP USE_64_BIT_ALL
                        USE_64_BIT_INT USE_LARGE_FILES USE_PERLIO
  Built under freebsd
  Compiled at May 15 2014 23:30:26
  %ENV:
    PERL5LIB=""
    PERL5OPT=""
    PERL5_CPANPLUS_IS_RUNNING="9303"
    PERL5_CPAN_IS_RUNNING="9303"
    PERL5_CPAN_IS_RUNNING_IN_RECURSION="21412,9303"
    PERLDOC="-MPod::Perldoc::ToTextOverstrike"
    PERL_BATCH="yes"
    PERL_CANARY_STABILITY_NOPROMPT="1"
    PERL_CPAN_REPORTER_CONFIG="/var/tmp/cpansmoker-1023/2015083109/cpanreporter_000_config.ini"
    PERL_EXTUTILS_AUTOINSTALL="--defaultdeps"
    PERL_HTML_DISPLAY_CLASS="HTML::Display::Mozilla"
  @INC:
    /usr/perl5.10.1/lib/5.10.1/amd64-freebsd
    /usr/perl5.10.1/lib/5.10.1
    /usr/perl5.10.1/lib/site_perl/5.10.1/amd64-freebsd
    /usr/perl5.10.1/lib/site_perl/5.10.1
    .