Report for Soar-WM-0.04

Back
From: metabase:user:314402c4-2aae-11df-837a-5e0a49663a4f
Subject: PASS Soar-WM-0.04 v5.20.0 RC1 GNU/Linux
Date: 2014-05-25T17:48:57Z

This distribution has been tested as part of the CPAN Testers
project, supporting the Perl programming language.  See
http://wiki.cpantesters.org/ for more information or email
questions to cpan-testers-discuss@perl.org


--
Dear Nathan Gary Glenn,

This is a computer-generated report for Soar-WM-0.04
on perl 5.20.0, created by CPAN-Reporter-1.2011.

Thank you for uploading your work to CPAN.  Congratulations!
All tests were successful.

Sections of this report:

    * Tester comments
    * Program output
    * Prerequisites
    * Environment and other context

------------------------------
TESTER COMMENTS
------------------------------

Additional comments from tester:

none provided

------------------------------
PROGRAM OUTPUT
------------------------------

Output from './Build test':

t/00-compile.t ................ ok
# 
# 
# Generated by Dist::Zilla::Plugin::ReportVersions::Tiny v1.08
# perl: 5.020000 (wanted 5.010) on linux from /opt/perl-5.20.0-RC1t/bin/perl
# 
# Carp                                          => 1.3301     (want any version)
# Data::Dumper                                  => 2.151      (want any version)
# Data::Section::Simple                         => 0.07       (want any version)
# Exporter                                      => 5.70       (want any version)
# File::Find                                    => 1.27       (want any version)
# File::Spec                                    => 3.47       (want any version)
# File::Temp                                    => 0.2304     (want any version)
# FindBin                                       => 1.51       (want any version)
# Module::Build                                 => 0.4205     (want 0.3601) 
# Pod::Coverage::TrustPod                       => 0.100003   (want any version)
# Test::CPAN::Meta                              => 0.23       (want any version)
# Test::Deep                                    => 0.112      (want any version)
# Test::More                                    => 1.001003   (want 0.88)   
# Test::NoWarnings                              => 1.04       (want any version)
# Test::Pod                                     => 1.48       (want 1.41)   
# Test::Pod::Coverage                           => 1.08       (want 1.08)   
# Test::Warn                                    => 0.30       (want any version)
# autodie                                       => 2.23       (want any version)
# base                                          => 2.18       (want any version)
# strict                                        => 1.08       (want any version)
# version                                       => 0.9908     (want 0.9901) 
# warnings                                      => 1.23       (want any version)
# 
# Thanks for using my code.  I hope it works for you.
# If not, please try and include this output in the bug report.
# That will help me reproduce the issue and solve your problem.
# 
t/000-report-versions-tiny.t .. ok
t/01-slurp.t .................. ok
t/02-wm.t ..................... ok
t/03-traversal.t .............. ok
t/04-errors.t ................. ok
All tests successful.
Files=6, Tests=34,  0 wallclock secs ( 0.03 usr  0.05 sys +  0.34 cusr  0.13 csys =  0.55 CPU)
Result: PASS

------------------------------
PREREQUISITES
------------------------------

Prerequisite modules loaded:

requires:

    Module                Need   Have    
    --------------------- ------ --------
    autodie               0      2.23    
    base                  0      2.18    
    Carp                  0      1.3301  
    Exporter              0      5.70    
    perl                  5.010  5.020000
    strict                0      1.08    
    warnings              0      1.23    

build_requires:

    Module                Need   Have    
    --------------------- ------ --------
    Data::Dumper          0      2.151   
    Data::Section::Simple 0      0.07    
    File::Find            0      1.27    
    File::Spec            0      3.47    
    File::Temp            0      0.2304  
    FindBin               0      1.51    
    Module::Build         0.3601 0.4205  
    Test::Deep            0      0.112   
    Test::More            0.88   1.001003
    Test::NoWarnings      0      1.04    
    Test::Warn            0      0.30    

configure_requires:

    Module                Need   Have    
    --------------------- ------ --------
    Module::Build         0.3601 0.4205  


------------------------------
ENVIRONMENT AND OTHER CONTEXT
------------------------------

Environment variables:

    DBIC_NO_WARN_BAD_PERL = 1
    LANG = C
    LC_ALL = de_DE.UTF-8
    PATH = /usr/local/bin:/usr/bin:/bin:/usr/local/sbin:/usr/sbin:/sbin:/home/eserte/bin/linux-gnu:/home/eserte/bin/sh:/home/eserte/bin:/usr/games:/home/eserte/devel:/home/eserte/src/srezic-misc/scripts
    PERL5LIB = 
    PERL5OPT = 
    PERL5_CPANPLUS_IS_RUNNING = 19168
    PERL5_CPAN_IS_RUNNING = 19168
    PERL5_CPAN_IS_RUNNING_IN_RECURSION = 7534,19168
    PERLDOC = -MPod::Perldoc::ToTextOverstrike
    PERL_BATCH = yes
    PERL_CPAN_REPORTER_CONFIG = /var/tmp/cpansmoker-1001/YIkHOoLIS2_config.ini
    PERL_EXTUTILS_AUTOINSTALL = --defaultdeps
    PERL_HTML_DISPLAY_CLASS = HTML::Display::Mozilla
    PERL_PARALLEL_SMOKER = yes
    SHELL = /bin/zsh
    TERM = screen
    TMPDIR = /var/tmp/cpansmoker-1001

Perl special variables (and OS-specific diagnostics, for MSWin32):

    $^X = /opt/perl-5.20.0-RC1t/bin/perl
    $UID/$EUID = 1001 / 1001
    $GID = 1001 109 1001
    $EGID = 1001 109 1001

Perl module toolchain versions installed:

    Module              Have    
    ------------------- --------
    CPAN                2.05    
    CPAN::Meta          2.140640
    Cwd                 3.47    
    ExtUtils::CBuilder  0.280216
    ExtUtils::Command   1.18    
    ExtUtils::Install   1.67    
    ExtUtils::MakeMaker 6.98    
    ExtUtils::Manifest  1.63    
    ExtUtils::ParseXS   3.24    
    File::Spec          3.47    
    JSON                2.90    
    JSON::PP            2.27203 
    Module::Build       0.4205  
    Module::Signature   n/a     
    Parse::CPAN::Meta   1.4414  
    Test::Harness       3.30    
    Test::More          1.001003
    YAML                0.90    
    YAML::Syck          1.27    
    version             0.9908  


--

Summary of my perl5 (revision 5 version 20 subversion 0) configuration:
   
  Platform:
    osname=linux, osvers=3.2.0-4-amd64, archname=x86_64-linux-thread-multi
    uname='linux eserte 3.2.0-4-amd64 #1 smp debian 3.2.57-3 x86_64 gnulinux '
    config_args='-ds -e -Dprefix=/opt/perl-5.20.0-RC1t -Dusethreads'
    hint=recommended, useposix=true, d_sigaction=define
    useithreads=define, usemultiplicity=define
    use64bitint=define, use64bitall=define, uselongdouble=undef
    usemymalloc=n, bincompat5005=undef
  Compiler:
    cc='cc', ccflags ='-D_REENTRANT -D_GNU_SOURCE -fwrapv -fno-strict-aliasing -pipe -fstack-protector -I/usr/local/include -D_LARGEFILE_SOURCE -D_FILE_OFFSET_BITS=64',
    optimize='-O2',
    cppflags='-D_REENTRANT -D_GNU_SOURCE -fwrapv -fno-strict-aliasing -pipe -fstack-protector -I/usr/local/include'
    ccversion='', gccversion='4.7.2', gccosandvers=''
    intsize=4, longsize=8, ptrsize=8, doublesize=8, byteorder=12345678
    d_longlong=define, longlongsize=8, d_longdbl=define, longdblsize=16
    ivtype='long', ivsize=8, nvtype='double', nvsize=8, Off_t='off_t', lseeksize=8
    alignbytes=8, prototype=define
  Linker and Libraries:
    ld='cc', ldflags =' -fstack-protector -L/usr/local/lib'
    libpth=/usr/local/lib /usr/lib/gcc/x86_64-linux-gnu/4.7/include-fixed /usr/include/x86_64-linux-gnu /usr/lib /lib/x86_64-linux-gnu /lib/../lib /usr/lib/x86_64-linux-gnu /usr/lib/../lib /lib
    libs=-lnsl -ldb -ldl -lm -lcrypt -lutil -lpthread -lc
    perllibs=-lnsl -ldl -lm -lcrypt -lutil -lpthread -lc
    libc=libc-2.13.so, so=so, useshrplib=false, libperl=libperl.a
    gnulibc_version='2.13'
  Dynamic Linking:
    dlsrc=dl_dlopen.xs, dlext=so, d_dlsymun=undef, ccdlflags='-Wl,-E'
    cccdlflags='-fPIC', lddlflags='-shared -O2 -L/usr/local/lib -fstack-protector'


Characteristics of this binary (from libperl): 
  Compile-time options: HAS_TIMES MULTIPLICITY PERLIO_LAYERS
                        PERL_DONT_CREATE_GVSV
                        PERL_HASH_FUNC_ONE_AT_A_TIME_HARD
                        PERL_IMPLICIT_CONTEXT PERL_MALLOC_WRAP
                        PERL_NEW_COPY_ON_WRITE PERL_PRESERVE_IVUV
                        USE_64_BIT_ALL USE_64_BIT_INT USE_ITHREADS
                        USE_LARGE_FILES USE_LOCALE USE_LOCALE_COLLATE
                        USE_LOCALE_CTYPE USE_LOCALE_NUMERIC USE_PERLIO
                        USE_PERL_ATOF USE_REENTRANT_API
  Locally applied patches:
	RC1
  Built under linux
  Compiled at May 23 2014 09:12:16
  %ENV:
    PERL5LIB=""
    PERL5OPT=""
    PERL5_CPANPLUS_IS_RUNNING="19168"
    PERL5_CPAN_IS_RUNNING="19168"
    PERL5_CPAN_IS_RUNNING_IN_RECURSION="7534,19168"
    PERLDOC="-MPod::Perldoc::ToTextOverstrike"
    PERL_BATCH="yes"
    PERL_CPAN_REPORTER_CONFIG="/var/tmp/cpansmoker-1001/YIkHOoLIS2_config.ini"
    PERL_EXTUTILS_AUTOINSTALL="--defaultdeps"
    PERL_HTML_DISPLAY_CLASS="HTML::Display::Mozilla"
    PERL_PARALLEL_SMOKER="yes"
  @INC:
    /opt/perl-5.20.0-RC1t/lib/site_perl/5.20.0/x86_64-linux-thread-multi
    /opt/perl-5.20.0-RC1t/lib/site_perl/5.20.0
    /opt/perl-5.20.0-RC1t/lib/5.20.0/x86_64-linux-thread-multi
    /opt/perl-5.20.0-RC1t/lib/5.20.0
    .