WWW-Shorten-Yourls v1.001 Perl 5 v5.26.3 x86_64-linux

Status
Pass
From
Oleg Pronin (SYBER)
Dist
WWW-Shorten-Yourls v1.001
Platform
Perl 5 v5.26.3 x86_64-linux
Date
2019-08-07 18:40:36
ID
d89d5c64-b942-11e9-aeba-a7712958ff60
This distribution has been tested as part of the CPAN Testers
project, supporting the Perl programming language.  See
http://wiki.cpantesters.org/ for more information or email
questions to cpan-testers-discuss@perl.org


--
Dear Chase Whitener,

This is a computer-generated report for WWW-Shorten-Yourls-1.001
on perl 5.26.3, created by CPAN-Reporter-1.2018.

Thank you for uploading your work to CPAN.  Congratulations!
All tests were successful.

Sections of this report:

    * Tester comments
    * Program output
    * Prerequisites
    * Environment and other context

------------------------------
TESTER COMMENTS
------------------------------

Additional comments from tester:

this report is from an automated smoke testing program
and was not reviewed by a human for accuracy

------------------------------
PROGRAM OUTPUT
------------------------------

Output from '/usr/bin/make test':

PERL_DL_NONLAZY=1 "/home/syber/perl5/perlbrew/perls/5.26.3/bin/perl" "-MExtUtils::Command::MM" "-MTest::Harness" "-e" "undef *Test::Harness::Switches; test_harness(0, 'blib/lib', 'blib/arch')" t/*.t
# 
# Versions for all modules listed in MYMETA.json (including optional ones):
# 
# === Configure Requires ===
# 
#     Module              Want    Have
#     ------------------- ---- -------
#     ExtUtils::MakeMaker  any 7.37_03
# 
# === Build Requires ===
# 
#     Module              Want    Have
#     ------------------- ---- -------
#     ExtUtils::MakeMaker  any 7.37_03
# 
# === Test Requires ===
# 
#     Module              Want     Have
#     ------------------- ---- --------
#     ExtUtils::MakeMaker  any  7.37_03
#     File::HomeDir       1.00    1.004
#     File::Spec           any     3.75
#     Path::Tiny           any    0.108
#     Test::More          0.88 1.302164
#     Try::Tiny           0.24     0.30
#     URI                 1.58     1.76
# 
# === Test Recommends ===
# 
#     Module         Want     Have
#     ---------- -------- --------
#     CPAN::Meta 2.120900 2.150010
# 
# === Runtime Requires ===
# 
#     Module               Want     Have
#     -------------------- ---- --------
#     Carp                  any     1.50
#     Exporter              any     5.73
#     File::HomeDir        1.00    1.004
#     File::Spec            any     3.75
#     JSON::MaybeXS         any 1.004000
#     LWP::Protocol::https  any     6.07
#     Path::Tiny            any    0.108
#     Scalar::Util          any  1.50_11
#     URI                  1.58     1.76
#     WWW::Shorten         3.09    3.093
#     base                  any     2.26
#     constant              any     1.33
#     strict                any     1.11
#     warnings              any     1.37
# 
t/00-report-prereqs.t .. ok
t/01-use.t ............. ok
t/01-use2.t ............ ok
t/02-attrs.t ........... ok
t/02-attrs2.t .......... ok
All tests successful.
Files=5, Tests=58,  0 wallclock secs ( 0.02 usr  0.00 sys +  0.48 cusr  0.03 csys =  0.53 CPU)
Result: PASS

------------------------------
PREREQUISITES
------------------------------

Prerequisite modules loaded:

requires:

    Module               Need     Have    
    -------------------- -------- --------
    base                 0        2.26    
    Carp                 0        1.50    
    constant             0        1.33    
    Exporter             0        5.73    
    File::HomeDir        1.00     1.004   
    File::Spec           0        3.75    
    JSON::MaybeXS        0        1.004000
    LWP::Protocol::https 0        6.07    
    Path::Tiny           0        0.108   
    perl                 5.008001 5.026003
    Scalar::Util         0        1.50_11 
    strict               0        1.11    
    URI                  1.58     1.76    
    warnings             0        1.37    
    WWW::Shorten         3.09     3.093   

build_requires:

    Module               Need     Have    
    -------------------- -------- --------
    ExtUtils::MakeMaker  0        7.37_03 
    File::HomeDir        1.00     1.004   
    File::Spec           0        3.75    
    Path::Tiny           0        0.108   
    Test::More           0.88     1.302164
    Try::Tiny            0.24     0.30    
    URI                  1.58     1.76    

configure_requires:

    Module               Need     Have    
    -------------------- -------- --------
    ExtUtils::MakeMaker  0        7.37_03 

opt_build_requires:

    Module               Need     Have    
    -------------------- -------- --------
    CPAN::Meta           2.120900 2.150010


------------------------------
ENVIRONMENT AND OTHER CONTEXT
------------------------------

Environment variables:

    AUTOMATED_TESTING = 1
    LC_COLLATE = ru_RU.utf8
    LC_CTYPE = ru_RU.utf8
    PATH = /home/syber/perl5/perlbrew/bin:/home/syber/perl5/perlbrew/perls/5.26.3/bin:/usr/local/bin:/usr/bin:/bin:/usr/local/games:/usr/games
    PERL5LIB = 
    PERL5OPT = 
    PERL5_CPANPLUS_IS_RUNNING = 6265
    PERL5_CPAN_IS_RUNNING = 6265
    PERL5_CPAN_IS_RUNNING_IN_RECURSION = 23353,6265
    PERLBREW_HOME = /home/syber/.perlbrew
    PERLBREW_MANPATH = /home/syber/perl5/perlbrew/perls/5.26.3/man
    PERLBREW_PATH = /home/syber/perl5/perlbrew/bin:/home/syber/perl5/perlbrew/perls/5.26.3/bin
    PERLBREW_PERL = 5.26.3
    PERLBREW_ROOT = /home/syber/perl5/perlbrew
    PERLBREW_SHELLRC_VERSION = 0.86
    PERLBREW_VERSION = 0.86
    PERL_CR_SMOKER_CURRENT = WWW-Shorten-Yourls-1.001
    PERL_EXTUTILS_AUTOINSTALL = --defaultdeps
    PERL_MM_USE_DEFAULT = 1
    PERL_USE_UNSAFE_INC = 1
    SHELL = /bin/bash
    TERM = screen

Perl special variables (and OS-specific diagnostics, for MSWin32):

    $^X = /home/syber/perl5/perlbrew/perls/5.26.3/bin/perl
    $UID/$EUID = 1003 / 1003
    $GID = 1003 11 1003
    $EGID = 1003 11 1003

Perl module toolchain versions installed:

    Module              Have     
    ------------------- ---------
    CPAN                2.27     
    CPAN::Meta          2.150010 
    Cwd                 3.75     
    ExtUtils::CBuilder  0.280231 
    ExtUtils::Command   7.37_03  
    ExtUtils::Install   2.14     
    ExtUtils::MakeMaker 7.37_03  
    ExtUtils::Manifest  1.72     
    ExtUtils::ParseXS   3.36_03  
    File::Spec          3.75     
    JSON                4.02     
    JSON::PP            4.04     
    Module::Build       0.42_30  
    Module::Signature   0.83     
    Parse::CPAN::Meta   2.150010 
    Test::Harness       3.42     
    Test::More          1.302164 
    YAML                1.29     
    YAML::Syck          1.31     
    version             0.9924_02


--

Summary of my perl5 (revision 5 version 26 subversion 3) configuration:
   
  Platform:
    osname=linux
    osvers=4.9.0-8-amd64
    archname=x86_64-linux
    uname='linux dexter.crazypanda.ru 4.9.0-8-amd64 #1 smp debian 4.9.110-3+deb9u6 (2018-10-08) x86_64 gnulinux '
    config_args='-de -Dprefix=/home/syber/perl5/perlbrew/perls/5.26.3 -Aeval:scriptdir=/home/syber/perl5/perlbrew/perls/5.26.3/bin'
    hint=recommended
    useposix=true
    d_sigaction=define
    useithreads=undef
    usemultiplicity=undef
    use64bitint=define
    use64bitall=define
    uselongdouble=undef
    usemymalloc=n
    default_inc_excludes_dot=define
    bincompat5005=undef
  Compiler:
    cc='cc'
    ccflags ='-fwrapv -fno-strict-aliasing -pipe -fstack-protector-strong -I/usr/local/include -D_LARGEFILE_SOURCE -D_FILE_OFFSET_BITS=64 -D_FORTIFY_SOURCE=2'
    optimize='-O2'
    cppflags='-fwrapv -fno-strict-aliasing -pipe -fstack-protector-strong -I/usr/local/include'
    ccversion=''
    gccversion='6.3.0 20170516'
    gccosandvers=''
    intsize=4
    longsize=8
    ptrsize=8
    doublesize=8
    byteorder=12345678
    doublekind=3
    d_longlong=define
    longlongsize=8
    d_longdbl=define
    longdblsize=16
    longdblkind=3
    ivtype='long'
    ivsize=8
    nvtype='double'
    nvsize=8
    Off_t='off_t'
    lseeksize=8
    alignbytes=8
    prototype=define
  Linker and Libraries:
    ld='cc'
    ldflags =' -fstack-protector-strong -L/usr/local/lib'
    libpth=/usr/local/lib /usr/lib/gcc/x86_64-linux-gnu/6/include-fixed /usr/include/x86_64-linux-gnu /usr/lib /lib/x86_64-linux-gnu /lib/../lib /usr/lib/x86_64-linux-gnu /usr/lib/../lib /lib
    libs=-lpthread -lnsl -ldl -lm -lcrypt -lutil -lc
    perllibs=-lpthread -lnsl -ldl -lm -lcrypt -lutil -lc
    libc=libc-2.24.so
    so=so
    useshrplib=false
    libperl=libperl.a
    gnulibc_version='2.24'
  Dynamic Linking:
    dlsrc=dl_dlopen.xs
    dlext=so
    d_dlsymun=undef
    ccdlflags='-Wl,-E'
    cccdlflags='-fPIC'
    lddlflags='-shared -O2 -L/usr/local/lib -fstack-protector-strong'


Characteristics of this binary (from libperl): 
  Compile-time options:
    HAS_TIMES
    PERLIO_LAYERS
    PERL_COPY_ON_WRITE
    PERL_DONT_CREATE_GVSV
    PERL_MALLOC_WRAP
    PERL_OP_PARENT
    PERL_PRESERVE_IVUV
    USE_64_BIT_ALL
    USE_64_BIT_INT
    USE_LARGE_FILES
    USE_LOCALE
    USE_LOCALE_COLLATE
    USE_LOCALE_CTYPE
    USE_LOCALE_NUMERIC
    USE_LOCALE_TIME
    USE_PERLIO
    USE_PERL_ATOF
  Locally applied patches:
    Devel::PatchPerl 1.64
  Built under linux
  Compiled at Aug  5 2019 13:39:23
  %ENV:
    PERL5LIB=""
    PERL5OPT=""
    PERL5_CPANPLUS_IS_RUNNING="6265"
    PERL5_CPAN_IS_RUNNING="6265"
    PERL5_CPAN_IS_RUNNING_IN_RECURSION="23353,6265"
    PERLBREW_HOME="/home/syber/.perlbrew"
    PERLBREW_MANPATH="/home/syber/perl5/perlbrew/perls/5.26.3/man"
    PERLBREW_PATH="/home/syber/perl5/perlbrew/bin:/home/syber/perl5/perlbrew/perls/5.26.3/bin"
    PERLBREW_PERL="5.26.3"
    PERLBREW_ROOT="/home/syber/perl5/perlbrew"
    PERLBREW_SHELLRC_VERSION="0.86"
    PERLBREW_VERSION="0.86"
    PERL_CR_SMOKER_CURRENT="WWW-Shorten-Yourls-1.001"
    PERL_EXTUTILS_AUTOINSTALL="--defaultdeps"
    PERL_MM_USE_DEFAULT="1"
    PERL_USE_UNSAFE_INC="1"
  @INC:
    /home/syber/perl5/perlbrew/perls/5.26.3/lib/site_perl/5.26.3/x86_64-linux
    /home/syber/perl5/perlbrew/perls/5.26.3/lib/site_perl/5.26.3
    /home/syber/perl5/perlbrew/perls/5.26.3/lib/5.26.3/x86_64-linux
    /home/syber/perl5/perlbrew/perls/5.26.3/lib/5.26.3
    .