Report for Dist-Zilla-Plugin-Git-NextVersion-Sanitized-0.002002

Back
From: metabase:user:d49cdc72-1559-11e3-9efd-e82414baadac
Subject: PASS Dist-Zilla-Plugin-Git-NextVersion-Sanitized-0.002002 v5.21.11 GNU/Linux
Date: 2015-04-21T18:18:44Z

This distribution has been tested as part of the CPAN Testers
project, supporting the Perl programming language.  See
http://wiki.cpantesters.org/ for more information or email
questions to cpan-testers-discuss@perl.org


--
Dear Kent Fredric,

This is a computer-generated report for Dist-Zilla-Plugin-Git-NextVersion-Sanitized-0.002002
on perl 5.21.11, created by CPAN-Reporter-1.2014.

Thank you for uploading your work to CPAN.  Congratulations!
All tests were successful.

Sections of this report:

    * Tester comments
    * Program output
    * Prerequisites
    * Environment and other context

------------------------------
TESTER COMMENTS
------------------------------

Additional comments from tester:

none provided

------------------------------
PROGRAM OUTPUT
------------------------------

Output from '/usr/bin/make test':

PERL_DL_NONLAZY=1 "/home/vagrant/perl5/perlbrew/perls/perl-5.21.11/bin/perl5.21.11" "-MExtUtils::Command::MM" "-MTest::Harness" "-e" "undef *Test::Harness::Switches; test_harness(0, 'blib/lib', 'blib/arch')" t/*.t t/00-compile/*.t
# 
# Versions for all modules listed in MYMETA.json (including optional ones):
# 
# === Configure Requires ===
# 
#     Module              Want Have
#     ------------------- ---- ----
#     ExtUtils::MakeMaker  any 7.04
# 
# === Configure Recommends ===
# 
#     Module              Want Have
#     ------------------- ---- ----
#     ExtUtils::MakeMaker 6.98 7.04
# 
# === Build Requires ===
# 
#     Module              Want Have
#     ------------------- ---- ----
#     ExtUtils::MakeMaker  any 7.04
# 
# === Test Requires ===
# 
#     Module                              Want     Have
#     ------------------------------- -------- --------
#     Dist::Zilla::Util::Test::KENTNL 1.003001 1.005012
#     ExtUtils::MakeMaker                  any     7.04
#     File::Spec                           any     3.56
#     Git::Wrapper::Plus::Support          any 0.004010
#     Git::Wrapper::Plus::Tester           any 0.004010
#     Test::DZil                           any    5.035
#     Test::Fatal                          any    0.014
#     Test::More                          0.89 1.001014
# 
# === Test Recommends ===
# 
#     Module                  Want     Have
#     ------------------- -------- --------
#     CPAN::Meta          2.120900 2.150001
#     ExtUtils::MakeMaker     6.98     7.04
#     Test::More          1.001003 1.001014
# 
# === Runtime Requires ===
# 
#     Module                                Want     Have
#     ------------------------------------- ---- --------
#     Dist::Zilla::Plugin::Git::NextVersion  any    2.033
#     Dist::Zilla::Role::Version::Sanitize   any 0.002001
#     Moose                                  any   2.1404
#     strict                                 any     1.09
#     utf8                                   any     1.16
#     warnings                               any     1.32
# 
t/00-report-prereqs.t .............................................. ok
t/00-compile/lib_Dist_Zilla_Plugin_Git_NextVersion_Sanitized_pm.t .. ok
t/normalise_env.t .................................................. ok
t/basic.t .......................................................... ok
t/normalise_env_dotted.t ........................................... ok
t/normalise_env_vdotted.t .......................................... ok
All tests successful.
Files=6, Tests=14,  5 wallclock secs ( 0.02 usr  0.00 sys +  4.77 cusr  0.62 csys =  5.41 CPU)
Result: PASS

------------------------------
PREREQUISITES
------------------------------

Prerequisite modules loaded:

requires:

    Module                                Need     Have    
    ------------------------------------- -------- --------
    Dist::Zilla::Plugin::Git::NextVersion 0        2.033   
    Dist::Zilla::Role::Version::Sanitize  0        0.002001
    Moose                                 0        2.1404  
    strict                                0        1.09    
    utf8                                  0        1.16    
    warnings                              0        1.32    

build_requires:

    Module                                Need     Have    
    ------------------------------------- -------- --------
    Dist::Zilla::Util::Test::KENTNL       1.003001 1.005012
    ExtUtils::MakeMaker                   0        7.04    
    File::Spec                            0        3.56    
    Git::Wrapper::Plus::Support           0        0.004010
    Git::Wrapper::Plus::Tester            0        0.004010
    Test::DZil                            0        5.035   
    Test::Fatal                           0        0.014   
    Test::More                            0.89     1.001014

configure_requires:

    Module                                Need     Have    
    ------------------------------------- -------- --------
    ExtUtils::MakeMaker                   0        7.04    


------------------------------
ENVIRONMENT AND OTHER CONTEXT
------------------------------

Environment variables:

    HARNESS_OPTIONS = j10
    LC_CTYPE = en_NZ.UTF8
    NONINTERACTIVE_TESTING = 1
    PATH = /home/vagrant/perl5/perlbrew/bin:/home/vagrant/perl5/perlbrew/perls/perl-5.21.11/bin:/usr/local/bin:/usr/bin:/bin:/opt/bin:/usr/x86_64-pc-linux-gnu/gcc-bin/4.8.4
    PERL5LIB = 
    PERL5OPT = 
    PERL5_CPANPLUS_IS_RUNNING = 21484
    PERL5_CPAN_IS_RUNNING = 21484
    PERLBREW_BASHRC_VERSION = 0.73
    PERLBREW_HOME = /home/vagrant/.perlbrew
    PERLBREW_MANPATH = /home/vagrant/perl5/perlbrew/perls/perl-5.21.11/man
    PERLBREW_PATH = /home/vagrant/perl5/perlbrew/bin:/home/vagrant/perl5/perlbrew/perls/perl-5.21.11/bin
    PERLBREW_PERL = perl-5.21.11
    PERLBREW_ROOT = /home/vagrant/perl5/perlbrew
    PERLBREW_VERSION = 0.73
    PERL_MM_USE_DEFAULT = 1
    SHELL = /bin/bash
    TERM = screen

Perl special variables (and OS-specific diagnostics, for MSWin32):

    $^X = /home/vagrant/perl5/perlbrew/perls/perl-5.21.11/bin/perl5.21.11
    $UID/$EUID = 1000 / 1000
    $GID = 1000 1000
    $EGID = 1000 1000

Perl module toolchain versions installed:

    Module              Have    
    ------------------- --------
    CPAN                2.11    
    CPAN::Meta          2.150001
    Cwd                 3.56    
    ExtUtils::CBuilder  0.280221
    ExtUtils::Command   1.20    
    ExtUtils::Install   2.04    
    ExtUtils::MakeMaker 7.04    
    ExtUtils::Manifest  1.70    
    ExtUtils::ParseXS   3.28    
    File::Spec          3.56    
    JSON                2.90    
    JSON::PP            2.27300 
    Module::Build       0.4211  
    Module::Signature   0.78    
    Parse::CPAN::Meta   1.4414  
    Test::Harness       3.35    
    Test::More          1.001014
    YAML                1.15    
    YAML::Syck          1.29    
    version             0.9909  


--

Summary of my perl5 (revision 5 version 21 subversion 11) configuration:
   
  Platform:
    osname=linux, osvers=3.18.11-gentoo, archname=x86_64-linux
    uname='linux localhost 3.18.11-gentoo #1 smp sat apr 18 20:24:48 utc 2015 x86_64 intel(r) core(tm) i5-2410m cpu @ 2.30ghz genuineintel gnulinux '
    config_args='-de -Dprefix=/home/vagrant/perl5/perlbrew/perls/perl-5.21.11 -Doptimize= -O3 -march=native -mtune=native -Dman1dir=none -Dman3dir=none -Dusedevel -Accflags=-DPERL_HASH_FUNC_SDBM -Aeval:scriptdir=/home/vagrant/perl5/perlbrew/perls/perl-5.21.11/bin'
    hint=recommended, useposix=true, d_sigaction=define
    useithreads=undef, usemultiplicity=undef
    use64bitint=define, use64bitall=define, uselongdouble=undef
    usemymalloc=n, bincompat5005=undef
  Compiler:
    cc='cc', ccflags ='-DPERL_HASH_FUNC_SDBM -fwrapv -fno-strict-aliasing -pipe -fstack-protector -D_LARGEFILE_SOURCE -D_FILE_OFFSET_BITS=64',
    optimize=' -O3 -march=native -mtune=native',
    cppflags='-DPERL_HASH_FUNC_SDBM -fwrapv -fno-strict-aliasing -pipe -fstack-protector'
    ccversion='', gccversion='4.8.4', gccosandvers=''
    intsize=4, longsize=8, ptrsize=8, doublesize=8, byteorder=12345678, doublekind=3
    d_longlong=define, longlongsize=8, d_longdbl=define, longdblsize=16, longdblkind=3
    ivtype='long', ivsize=8, nvtype='double', nvsize=8, Off_t='off_t', lseeksize=8
    alignbytes=8, prototype=define
  Linker and Libraries:
    ld='cc', ldflags =' -fstack-protector -L/usr/local/lib'
    libpth=/usr/lib/gcc/x86_64-pc-linux-gnu/4.8.4/include-fixed /usr/lib /usr/local/lib /lib/../lib64 /usr/lib/../lib64 /lib /lib64 /usr/lib64 /usr/local/lib64
    libs=-lpthread -lnsl -lgdbm -ldb -ldl -lm -lcrypt -lutil -lc -lgdbm_compat
    perllibs=-lpthread -lnsl -ldl -lm -lcrypt -lutil -lc
    libc=libc-2.20.so, so=so, useshrplib=false, libperl=libperl.a
    gnulibc_version='2.20'
  Dynamic Linking:
    dlsrc=dl_dlopen.xs, dlext=so, d_dlsymun=undef, ccdlflags='-Wl,-E'
    cccdlflags='-fPIC', lddlflags='-shared  -O3 -march=native -mtune=native -L/usr/local/lib -fstack-protector'


Characteristics of this binary (from libperl): 
  Compile-time options: HAS_TIMES PERLIO_LAYERS PERL_DONT_CREATE_GVSV
                        PERL_HASH_FUNC_SDBM PERL_MALLOC_WRAP
                        PERL_NEW_COPY_ON_WRITE PERL_PRESERVE_IVUV
                        PERL_USE_DEVEL USE_64_BIT_ALL USE_64_BIT_INT
                        USE_LARGE_FILES USE_LOCALE USE_LOCALE_COLLATE
                        USE_LOCALE_CTYPE USE_LOCALE_NUMERIC USE_LOCALE_TIME
                        USE_PERLIO USE_PERL_ATOF
  Built under linux
  Compiled at Apr 21 2015 08:27:16
  %ENV:
    PERL5LIB=""
    PERL5OPT=""
    PERL5_CPANPLUS_IS_RUNNING="21484"
    PERL5_CPAN_IS_RUNNING="21484"
    PERLBREW_BASHRC_VERSION="0.73"
    PERLBREW_HOME="/home/vagrant/.perlbrew"
    PERLBREW_MANPATH="/home/vagrant/perl5/perlbrew/perls/perl-5.21.11/man"
    PERLBREW_PATH="/home/vagrant/perl5/perlbrew/bin:/home/vagrant/perl5/perlbrew/perls/perl-5.21.11/bin"
    PERLBREW_PERL="perl-5.21.11"
    PERLBREW_ROOT="/home/vagrant/perl5/perlbrew"
    PERLBREW_VERSION="0.73"
    PERL_MM_USE_DEFAULT="1"
  @INC:
    /home/vagrant/perl5/perlbrew/perls/perl-5.21.11/lib/site_perl/5.21.11/x86_64-linux
    /home/vagrant/perl5/perlbrew/perls/perl-5.21.11/lib/site_perl/5.21.11
    /home/vagrant/perl5/perlbrew/perls/perl-5.21.11/lib/5.21.11/x86_64-linux
    /home/vagrant/perl5/perlbrew/perls/perl-5.21.11/lib/5.21.11
    .